Workbook

Sheet Oferta
A5: MODELO 2 DE OFERTA ECONÓMICA
A7: IFEMA RECINTO FERIAL 45 KV. CUPS ES0022000007837359VG1P. Tarifa 6.2
A8: Fecha inicio | B8: 43831 | C8: Fecha fin | D8: 44561 | E8: Consumo total contrato kWh | G8: =SUM(B14:G14) -> 49395460
A9: Término de potencia (kW)
A10: Periodo | B10: P1 | C10: P2 | D10: P3 | E10: P4 | F10: P5 | G10: P6
A11: kW | B11: 7500 | C11: 8834 | D11: 10323 | E11: 10323 | F11: 10323 | G11: 10323
A12: Consumo periodo contrato (kWh)
A13: Periodo | B13: P1 | C13: P2 | D13: P3 | E13: P4 | F13: P5 | G13: P6
A14: kWh | B14: 4569620 | C14: 5452160 | D14: 4085460 | E14: 6166490 | F14: 7463000 | G14: 21658730
A15: Coeficientes ofertados
A16: Periodo | B16: P1 | C16: P2 | D16: P3 | E16: P4 | F16: P5 | G16: P6
A17: Coeficiente As (€/kWh)
A18: Coeficiente Ms
A19: Coeficiente Af (€/kWh)
A20: Coeficiente Mf
A21: IMPORTE TOTAL OFERTADO PARA EL SUMINISTRO CUPS ES0022000007837359VG1P (€) | D21: =IF(Calculos!I32>0,Calculos!K32,"-") -> -
A22: Mi es un coeficiente adimensional y Ai se expresa en €/kWh con seis (6) cifras decimales.
A23: Importe total ofertado excluye alquiler equipo de medida e IVA, se expresa en € con dos (2) cifras decimales.
A25: IFEMA RECINTO FERIAL 15 KV . CUPS ES0022000008610883ES1P. Tarifa 6.1A
A26: Fecha inicio | B26: 43831 | C26: Fecha fin | D26: 44561 | E26: Consumo total contrato kWh | G26: =SUM(B32:G32) -> 6629348
A27: Término de potencia (kW)
A28: Periodo | B28: P1 | C28: P2 | D28: P3 | E28: P4 | F28: P5 | G28: P6
A29: kW | B29: 1137 | C29: 1137 | D29: 1137 | E29: 1137 | F29: 1137 | G29: 2052
A30: Consumo periodo contrato (kWh)
A31: Periodo | B31: P1 | C31: P2 | D31: P3 | E31: P4 | F31: P5 | G31: P6
A32: kWh | B32: 591421 | C32: 718115 | D32: 508760 | E32: 736318 | F32: 865581 | G32: 3209153
A33: Coeficientes ofertados
A34: Periodo | B34: P1 | C34: P2 | D34: P3 | E34: P4 | F34: P5 | G34: P6
A35: Coeficiente As (€/kWh)
A36: Coeficiente Ms
A37: Coeficiente Af (€/kWh)
A38: Coeficiente Mf
A39: IMPORTE TOTAL OFERTADO PARA EL SUMINISTRO CUPS ES0022000007837359VG1P (€) | D39: =IF(Calculos!I62>0,Calculos!K62,"-") -> -
A40: Mi es un coeficiente adimensional y Ai se expresa en €/kWh con seis (6) cifras decimales.
A41: Importe total ofertado excluye alquiler equipo de medida e IVA, se expresa en € con dos (2) cifras decimales.
A43: IFEMA PALACIO MUNICIPAL de 15 KV. CUPS ES0022000007419441QL1P. Tarifa 6.1A
A44: Fecha inicio | B44: 43678 | C44: Fecha fin | D44: 44561 | E44: Consumo total contrato kWh | G44: =SUM(B50:G50) -> 11817113
A45: Término de potencia (kW)
A46: Periodo | B46: P1 | C46: P2 | D46: P3 | E46: P4 | F46: P5 | G46: P6
A47: kW | B47: 1246 | C47: 1246 | D47: 1246 | E47: 1246 | F47: 1246 | G47: 1754
A48: Consumo periodo contrato (kWh)
A49: Periodo | B49: P1 | C49: P2 | D49: P3 | E49: P4 | F49: P5 | G49: P6
A50: kWh | B50: 899173 | C50: 1177267 | D50: 807089 | E50: 1313844 | F50: 1721466 | G50: 5898274
A51: Coeficientes ofertados
A52: Periodo | B52: P1 | C52: P2 | D52: P3 | E52: P4 | F52: P5 | G52: P6
A53: Coeficiente As (€/kWh)
A54: Coeficiente Ms
A55: Coeficiente Af (€/kWh)
A56: Coeficiente Mf
A57: IMPORTE TOTAL OFERTADO PARA EL SUMINISTRO CUPS ES0022000007837359VG1P (€) | D57: =IF(Calculos!I97>0,Calculos!K97,"-") -> -
A58: Mi es un coeficiente adimensional y Ai se expresa en €/kWh con seis (6) cifras decimales.
A59: Importe total ofertado excluye alquiler equipo de medida e IVA, se expresa en € con dos (2) cifras decimales.
A61: IMPORTE TOTAL OFERTADO TRES SUMINISTROS (€) (máximo 7.172.132,57) | D61: =D57+D39+D21 -> #VALUE!
D63: Firma del representante legal

Sheet Parametros
B3: Precio de la tarifa de acceso de potencia: | E3: Orden TEC/1366/2018, por la que se establecen los peajes de acceso de energía eléctrica para 2019.
C4: P1 | D4: P2 | E4: P3 | F4: P4 | G4: P5 | H4: P6 | I4: IEE | J4: unidad
B5: 6.2 | C5: 22.158348 | D5: 11.088763 | E5: 8.115134 | F5: 8.115134 | G5: 8.115134 | H5: 3.702649 | I5: no incluido | J5: €/kW-año
B6: 6.1A | C6: 39.139427 | D6: 19.586654 | E6: 14.334178 | F6: 14.334178 | G6: 14.334178 | H6: 6.540177 | I6: no incluido | J6: €/kW-año
B8: Estimación OMIE (€/MWh) | I8: % OMIE
B9: 6.X | C9: P1 | D9: P2 | E9: P3 | F9: P4 | G9: P5 | H9: P6
B10: 43678 | H10: 52.152 | I10: 0.4
B11: 43709 | E11: 57.811704 | F11: 57.646034 | H11: 52.751665 | I11: 0.4
B12: 43739 | G12: 65.085607 | H12: 54.578615 | I12: 0.4
B13: 43770 | E13: 65.795087 | F13: 63.16199 | H13: 55.03422 | I13: 0.4
B14: 43800 | C14: 65.077129 | D14: 63.445178 | H14: 56.498236 | I14: 0.4
B15: 43831 | C15: 68.609524 | D15: 65.521966 | H15: 50.128836 | I15: 0.4
B16: 43862 | C16: 61.846909 | D16: 58.863193 | H16: 51.436831 | I16: 0.4
B17: 43891 | E17: 61.750614 | F17: 63.100646 | H17: 45.976678 | I17: 0.4
B18: 43922 | G18: 53.235967 | H18: 43.257266 | I18: 0.4
B19: 43952 | G19: 51.947622 | H19: 45.911806 | I19: 0.4
B20: 43983 | C20: 53.603392 | D20: 52.967148 | E20: 53.619417 | F20: 51.781702 | H20: 48.875545 | I20: 0.4
B21: 44013 | C21: 56.781902 | D21: 55.979371 | H21: 51.959252 | I21: 0.4
B22: 44044 | H22: 54.028 | I22: 0.4
B23: 44075 | E23: 57.870619 | F23: 57.70478 | H23: 52.805423 | I23: 0.4
B24: 44105 | G24: 62.155575 | H24: 52.121589 | I24: 0.4
B25: 44136 | E25: 62.819807 | F25: 60.305779 | H25: 52.545551 | I25: 0.4
B26: 44166 | C26: 62.14922 | D26: 60.590692 | H26: 53.956303 | I26: 0.4
B27: 44197 | C27: 65.154154 | D27: 62.222094 | H27: 47.604206 | I27: 0.4
B28: 44228 | C28: 58.594448 | D28: 55.767642 | H28: 48.731824 | I28: 0.4
B29: 44256 | E29: 58.403315 | F29: 59.680166 | H29: 43.484432 | I29: 0.4
B30: 44287 | G30: 50.257068 | H30: 40.83674 | I30: 0.4
B31: 44317 | G31: 49.092023 | H31: 43.388 | I31: 0.4
B32: 44348 | C32: 50.770794 | D32: 50.168172 | E32: 50.785973 | F32: 49.04537 | H32: 46.292784 | I32: 0.4
B33: 44378 | C33: 53.965341 | D33: 53.202619 | H33: 49.38191 | I33: 0.4
B34: 44409 | H34: 51.347 | I34: 0.4
B35: 44440 | E35: 55.050089 | F35: 54.892333 | H35: 50.231764 | I35: 0.4
B36: 44470 | G36: 59.225544 | H36: 49.664562 | I36: 0.4
B37: 44501 | E37: 59.844527 | F37: 57.449569 | H37: 50.056881 | I37: 0.4
B38: 44531 | C38: 59.22131 | D38: 57.736206 | H38: 51.41437 | I38: 0.4
B40: Mes | C40: Producto OMIP | D40: Estimación OMIP (€/MWh) | E40: % OMIP
B41: 43678 | C41: Aug-19 | D41: 52.35 | E41: 0.6
B42: 43709 | C42: Sep-19 | D42: 54.95 | E42: 0.6
B43: 43739 | C43: Q4-19 | D43: 61.1 | E43: 0.6
B44: 43770 | D44: 61.1 | E44: 0.6
B45: 43800 | D45: 61.1 | E45: 0.6
B46: 43831 | C46: Q1-20 | D46: 59.52 | E46: 0.6
B47: 43862 | D47: 59.52 | E47: 0.6
B48: 43891 | D48: 59.52 | E48: 0.6
B49: 43922 | C49: Q2-20 | D49: 50.77 | E49: 0.6
B50: 43952 | D50: 50.77 | E50: 0.6
B51: 43983 | D51: 50.77 | E51: 0.6
B52: 44013 | C52: Q3-20 | D52: 55.03 | E52: 0.6
B53: 44044 | D53: 55.03 | E53: 0.6
B54: 44075 | D54: 55.03 | E54: 0.6
B55: 44105 | C55: Q4-20 | D55: 57.27 | E55: 0.6
B56: 44136 | D56: 57.27 | E56: 0.6
B57: 44166 | D57: 57.27 | E57: 0.6
B58: 44197 | C58: Q1-21 | D58: 55.35 | E58: 0.6
B59: 44228 | D59: 55.35 | E59: 0.6
B60: 44256 | D60: 55.35 | E60: 0.6
B61: 44287 | C61: Q2-21 | D61: 46.94 | E61: 0.6
B62: 44317 | D62: 46.94 | E62: 0.6
B63: 44348 | D63: 46.94 | E63: 0.6
B64: 44378 | C64: Q3-21 | D64: 51.2 | E64: 0.6
B65: 44409 | D65: 51.2 | E65: 0.6
B66: 44440 | D66: 51.2 | E66: 0.6
B67: 44470 | C67: Q4-21 | D67: 53.44 | E67: 0.6
B68: 44501 | D68: 53.44 | E68: 0.6
B69: 44531 | D69: 53.44 | E69: 0.6
B71: LOTE 1. ES0022000007837359VG1P. Consumos de energía Activa (kWh)
C73: P1 | D73: P2 | E73: P3 | F73: P4 | G73: P5 | H73: P6 | I73: Total
B74: 43831 | C74: 599240 | D74: 875790 | E74: 0 | F74: 0 | G74: 0 | H74: 1044590 | I74: =SUM(C74:H74) -> 2519620
B75: 43862 | C75: 606920 | D75: 888620 | E75: 0 | F75: 0 | G75: 0 | H75: 1051900 | I75: =SUM(C75:H75) -> 2547440
B76: 43891 | C76: 0 | D76: 0 | E76: 414070 | F76: 720550 | G76: 0 | H76: 770440 | I76: =SUM(C76:H76) -> 1905060
B77: 43922 | C77: 0 | D77: 0 | E77: 0 | F77: 0 | G77: 974330 | H77: 772920 | I77: =SUM(C77:H77) -> 1747250
B78: 43952 | C78: 0 | D78: 0 | E78: 0 | F78: 0 | G78: 1247080 | H78: 733050 | I78: =SUM(C78:H78) -> 1980130
B79: 43983 | C79: 251360 | D79: 181340 | E79: 316390 | F79: 390320 | G79: 0 | H79: 795320 | I79: =SUM(C79:H79) -> 1934730
B80: 44013 | C80: 477250 | D80: 320800 | E80: 0 | F80: 0 | G80: 0 | H80: 526310 | I80: =SUM(C80:H80) -> 1324360
B81: 44044 | C81: 0 | D81: 0 | E81: 0 | F81: 0 | G81: 0 | H81: 1132440 | I81: =SUM(C81:H81) -> 1132440
B82: 44075 | C82: 0 | D82: 0 | E82: 673980 | F82: 888750 | G82: 0 | H82: 1124540 | I82: =SUM(C82:H82) -> 2687270
B83: 44105 | C83: 0 | D83: 0 | E83: 0 | F83: 0 | G83: 1689910 | H83: 942530 | I83: =SUM(C83:H83) -> 2632440
B84: 44136 | C84: 0 | D84: 0 | E84: 594410 | F84: 1048350 | G84: 0 | H84: 1127050 | I84: =SUM(C84:H84) -> 2769810
B85: 44166 | C85: 371590 | D85: 534710 | E85: 0 | F85: 0 | G85: 0 | H85: 962570 | I85: =SUM(C85:H85) -> 1868870
... B97: 44531 | C97: 342690 | D97: 491210 | E97: 0 | F97: 0 | G97: 0 | H97: 852300 | I97: =SUM(C97:H97) -> 1686200
H98: Total | I98: =SUM(I74:I97) -> 49395460
B99: LOTE 2. ES0022000008610883ES1P. Consumos de energía Activa (kWh)
C101: P1 | D101: P2 | E101: P3 | F101: P4 | G101: P5 | H101: P6 | I101: Total
B102: 43831 | C102: 80792 | D102: 115136 | E102: 0 | F102: 0 | G102: 0 | H102: 103868 | I102: =SUM(C102:H102) -> 299796
B103: 43862 | C103: 62612 | D103: 90250 | E103: 0 | F103: 0 | G103: 0 | H103: 150124 | I103: =SUM(C103:H103) -> 302986
B104: 43891 | C104: 0 | D104: 0 | E104: 41028 | F104: 71826 | G104: 0 | H104: 99060 | I104: =SUM(C104:H104) -> 211914
B105: 43922 | C105: 0 | D105: 0 | E105: 0 | F105: 0 | G105: 125781 | H105: 112118 | I105: =SUM(C105:H105) -> 237899
B106: 43952 | C106: 0 | D106: 0 | E106: 0 | F106: 0 | G106: 111673 | H106: 79341 | I106: =SUM(C106:H106) -> 191014
B107: 43983 | C107: 25374 | D107: 21254 | E107: 25727 | F107: 23740 | G107: 0 | H107: 80206 | I107: =SUM(C107:H107) -> 176301
B108: 44013 | C108: 91498 | D108: 62282 | E108: 0 | F108: 0 | G108: 0 | H108: 94320 | I108: =SUM(C108:H108) -> 248100
B109: 44044 | C109: 0 | D109: 0 | E109: 0 | F109: 0 | G109: 0 | H109: 157508 | I109: =SUM(C109:H109) -> 157508
B110: 44075 | C110: 0 | D110: 0 | E110: 86836 | F110: 109482 | G110: 0 | H110: 228847 | I110: =SUM(C110:H110) -> 425165
B111: 44105 | C111: 0 | D111: 0 | E111: 0 | F111: 0 | G111: 283271 | H111: 219144 | I111: =SUM(C111:H111) -> 502415
B112: 44136 | C112: 0 | D112: 0 | E112: 86708 | F112: 140639 | G112: 0 | H112: 184746 | I112: =SUM(C112:H112) -> 412093
B113: 44166 | C113: 46941 | D113: 67925 | E113: 0 | F113: 0 | G113: 0 | H113: 134324 | I113: =SUM(C113:H113) -> 249190
... B125: 44531 | C125: 54040 | D125: 71955 | E125: 0 | F125: 0 | G125: 0 | H125: 175245 | I125: =SUM(C125:H125) -> 301240
H126: Total | I126: =SUM(I102:I125) -> 6629348
B127: LOTE 3. ES0022000007419441QL1P. Consumos de energía Activa (kWh)
C129: P1 | D129: P2 | E129: P3 | F129: P4 | G129: P5 | H129: P6 | I129: Total
B130: 43678 | C130: 0 | D130: 0 | E130: 0 | F130: 0 | G130: 0 | H130: 332116 | I130: =SUM(C130:H130) -> 332116
...

Sheet Calculos
B5: CUPS ES0022000007837359VG1P. Tarifa 6.2
C6: Término de Energía (€) | J6: T. Potencia | K6: Total
C7: P1 | D7: P2 | E7: P3 | F7: P4 | G7: P5 | H7: P6 | I7: Total T. Ene. | J7: (€) | K7: (€)
B8: 43831 | C8: =(Oferta!$B$17+Oferta!$B$18*Parametros!C15/1000)*Parametros!C74*Parametros!I15+(Oferta!$B$19+Oferta!$B$20*Parametros!D46/1000)*Parametros!C74*Parametros!E46 -> 0 | D8: =(Oferta!$C$17+Oferta!$C$18*Parametros!D15/1000)*Parametros!D74*Parametros!I15+(Oferta!$C$19+Oferta!$C$20*Parametros!D46/1000)*Parametros!D74*Parametros!E46 -> 0 | E8: =(Oferta!$D$17+Oferta!$D$18*Parametros!E15/1000)*Parametros!E74*Parametros!I15+(Oferta!$D$19+Oferta!$D$20*Parametros!D46/1000)*Parametros!E74*Parametros!E46 -> 0 | F8: =(Oferta!$E$17+Oferta!$E$18*Parametros!F15/1000)*Parametros!F74*Parametros!I15+(Oferta!$E$19+Oferta!$E$20*Parametros!D46/1000)*Parametros!F74*Parametros!E46 -> 0 | G8: =(Oferta!$F$17+Oferta!$F$18*Parametros!G15/1000)*Parametros!G74*Parametros!I15+(Oferta!$F$19+Oferta!$F$20*Parametros!D46/1000)*Parametros!G74*Parametros!E46 -> 0 | H8: =(Oferta!$G$17+Oferta!$G$18*Parametros!H15/1000)*Parametros!H74*Parametros!I15+(Oferta!$G$19+Oferta!$G$20*Parametros!D46/1000)*Parametros!H74*Parametros!E46 -> 0 | I8: =SUM(C8:H8) -> 0 | J8: =SUMPRODUCT(Oferta!$B$11:$G$11,Parametros!$C$5:$H$5)*1.051127/12 -> 48499.505 | K8: =J8+I8 -> 48499.505
B9: 43862 | C9: =(Oferta!$B$17+Oferta!$B$18*Parametros!C16/1000)*Parametros!C75*Parametros!I16+(Oferta!$B$19+Oferta!$B$20*Parametros!D47/1000)*Parametros!C75*Parametros!E47 -> 0 | D9: =(Oferta!$C$17+Oferta!$C$18*Parametros!D16/1000)*Parametros!D75*Parametros!I16+(Oferta!$C$19+Oferta!$C$20*Parametros!D47/1000)*Parametros!D75*Parametros!E47 -> 0 | E9: =(Oferta!$D$17+Oferta!$D$18*Parametros!E16/1000)*Parametros!E75*Parametros!I16+(Oferta!$D$19+Oferta!$D$20*Parametros!D47/1000)*Parametros!E75*Parametros!E47 -> 0 | F9: =(Oferta!$E$17+Oferta!$E$18*Parametros!F16/1000)*Parametros!F75*Parametros!I16+(Oferta!$E$19+Oferta!$E$20*Parametros!D47/1000)*Parametros!F75*Parametros!E47 -> 0 | G9: =(Oferta!$F$17+Oferta!$F$18*Parametros!G16/1000)*Parametros!G75*Parametros!I16+(Oferta!$F$19+Oferta!$F$20*Parametros!D47/1000)*Parametros!G75*Parametros!E47 -> 0 | H9: =(Oferta!$G$17+Oferta!$G$18*Parametros!H16/1000)*Parametros!H75*Parametros!I16+(Oferta!$G$19+Oferta!$G$20*Parametros!D47/1000)*Parametros!H75*Parametros!E47 -> 0 | I9: =SUM(C9:H9) -> 0 | J9: =SUMPRODUCT(Oferta!$B$11:$G$11,Parametros!$C$5:$H$5)*1.051127/12 -> 48499.505 | K9: =J9+I9 -> 48499.505
B10: 43891 | C10: =(Oferta!$B$17+Oferta!$B$18*Parametros!C17/1000)*Parametros!C76*Parametros!I17+(Oferta!$B$19+Oferta!$B$20*Parametros!D48/1000)*Parametros!C76*Parametros!E48 -> 0 | D10: =(Oferta!$C$17+Oferta!$C$18*Parametros!D17/1000)*Parametros!D76*Parametros!I17+(Oferta!$C$19+Oferta!$C$20*Parametros!D48/1000)*Parametros!D76*Parametros!E48 -> 0 | E10: =(Oferta!$D$17+Oferta!$D$18*Parametros!E17/1000)*Parametros!E76*Parametros!I17+(Oferta!$D$19+Oferta!$D$20*Parametros!D48/1000)*Parametros!E76*Parametros!E48 -> 0 | F10: =(Oferta!$E$17+Oferta!$E$18*Parametros!F17/1000)*Parametros!F76*Parametros!I17+(Oferta!$E$19+Oferta!$E$20*Parametros!D48/1000)*Parametros!F76*Parametros!E48 -> 0 | G10: =(Oferta!$F$17+Oferta!$F$18*Parametros!G17/1000)*Parametros!G76*Parametros!I17+(Oferta!$F$19+Oferta!$F$20*Parametros!D48/1000)*Parametros!G76*Parametros!E48 -> 0 | H10: =(Oferta!$G$17+Oferta!$G$18*Parametros!H17/1000)*Parametros!H76*Parametros!I17+(Oferta!$G$19+Oferta!$G$20*Parametros!D48/1000)*Parametros!H76*Parametros!E48 -> 0 | I10: =SUM(C10:H10) -> 0 | J10: =SUMPRODUCT(Oferta!$B$11:$G$11,Parametros!$C$5:$H$5)*1.051127/12 -> 48499.505 | K10: =J10+I10 -> 48499.505
B11: 43922 | C11: =(Oferta!$B$17+Oferta!$B$18*Parametros!C18/1000)*Parametros!C77*Parametros!I18+(Oferta!$B$19+Oferta!$B$20*Parametros!D49/1000)*Parametros!C77*Parametros!E49 -> 0 | D11: =(Oferta!$C$17+Oferta!$C$18*Parametros!D18/1000)*Parametros!D77*Parametros!I18+(Oferta!$C$19+Oferta!$C$20*Parametros!D49/1000)*Parametros!D77*Parametros!E49 -> 0 | E11: =(Oferta!$D$17+Oferta!$D$18*Parametros!E18/1000)*Parametros!E77*Parametros!I18+(Oferta!$D$19+Oferta!$D$20*Parametros!D49/1000)*Parametros!E77*Parametros!E49 -> 0 | F11: =(Oferta!$E$17+Oferta!$E$18*Parametros!F18/1000)*Parametros!F77*Parametros!I18+(Oferta!$E$19+Oferta!$E$20*Parametros!D49/1000)*Parametros!F77*Parametros!E49 -> 0 | G11: =(Oferta!$F$17+Oferta!$F$18*Parametros!G18/1000)*Parametros!G77*Parametros!I18+(Oferta!$F$19+Oferta!$F$20*Parametros!D49/1000)*Parametros!G77*Parametros!E49 -> 0 | H11: =(Oferta!$G$17+Oferta!$G$18*Parametros!H18/1000)*Parametros!H77*Parametros!I18+(Oferta!$G$19+Oferta!$G$20*Parametros!D49/1000)*Parametros!H77*Parametros!E49 -> 0 | I11: =SUM(C11:H11) -> 0 | J11: =SUMPRODUCT(Oferta!$B$11:$G$11,Parametros!$C$5:$H$5)*1.051127/12 -> 48499.505 | K11: =J11+I11 -> 48499.505
B12: 43952 | C12: =(Oferta!$B$17+Oferta!$B$18*Parametros!C19/1000)*Parametros!C78*Parametros!I19+(Oferta!$B$19+Oferta!$B$20*Parametros!D50/1000)*Parametros!C78*Parametros!E50 -> 0 | D12: =(Oferta!$C$17+Oferta!$C$18*Parametros!D19/1000)*Parametros!D78*Parametros!I19+(Oferta!$C$19+Oferta!$C$20*Parametros!D50/1000)*Parametros!D78*Parametros!E50 -> 0 | E12: =(Oferta!$D$17+Oferta!$D$18*Parametros!E19/1000)*Parametros!E78*Parametros!I19+(Oferta!$D$19+Oferta!$D$20*Parametros!D50/1000)*Parametros!E78*Parametros!E50 -> 0 | F12: =(Oferta!$E$17+Oferta!$E$18*Parametros!F19/1000)*Parametros!F78*Parametros!I19+(Oferta!$E$19+Oferta!$E$20*Parametros!D50/1000)*Parametros!F78*Parametros!E50 -> 0 | G12: =(Oferta!$F$17+Oferta!$F$18*Parametros!G19/1000)*Parametros!G78*Parametros!I19+(Oferta!$F$19+Oferta!$F$20*Parametros!D50/1000)*Parametros!G78*Parametros!E50 -> 0 | H12: =(Oferta!$G$17+Oferta!$G$18*Parametros!H19/1000)*Parametros!H78*Parametros!I19+(Oferta!$G$19+Oferta!$G$20*Parametros!D50/1000)*Parametros!H78*Parametros!E50 -> 0 | I12: =SUM(C12:H12) -> 0 | J12: =SUMPRODUCT(Oferta!$B$11:$G$11,Parametros!$C$5:$H$5)*1.051127/12 -> 48499.505 | K12: =J12+I12 -> 48499.505
B13: 43983 | C13: =(Oferta!$B$17+Oferta!$B$18*Parametros!C20/1000)*Parametros!C79*Parametros!I20+(Oferta!$B$19+Oferta!$B$20*Parametros!D51/1000)*Parametros!C79*Parametros!E51 -> 0 | D13: =(Oferta!$C$17+Oferta!$C$18*Parametros!D20/1000)*Parametros!D79*Parametros!I20+(Oferta!$C$19+Oferta!$C$20*Parametros!D51/1000)*Parametros!D79*Parametros!E51 -> 0 | E13: =(Oferta!$D$17+Oferta!$D$18*Parametros!E20/1000)*Parametros!E79*Parametros!I20+(Oferta!$D$19+Oferta!$D$20*Parametros!D51/1000)*Parametros!E79*Parametros!E51 -> 0 | F13: =(Oferta!$E$17+Oferta!$E$18*Parametros!F20/1000)*Parametros!F79*Parametros!I20+(Oferta!$E$19+Oferta!$E$20*Parametros!D51/1000)*Parametros!F79*Parametros!E51 -> 0 | G13: =(Oferta!$F$17+Oferta!$F$18*Parametros!G20/1000)*Parametros!G79*Parametros!I20+(Oferta!$F$19+Oferta!$F$20*Parametros!D51/1000)*Parametros!G79*Parametros!E51 -> 0 | H13: =(Oferta!$G$17+Oferta!$G$18*Parametros!H20/1000)*Parametros!H79*Parametros!I20+(Oferta!$G$19+Oferta!$G$20*Parametros!D51/1000)*Parametros!H79*Parametros!E51 -> 0 | I13: =SUM(C13:H13) -> 0 | J13: =SUMPRODUCT(Oferta!$B$11:$G$11,Parametros!$C$5:$H$5)*1.051127/12 -> 48499.505 | K13: =J13+I13 -> 48499.505
B14: 44013 | C14: =(Oferta!$B$17+Oferta!$B$18*Parametros!C21/1000)*Parametros!C80*Parametros!I21+(Oferta!$B$19+Oferta!$B$20*Parametros!D52/1000)*Parametros!C80*Parametros!E52 -> 0 | D14: =(Oferta!$C$17+Oferta!$C$18*Parametros!D21/1000)*Parametros!D80*Parametros!I21+(Oferta!$C$19+Oferta!$C$20*Parametros!D52/1000)*Parametros!D80*Parametros!E52 -> 0 | E14: =(Oferta!$D$17+Oferta!$D$18*Parametros!E21/1000)*Parametros!E80*Parametros!I21+(Oferta!$D$19+Oferta!$D$20*Parametros!D52/1000)*Parametros!E80*Parametros!E52 -> 0 | F14: =(Oferta!$E$17+Oferta!$E$18*Parametros!F21/1000)*Parametros!F80*Parametros!I21+(Oferta!$E$19+Oferta!$E$20*Parametros!D52/1000)*Parametros!F80*Parametros!E52 -> 0 | G14: =(Oferta!$F$17+Oferta!$F$18*Parametros!G21/1000)*Parametros!G80*Parametros!I21+(Oferta!$F$19+Oferta!$F$20*Parametros!D52/1000)*Parametros!G80*Parametros!E52 -> 0 | H14: =(Oferta!$G$17+Oferta!$G$18*Parametros!H21/1000)*Parametros!H80*Parametros!I21+(Oferta!$G$19+Oferta!$G$20*Parametros!D52/1000)*Parametros!H80*Parametros!E52 -> 0 | I14: =SUM(C14:H14) -> 0 | J14: =SUMPRODUCT(Oferta!$B$11:$G$11,Parametros!$C$5:$H$5)*1.051127/12 -> 48499.505 | K14: =J14+I14 -> 48499.505
B15: 44044 | C15: =(Oferta!$B$17+Oferta!$B$18*Parametros!C22/1000)*Parametros!C81*Parametros!I22+(Oferta!$B$19+Oferta!$B$20*Parametros!D53/1000)*Parametros!C81*Parametros!E53 -> 0 | D15: =(Oferta!$C$17+Oferta!$C$18*Parametros!D22/1000)*Parametros!D81*Parametros!I22+(Oferta!$C$19+Oferta!$C$20*Parametros!D53/1000)*Parametros!D81*Parametros!E53 -> 0 | E15: =(Oferta!$D$17+Oferta!$D$18*Parametros!E22/1000)*Parametros!E81*Parametros!I22+(Oferta!$D$19+Oferta!$D$20*Parametros!D53/1000)*Parametros!E81*Parametros!E53 -> 0 | F15: =(Oferta!$E$17+Oferta!$E$18*Parametros!F22/1000)*Parametros!F81*Parametros!I22+(Oferta!$E$19+Oferta!$E$20*Parametros!D53/1000)*Parametros!F81*Parametros!E53 -> 0 | G15: =(Oferta!$F$17+Oferta!$F$18*Parametros!G22/1000)*Parametros!G81*Parametros!I22+(Oferta!$F$19+Oferta!$F$20*Parametros!D53/1000)*Parametros!G81*Parametros!E53 -> 0 | H15: =(Oferta!$G$17+Oferta!$G$18*Parametros!H22/1000)*Parametros!H81*Parametros!I22+(Oferta!$G$19+Oferta!$G$20*Parametros!D53/1000)*Parametros!H81*Parametros!E53 -> 0 | I15: =SUM(C15:H15) -> 0 | J15: =SUMPRODUCT(Oferta!$B$11:$G$11,Parametros!$C$5:$H$5)*1.051127/12 -> 48499.505 | K15: =J15+I15 -> 48499.505
B16: 44075 | C16: =(Oferta!$B$17+Oferta!$B$18*Parametros!C23/1000)*Parametros!C82*Parametros!I23+(Oferta!$B$19+Oferta!$B$20*Parametros!D54/1000)*Parametros!C82*Parametros!E54 -> 0 | D16: =(Oferta!$C$17+Oferta!$C$18*Parametros!D23/1000)*Parametros!D82*Parametros!I23+(Oferta!$C$19+Oferta!$C$20*Parametros!D54/1000)*Parametros!D82*Parametros!E54 -> 0 | E16: =(Oferta!$D$17+Oferta!$D$18*Parametros!E23/1000)*Parametros!E82*Parametros!I23+(Oferta!$D$19+Oferta!$D$20*Parametros!D54/1000)*Parametros!E82*Parametros!E54 -> 0 | F16: =(Oferta!$E$17+Oferta!$E$18*Parametros!F23/1000)*Parametros!F82*Parametros!I23+(Oferta!$E$19+Oferta!$E$20*Parametros!D54/1000)*Parametros!F82*Parametros!E54 -> 0 | G16: =(Oferta!$F$17+Oferta!$F$18*Parametros!G23/1000)*Parametros!G82*Parametros!I23+(Oferta!$F$19+Oferta!$F$20*Parametros!D54/1000)*Parametros!G82*Parametros!E54 -> 0 | H16: =(Oferta!$G$17+Oferta!$G$18*Parametros!H23/1000)*Parametros!H82*Parametros!I23+(Oferta!$G$19+Oferta!$G$20*Parametros!D54/1000)*Parametros!H82*Parametros!E54 -> 0 | I16: =SUM(C16:H16) -> 0 | J16: =SUMPRODUCT(Oferta!$B$11:$G$11,Parametros!$C$5:$H$5)*1.051127/12 -> 48499.505 | K16: =J16+I16 -> 48499.505
B17: 44105 | C17: =(Oferta!$B$17+Oferta!$B$18*Parametros!C24/1000)*Parametros!C83*Parametros!I24+(Oferta!$B$19+Oferta!$B$20*Parametros!D55/1000)*Parametros!C83*Parametros!E55 -> 0 | D17: =(Oferta!$C$17+Oferta!$C$18*Parametros!D24/1000)*Parametros!D83*Parametros!I24+(Oferta!$C$19+Oferta!$C$20*Parametros!D55/1000)*Parametros!D83*Parametros!E55 -> 0 | E17: =(Oferta!$D$17+Oferta!$D$18*Parametros!E24/1000)*Parametros!E83*Parametros!I24+(Oferta!$D$19+Oferta!$D$20*Parametros!D55/1000)*Parametros!E83*Parametros!E55 -> 0 | F17: =(Oferta!$E$17+Oferta!$E$18*Parametros!F24/1000)*Parametros!F83*Parametros!I24+(Oferta!$E$19+Oferta!$E$20*Parametros!D55/1000)*Parametros!F83*Parametros!E55 -> 0 | G17: =(Oferta!$F$17+Oferta!$F$18*Parametros!G24/1000)*Parametros!G83*Parametros!I24+(Oferta!$F$19+Oferta!$F$20*Parametros!D55/1000)*Parametros!G83*Parametros!E55 -> 0 | H17: =(Oferta!$G$17+Oferta!$G$18*Parametros!H24/1000)*Parametros!H83*Parametros!I24+(Oferta!$G$19+Oferta!$G$20*Parametros!D55/1000)*Parametros!H83*Parametros!E55 -> 0 | I17: =SUM(C17:H17) -> 0 | J17: =SUMPRODUCT(Oferta!$B$11:$G$11,Parametros!$C$5:$H$5)*1.051127/12 -> 48499.505 | K17: =J17+I17 -> 48499.505
B18: 44136 | C18: =(Oferta!$B$17+Oferta!$B$18*Parametros!C25/1000)*Parametros!C84*Parametros!I25+(Oferta!$B$19+Oferta!$B$20*Parametros!D56/1000)*Parametros!C84*Parametros!E56 -> 0 | D18: =(Oferta!$C$17+Oferta!$C$18*Parametros!D25/1000)*Parametros!D84*Parametros!I25+(Oferta!$C$19+Oferta!$C$20*Parametros!D56/1000)*Parametros!D84*Parametros!E56 -> 0 | E18: =(Oferta!$D$17+Oferta!$D$18*Parametros!E25/1000)*Parametros!E84*Parametros!I25+(Oferta!$D$19+Oferta!$D$20*Parametros!D56/1000)*Parametros!E84*Parametros!E56 -> 0 | F18: =(Oferta!$E$17+Oferta!$E$18*Parametros!F25/1000)*Parametros!F84*Parametros!I25+(Oferta!$E$19+Oferta!$E$20*Parametros!D56/1000)*Parametros!F84*Parametros!E56 -> 0 | G18: =(Oferta!$F$17+Oferta!$F$18*Parametros!G25/1000)*Parametros!G84*Parametros!I25+(Oferta!$F$19+Oferta!$F$20*Parametros!D56/1000)*Parametros!G84*Parametros!E56 -> 0 | H18: =(Oferta!$G$17+Oferta!$G$18*Parametros!H25/1000)*Parametros!H84*Parametros!I25+(Oferta!$G$19+Oferta!$G$20*Parametros!D56/1000)*Parametros!H84*Parametros!E56 -> 0 | I18: =SUM(C18:H18) -> 0 | J18: =SUMPRODUCT(Oferta!$B$11:$G$11,Parametros!$C$5:$H$5)*1.051127/12 -> 48499.505 | K18: =J18+I18 -> 48499.505
B19: 44166 | C19: =(Oferta!$B$17+Oferta!$B$18*Parametros!C26/1000)*Parametros!C85*Parametros!I26+(Oferta!$B$19+Oferta!$B$20*Parametros!D57/1000)*Parametros!C85*Parametros!E57 -> 0 | D19: =(Oferta!$C$17+Oferta!$C$18*Parametros!D26/1000)*Parametros!D85*Parametros!I26+(Oferta!$C$19+Oferta!$C$20*Parametros!D57/1000)*Parametros!D85*Parametros!E57 -> 0 | E19: =(Oferta!$D$17+Oferta!$D$18*Parametros!E26/1000)*Parametros!E85*Parametros!I26+(Oferta!$D$19+Oferta!$D$20*Parametros!D57/1000)*Parametros!E85*Parametros!E57 -> 0 | F19: =(Oferta!$E$17+Oferta!$E$18*Parametros!F26/1000)*Parametros!F85*Parametros!I26+(Oferta!$E$19+Oferta!$E$20*Parametros!D57/1000)*Parametros!F85*Parametros!E57 -> 0 | G19: =(Oferta!$F$17+Oferta!$F$18*Parametros!G26/1000)*Parametros!G85*Parametros!I26+(Oferta!$F$19+Oferta!$F$20*Parametros!D57/1000)*Parametros!G85*Parametros!E57 -> 0 | H19: =(Oferta!$G$17+Oferta!$G$18*Parametros!H26/1000)*Parametros!H85*Parametros!I26+(Oferta!$G$19+Oferta!$G$20*Parametros!D57/1000)*Parametros!H85*Parametros!E57 -> 0 | I19: =SUM(C19:H19) -> 0 | J19: =SUMPRODUCT(Oferta!$B$11:$G$11,Parametros!$C$5:$H$5)*1.051127/12 -> 48499.505 | K19: =J19+I19 -> 48499.505
... B31: 44531 | C31: =(Oferta!$B$17+Oferta!$B$18*Parametros!C38/1000)*Parametros!C97*Parametros!I38+(Oferta!$B$19+Oferta!$B$20*Parametros!D69/1000)*Parametros!C97*Parametros!E69 -> 0 | D31: =(Oferta!$C$17+Oferta!$C$18*Parametros!D38/1000)*Parametros!D97*Parametros!I38+(Oferta!$C$19+Oferta!$C$20*Parametros!D69/1000)*Parametros!D97*Parametros!E69 -> 0 | E31: =(Oferta!$D$17+Oferta!$D$18*Parametros!E38/1000)*Parametros!E97*Parametros!I38+(Oferta!$D$19+Oferta!$D$20*Parametros!D69/1000)*Parametros!E97*Parametros!E69 -> 0 | F31: =(Oferta!$E$17+Oferta!$E$18*Parametros!F38/1000)*Parametros!F97*Parametros!I38+(Oferta!$E$19+Oferta!$E$20*Parametros!D69/1000)*Parametros!F97*Parametros!E69 -> 0 | G31: =(Oferta!$F$17+Oferta!$F$18*Parametros!G38/1000)*Parametros!G97*Parametros!I38+(Oferta!$F$19+Oferta!$F$20*Parametros!D69/1000)*Parametros!G97*Parametros!E69 -> 0 | H31: =(Oferta!$G$17+Oferta!$G$18*Parametros!H38/1000)*Parametros!H97*Parametros!I38+(Oferta!$G$19+Oferta!$G$20*Parametros!D69/1000)*Parametros!H97*Parametros!E69 -> 0 | I31: =SUM(C31:H31) -> 0 | J31: =SUMPRODUCT(Oferta!$B$11:$G$11,Parametros!$C$5:$H$5)*1.051127/12 -> 48499.505 | K31: =J31+I31 -> 48499.505
B32: Total | I32: =SUM(I8:I31) -> 0 | J32: =SUM(J8:J31) -> 1163988.1 | K32: =SUM(K8:K31) -> 1163988.1
B35: CUPS ES0022000008610883ES1P. Tarifa 6.1A
C36: Término de Energía (€) | J36: T. Potencia | K36: Total
C37: P1 | D37: P2 | E37: P3 | F37: P4 | G37: P5 | H37: P6 | I37: Total T. Ene. | J37: (€) | K37: (€)
B38: 43831 | C38: =(Oferta!$B$35+Oferta!$B$36*Parametros!C15/1000)*Parametros!C102*Parametros!I15+(Oferta!$B$37+Oferta!$B$38*Parametros!D46/1000)*Parametros!C102*Parametros!E46 -> 0 | D38: =(Oferta!$C$35+Oferta!$C$36*Parametros!D15/1000)*Parametros!D102*Parametros!I15+(Oferta!$C$37+Oferta!$C$38*Parametros!D46/1000)*Parametros!D102*Parametros!E46 -> 0 | E38: =(Oferta!$D$35+Oferta!$D$36*Parametros!E15/1000)*Parametros!E102*Parametros!I15+(Oferta!$D$37+Oferta!$D$38*Parametros!D46/1000)*Parametros!E102*Parametros!E46 -> 0 | F38: =(Oferta!$E$35+Oferta!$E$36*Parametros!F15/1000)*Parametros!F102*Parametros!I15+(Oferta!$E$37+Oferta!$E$38*Parametros!D46/1000)*Parametros!F102*Parametros!E46 -> 0 | G38: =(Oferta!$F$35+Oferta!$F$36*Parametros!G15/1000)*Parametros!G102*Parametros!I15+(Oferta!$F$37+Oferta!$F$38*Parametros!D46/1000)*Parametros!G102*Parametros!E46 -> 0 | H38: =(Oferta!$G$35+Oferta!$G$36*Parametros!H15/1000)*Parametros!H102*Parametros!I15+(Oferta!$G$37+Oferta!$G$38*Parametros!D46/1000)*Parametros!H102*Parametros!E46 -> 0 | I38: =SUM(C38:H38) -> 0 | J38: =SUMPRODUCT(Oferta!$B$29:$G$29,Parametros!$C$6:$H$6)*1.051127/12 -> 11307.138 | K38: =J38+I38 -> 11307.138
B39: 43862 | C39: =(Oferta!$B$35+Oferta!$B$36*Parametros!C16/1000)*Parametros!C103*Parametros!I16+(Oferta!$B$37+Oferta!$B$38*Parametros!D47/1000)*Parametros!C103*Parametros!E47 -> 0 | D39: =(Oferta!$C$35+Oferta!$C$36*Parametros!D16/1000)*Parametros!D103*Parametros!I16+(Oferta!$C$37+Oferta!$C$38*Parametros!D47/1000)*Parametros!D103*Parametros!E47 -> 0 | E39: =(Oferta!$D$35+Oferta!$D$36*Parametros!E16/1000)*Parametros!E103*Parametros!I16+(Oferta!$D$37+Oferta!$D$38*Parametros!D47/1000)*Parametros!E103*Parametros!E47 -> 0 | F39: =(Oferta!$E$35+Oferta!$E$36*Parametros!F16/1000)*Parametros!F103*Parametros!I16+(Oferta!$E$37+Oferta!$E$38*Parametros!D47/1000)*Parametros!F103*Parametros!E47 -> 0 | G39: =(Oferta!$F$35+Oferta!$F$36*Parametros!G16/1000)*Parametros!G103*Parametros!I16+(Oferta!$F$37+Oferta!$F$38*Parametros!D47/1000)*Parametros!G103*Parametros!E47 -> 0 | H39: =(Oferta!$G$35+Oferta!$G$36*Parametros!H16/1000)*Parametros!H103*Parametros!I16+(Oferta!$G$37+Oferta!$G$38*Parametros!D47/1000)*Parametros!H103*Parametros!E47 -> 0 | I39: =SUM(C39:H39) -> 0 | J39: =SUMPRODUCT(Oferta!$B$29:$G$29,Parametros!$C$6:$H$6)*1.051127/12 -> 11307.138 | K39: =J39+I39 -> 11307.138
B40: 43891 | C40: =(Oferta!$B$35+Oferta!$B$36*Parametros!C17/1000)*Parametros!C104*Parametros!I17+(Oferta!$B$37+Oferta!$B$38*Parametros!D48/1000)*Parametros!C104*Parametros!E48 -> 0 | D40: =(Oferta!$C$35+Oferta!$C$36*Parametros!D17/1000)*Parametros!D104*Parametros!I17+(Oferta!$C$37+Oferta!$C$38*Parametros!D48/1000)*Parametros!D104*Parametros!E48 -> 0 | E40: =(Oferta!$D$35+Oferta!$D$36*Parametros!E17/1000)*Parametros!E104*Parametros!I17+(Oferta!$D$37+Oferta!$D$38*Parametros!D48/1000)*Parametros!E104*Parametros!E48 -> 0 | F40: =(Oferta!$E$35+Oferta!$E$36*Parametros!F17/1000)*Parametros!F104*Parametros!I17+(Oferta!$E$37+Oferta!$E$38*Parametros!D48/1000)*Parametros!F104*Parametros!E48 -> 0 | G40: =(Oferta!$F$35+Oferta!$F$36*Parametros!G17/1000)*Parametros!G104*Parametros!I17+(Oferta!$F$37+Oferta!$F$38*Parametros!D48/1000)*Parametros!G104*Parametros!E48 -> 0 | H40: =(Oferta!$G$35+Oferta!$G$36*Parametros!H17/1000)*Parametros!H104*Parametros!I17+(Oferta!$G$37+Oferta!$G$38*Parametros!D48/1000)*Parametros!H104*Parametros!E48 -> 0 | I40: =SUM(C40:H40) -> 0 | J40: =SUMPRODUCT(Oferta!$B$29:$G$29,Parametros!$C$6:$H$6)*1.051127/12 -> 11307.138 | K40: =J40+I40 -> 11307.138
B41: 43922 | C41: =(Oferta!$B$35+Oferta!$B$36*Parametros!C18/1000)*Parametros!C105*Parametros!I18+(Oferta!$B$37+Oferta!$B$38*Parametros!D49/1000)*Parametros!C105*Parametros!E49 -> 0 | D41: =(Oferta!$C$35+Oferta!$C$36*Parametros!D18/1000)*Parametros!D105*Parametros!I18+(Oferta!$C$37+Oferta!$C$38*Parametros!D49/1000)*Parametros!D105*Parametros!E49 -> 0 | E41: =(Oferta!$D$35+Oferta!$D$36*Parametros!E18/1000)*Parametros!E105*Parametros!I18+(Oferta!$D$37+Oferta!$D$38*Parametros!D49/1000)*Parametros!E105*Parametros!E49 -> 0 | F41: =(Oferta!$E$35+Oferta!$E$36*Parametros!F18/1000)*Parametros!F105*Parametros!I18+(Oferta!$E$37+Oferta!$E$38*Parametros!D49/1000)*Parametros!F105*Parametros!E49 -> 0 | G41: =(Oferta!$F$35+Oferta!$F$36*Parametros!G18/1000)*Parametros!G105*Parametros!I18+(Oferta!$F$37+Oferta!$F$38*Parametros!D49/1000)*Parametros!G105*Parametros!E49 -> 0 | H41: =(Oferta!$G$35+Oferta!$G$36*Parametros!H18/1000)*Parametros!H105*Parametros!I18+(Oferta!$G$37+Oferta!$G$38*Parametros!D49/1000)*Parametros!H105*Parametros!E49 -> 0 | I41: =SUM(C41:H41) -> 0 | J41: =SUMPRODUCT(Oferta!$B$29:$G$29,Parametros!$C$6:$H$6)*1.051127/12 -> 11307.138 | K41: =J41+I41 -> 11307.138
B42: 43952 | C42: =(Oferta!$B$35+Oferta!$B$36*Parametros!C19/1000)*Parametros!C106*Parametros!I19+(Oferta!$B$37+Oferta!$B$38*Parametros!D50/1000)*Parametros!C106*Parametros!E50 -> 0 | D42: =(Oferta!$C$35+Oferta!$C$36*Parametros!D19/1000)*Parametros!D106*Parametros!I19+(Oferta!$C$37+Oferta!$C$38*Parametros!D50/1000)*Parametros!D106*Parametros!E50 -> 0 | E42: =(Oferta!$D$35+Oferta!$D$36*Parametros!E19/1000)*Parametros!E106*Parametros!I19+(Oferta!$D$37+Oferta!$D$38*Parametros!D50/1000)*Parametros!E106*Parametros!E50 -> 0 | F42: =(Oferta!$E$35+Oferta!$E$36*Parametros!F19/1000)*Parametros!F106*Parametros!I19+(Oferta!$E$37+Oferta!$E$38*Parametros!D50/1000)*Parametros!F106*Parametros!E50 -> 0 | G42: =(Oferta!$F$35+Oferta!$F$36*Parametros!G19/1000)*Parametros!G106*Parametros!I19+(Oferta!$F$37+Oferta!$F$38*Parametros!D50/1000)*Parametros!G106*Parametros!E50 -> 0 | H42: =(Oferta!$G$35+Oferta!$G$36*Parametros!H19/1000)*Parametros!H106*Parametros!I19+(Oferta!$G$37+Oferta!$G$38*Parametros!D50/1000)*Parametros!H106*Parametros!E50 -> 0 | I42: =SUM(C42:H42) -> 0 | J42: =SUMPRODUCT(Oferta!$B$29:$G$29,Parametros!$C$6:$H$6)*1.051127/12 -> 11307.138 | K42: =J42+I42 -> 11307.138
B43: 43983 | C43: =(Oferta!$B$35+Oferta!$B$36*Parametros!C20/1000)*Parametros!C107*Parametros!I20+(Oferta!$B$37+Oferta!$B$38*Parametros!D51/1000)*Parametros!C107*Parametros!E51 -> 0 | D43: =(Oferta!$C$35+Oferta!$C$36*Parametros!D20/1000)*Parametros!D107*Parametros!I20+(Oferta!$C$37+Oferta!$C$38*Parametros!D51/1000)*Parametros!D107*Parametros!E51 -> 0 | E43: =(Oferta!$D$35+Oferta!$D$36*Parametros!E20/1000)*Parametros!E107*Parametros!I20+(Oferta!$D$37+Oferta!$D$38*Parametros!D51/1000)*Parametros!E107*Parametros!E51 -> 0 | F43: =(Oferta!$E$35+Oferta!$E$36*Parametros!F20/1000)*Parametros!F107*Parametros!I20+(Oferta!$E$37+Oferta!$E$38*Parametros!D51/1000)*Parametros!F107*Parametros!E51 -> 0 | G43: =(Oferta!$F$35+Oferta!$F$36*Parametros!G20/1000)*Parametros!G107*Parametros!I20+(Oferta!$F$37+Oferta!$F$38*Parametros!D51/1000)*Parametros!G107*Parametros!E51 -> 0 | H43: =(Oferta!$G$35+Oferta!$G$36*Parametros!H20/1000)*Parametros!H107*Parametros!I20+(Oferta!$G$37+Oferta!$G$38*Parametros!D51/1000)*Parametros!H107*Parametros!E51 -> 0 | I43: =SUM(C43:H43) -> 0 | J43: =SUMPRODUCT(Oferta!$B$29:$G$29,Parametros!$C$6:$H$6)*1.051127/12 -> 11307.138 | K43: =J43+I43 -> 11307.138
B44: 44013 | C44: =(Oferta!$B$35+Oferta!$B$36*Parametros!C21/1000)*Parametros!C108*Parametros!I21+(Oferta!$B$37+Oferta!$B$38*Parametros!D52/1000)*Parametros!C108*Parametros!E52 -> 0 | D44: =(Oferta!$C$35+Oferta!$C$36*Parametros!D21/1000)*Parametros!D108*Parametros!I21+(Oferta!$C$37+Oferta!$C$38*Parametros!D52/1000)*Parametros!D108*Parametros!E52 -> 0 | E44: =(Oferta!$D$35+Oferta!$D$36*Parametros!E21/1000)*Parametros!E108*Parametros!I21+(Oferta!$D$37+Oferta!$D$38*Parametros!D52/1000)*Parametros!E108*Parametros!E52 -> 0 | F44: =(Oferta!$E$35+Oferta!$E$36*Parametros!F21/1000)*Parametros!F108*Parametros!I21+(Oferta!$E$37+Oferta!$E$38*Parametros!D52/1000)*Parametros!F108*Parametros!E52 -> 0 | G44: =(Oferta!$F$35+Oferta!$F$36*Parametros!G21/1000)*Parametros!G108*Parametros!I21+(Oferta!$F$37+Oferta!$F$38*Parametros!D52/1000)*Parametros!G108*Parametros!E52 -> 0 | H44: =(Oferta!$G$35+Oferta!$G$36*Parametros!H21/1000)*Parametros!H108*Parametros!I21+(Oferta!$G$37+Oferta!$G$38*Parametros!D52/1000)*Parametros!H108*Parametros!E52 -> 0 | I44: =SUM(C44:H44) -> 0 | J44: =SUMPRODUCT(Oferta!$B$29:$G$29,Parametros!$C$6:$H$6)*1.051127/12 -> 11307.138 | K44: =J44+I44 -> 11307.138
B45: 44044 | C45: =(Oferta!$B$35+Oferta!$B$36*Parametros!C22/1000)*Parametros!C109*Parametros!I22+(Oferta!$B$37+Oferta!$B$38*Parametros!D53/1000)*Parametros!C109*Parametros!E53 -> 0 | D45: =(Oferta!$C$35+Oferta!$C$36*Parametros!D22/1000)*Parametros!D109*Parametros!I22+(Oferta!$C$37+Oferta!$C$38*Parametros!D53/1000)*Parametros!D109*Parametros!E53 -> 0 | E45: =(Oferta!$D$35+Oferta!$D$36*Parametros!E22/1000)*Parametros!E109*Parametros!I22+(Oferta!$D$37+Oferta!$D$38*Parametros!D53/1000)*Parametros!E109*Parametros!E53 -> 0 | F45: =(Oferta!$E$35+Oferta!$E$36*Parametros!F22/1000)*Parametros!F109*Parametros!I22+(Oferta!$E$37+Oferta!$E$38*Parametros!D53/1000)*Parametros!F109*Parametros!E53 -> 0 | G45: =(Oferta!$F$35+Oferta!$F$36*Parametros!G22/1000)*Parametros!G109*Parametros!I22+(Oferta!$F$37+Oferta!$F$38*Parametros!D53/1000)*Parametros!G109*Parametros!E53 -> 0 | H45: =(Oferta!$G$35+Oferta!$G$36*Parametros!H22/1000)*Parametros!H109*Parametros!I22+(Oferta!$G$37+Oferta!$G$38*Parametros!D53/1000)*Parametros!H109*Parametros!E53 -> 0 | I45: =SUM(C45:H45) -> 0 | J45: =SUMPRODUCT(Oferta!$B$29:$G$29,Parametros!$C$6:$H$6)*1.051127/12 -> 11307.138 | K45: =J45+I45 -> 11307.138
B46: 44075 | C46: =(Oferta!$B$35+Oferta!$B$36*Parametros!C23/1000)*Parametros!C110*Parametros!I23+(Oferta!$B$37+Oferta!$B$38*Parametros!D54/1000)*Parametros!C110*Parametros!E54 -> 0 | D46: =(Oferta!$C$35+Oferta!$C$36*Parametros!D23/1000)*Parametros!D110*Parametros!I23+(Oferta!$C$37+Oferta!$C$38*Parametros!D54/1000)*Parametros!D110*Parametros!E54 -> 0 | E46: =(Oferta!$D$35+Oferta!$D$36*Parametros!E23/1000)*Parametros!E110*Parametros!I23+(Oferta!$D$37+Oferta!$D$38*Parametros!D54/1000)*Parametros!E110*Parametros!E54 -> 0 | F46: =(Oferta!$E$35+Oferta!$E$36*Parametros!F23/1000)*Parametros!F110*Parametros!I23+(Oferta!$E$37+Oferta!$E$38*Parametros!D54/1000)*Parametros!F110*Parametros!E54 -> 0 | G46: =(Oferta!$F$35+Oferta!$F$36*Parametros!G23/1000)*Parametros!G110*Parametros!I23+(Oferta!$F$37+Oferta!$F$38*Parametros!D54/1000)*Parametros!G110*Parametros!E54 -> 0 | H46: =(Oferta!$G$35+Oferta!$G$36*Parametros!H23/1000)*Parametros!H110*Parametros!I23+(Oferta!$G$37+Oferta!$G$38*Parametros!D54/1000)*Parametros!H110*Parametros!E54 -> 0 | I46: =SUM(C46:H46) -> 0 | J46: =SUMPRODUCT(Oferta!$B$29:$G$29,Parametros!$C$6:$H$6)*1.051127/12 -> 11307.138 | K46: =J46+I46 -> 11307.138
B47: 44105 | C47: =(Oferta!$B$35+Oferta!$B$36*Parametros!C24/1000)*Parametros!C111*Parametros!I24+(Oferta!$B$37+Oferta!$B$38*Parametros!D55/1000)*Parametros!C111*Parametros!E55 -> 0 | D47: =(Oferta!$C$35+Oferta!$C$36*Parametros!D24/1000)*Parametros!D111*Parametros!I24+(Oferta!$C$37+Oferta!$C$38*Parametros!D55/1000)*Parametros!D111*Parametros!E55 -> 0 | E47: =(Oferta!$D$35+Oferta!$D$36*Parametros!E24/1000)*Parametros!E111*Parametros!I24+(Oferta!$D$37+Oferta!$D$38*Parametros!D55/1000)*Parametros!E111*Parametros!E55 -> 0 | F47: =(Oferta!$E$35+Oferta!$E$36*Parametros!F24/1000)*Parametros!F111*Parametros!I24+(Oferta!$E$37+Oferta!$E$38*Parametros!D55/1000)*Parametros!F111*Parametros!E55 -> 0 | G47: =(Oferta!$F$35+Oferta!$F$36*Parametros!G24/1000)*Parametros!G111*Parametros!I24+(Oferta!$F$37+Oferta!$F$38*Parametros!D55/1000)*Parametros!G111*Parametros!E55 -> 0 | H47: =(Oferta!$G$35+Oferta!$G$36*Parametros!H24/1000)*Parametros!H111*Parametros!I24+(Oferta!$G$37+Oferta!$G$38*Parametros!D55/1000)*Parametros!H111*Parametros!E55 -> 0 | I47: =SUM(C47:H47) -> 0 | J47: =SUMPRODUCT(Oferta!$B$29:$G$29,Parametros!$C$6:$H$6)*1.051127/12 -> 11307.138 | K47: =J47+I47 -> 11307.138
B48: 44136 | C48: =(Oferta!$B$35+Oferta!$B$36*Parametros!C25/1000)*Parametros!C112*Parametros!I25+(Oferta!$B$37+Oferta!$B$38*Parametros!D56/1000)*Parametros!C112*Parametros!E56 -> 0 | D48: =(Oferta!$C$35+Oferta!$C$36*Parametros!D25/1000)*Parametros!D112*Parametros!I25+(Oferta!$C$37+Oferta!$C$38*Parametros!D56/1000)*Parametros!D112*Parametros!E56 -> 0 | E48: =(Oferta!$D$35+Oferta!$D$36*Parametros!E25/1000)*Parametros!E112*Parametros!I25+(Oferta!$D$37+Oferta!$D$38*Parametros!D56/1000)*Parametros!E112*Parametros!E56 -> 0 | F48: =(Oferta!$E$35+Oferta!$E$36*Parametros!F25/1000)*Parametros!F112*Parametros!I25+(Oferta!$E$37+Oferta!$E$38*Parametros!D56/1000)*Parametros!F112*Parametros!E56 -> 0 | G48: =(Oferta!$F$35+Oferta!$F$36*Parametros!G25/1000)*Parametros!G112*Parametros!I25+(Oferta!$F$37+Oferta!$F$38*Parametros!D56/1000)*Parametros!G112*Parametros!E56 -> 0 | H48: =(Oferta!$G$35+Oferta!$G$36*Parametros!H25/1000)*Parametros!H112*Parametros!I25+(Oferta!$G$37+Oferta!$G$38*Parametros!D56/1000)*Parametros!H112*Parametros!E56 -> 0 | I48: =SUM(C48:H48) -> 0 | J48: =SUMPRODUCT(Oferta!$B$29:$G$29,Parametros!$C$6:$H$6)*1.051127/12 -> 11307.138 | K48: =J48+I48 -> 11307.138
B49: 44166 | C49: =(Oferta!$B$35+Oferta!$B$36*Parametros!C26/1000)*Parametros!C113*Parametros!I26+(Oferta!$B$37+Oferta!$B$38*Parametros!D57/1000)*Parametros!C113*Parametros!E57 -> 0 | D49: =(Oferta!$C$35+Oferta!$C$36*Parametros!D26/1000)*Parametros!D113*Parametros!I26+(Oferta!$C$37+Oferta!$C$38*Parametros!D57/1000)*Parametros!D113*Parametros!E57 -> 0 | E49: =(Oferta!$D$35+Oferta!$D$36*Parametros!E26/1000)*Parametros!E113*Parametros!I26+(Oferta!$D$37+Oferta!$D$38*Parametros!D57/1000)*Parametros!E113*Parametros!E57 -> 0 | F49: =(Oferta!$E$35+Oferta!$E$36*Parametros!F26/1000)*Parametros!F113*Parametros!I26+(Oferta!$E$37+Oferta!$E$38*Parametros!D57/1000)*Parametros!F113*Parametros!E57 -> 0 | G49: =(Oferta!$F$35+Oferta!$F$36*Parametros!G26/1000)*Parametros!G113*Parametros!I26+(Oferta!$F$37+Oferta!$F$38*Parametros!D57/1000)*Parametros!G113*Parametros!E57 -> 0 | H49: =(Oferta!$G$35+Oferta!$G$36*Parametros!H26/1000)*Parametros!H113*Parametros!I26+(Oferta!$G$37+Oferta!$G$38*Parametros!D57/1000)*Parametros!H113*Parametros!E57 -> 0 | I49: =SUM(C49:H49) -> 0 | J49: =SUMPRODUCT(Oferta!$B$29:$G$29,Parametros!$C$6:$H$6)*1.051127/12 -> 11307.138 | K49: =J49+I49 -> 11307.138
... B61: 44531 | C61: =(Oferta!$B$35+Oferta!$B$36*Parametros!C38/1000)*Parametros!C125*Parametros!I38+(Oferta!$B$37+Oferta!$B$38*Parametros!D69/1000)*Parametros!C125*Parametros!E69 -> 0 | D61: =(Oferta!$C$35+Oferta!$C$36*Parametros!D38/1000)*Parametros!D125*Parametros!I38+(Oferta!$C$37+Oferta!$C$38*Parametros!D69/1000)*Parametros!D125*Parametros!E69 -> 0 | E61: =(Oferta!$D$35+Oferta!$D$36*Parametros!E38/1000)*Parametros!E125*Parametros!I38+(Oferta!$D$37+Oferta!$D$38*Parametros!D69/1000)*Parametros!E125*Parametros!E69 -> 0 | F61: =(Oferta!$E$35+Oferta!$E$36*Parametros!F38/1000)*Parametros!F125*Parametros!I38+(Oferta!$E$37+Oferta!$E$38*Parametros!D69/1000)*Parametros!F125*Parametros!E69 -> 0 | G61: =(Oferta!$F$35+Oferta!$F$36*Parametros!G38/1000)*Parametros!G125*Parametros!I38+(Oferta!$F$37+Oferta!$F$38*Parametros!D69/1000)*Parametros!G125*Parametros!E69 -> 0 | H61: =(Oferta!$G$35+Oferta!$G$36*Parametros!H38/1000)*Parametros!H125*Parametros!I38+(Oferta!$G$37+Oferta!$G$38*Parametros!D69/1000)*Parametros!H125*Parametros!E69 -> 0 | I61: =SUM(C61:H61) -> 0 | J61: =SUMPRODUCT(Oferta!$B$29:$G$29,Parametros!$C$6:$H$6)*1.051127/12 -> 11307.138 | K61: =J61+I61 -> 11307.138
B62: Total | I62: =SUM(I38:I61) -> 0 | J62: =SUM(J38:J61) -> 271371.3 | K62: =SUM(K38:K61) -> 271371.3
B65: CUPS ES0022000007419441QL1P. Tarifa 6.1A
C66: Término de Energía (€) | J66: T. Potencia | K66: Total
C67: P1 | D67: P2 | E67: P3 | F67: P4 | G67: P5 | H67: P6 | I67: Total T. Ene. | J67: (€) | K67: (€)
B68: 43678 | C68: =(Oferta!$B$53+Oferta!$B$54*Parametros!C10/1000)*Parametros!C130*Parametros!I10+(Oferta!$B$55+Oferta!$B$56*Parametros!D41/1000)*Parametros!C130*Parametros!E41 -> 0 | D68: =(Oferta!$C$53+Oferta!$C$54*Parametros!D10/1000)*Parametros!D130*Parametros!I10+(Oferta!$C$55+Oferta!$C$56*Parametros!D41/1000)*Parametros!D130*Parametros!E41 -> 0 | E68: =(Oferta!$D$53+Oferta!$D$54*Parametros!E10/1000)*Parametros!E130*Parametros!I10+(Oferta!$D$55+Oferta!$D$56*Parametros!D41/1000)*Parametros!E130*Parametros!E41 -> 0 | F68: =(Oferta!$E$53+Oferta!$E$54*Parametros!F10/1000)*Parametros!F130*Parametros!I10+(Oferta!$E$55+Oferta!$E$56*Parametros!D41/1000)*Parametros!F130*Parametros!E41 -> 0 | G68: =(Oferta!$F$53+Oferta!$F$54*Parametros!G10/1000)*Parametros!G130*Parametros!I10+(Oferta!$F$55+Oferta!$F$56*Parametros!D41/1000)*Parametros!G130*Parametros!E41 -> 0 | H68: =(Oferta!$G$53+Oferta!$G$54*Parametros!H10/1000)*Parametros!H130*Parametros!I10+(Oferta!$G$55+Oferta!$G$56*Parametros!D41/1000)*Parametros!H130*Parametros!E41 -> 0 | I68: =SUM(C68:H68) -> 0 | J68: =SUMPRODUCT(Oferta!$B$47:$G$47,Parametros!$C$6:$H$6)*1.051127/12 -> 12107.698 | K68: =J68+I68 -> 12107.698
B69: 43709 | C69: =(Oferta!$B$53+Oferta!$B$54*Parametros!C11/1000)*Parametros!C131*Parametros!I11+(Oferta!$B$55+Oferta!$B$56*Parametros!D42/1000)*Parametros!C131*Parametros!E42 -> 0 | D69: =(Oferta!$C$53+Oferta!$C$54*Parametros!D11/1000)*Parametros!D131*Parametros!I11+(Oferta!$C$55+Oferta!$C$56*Parametros!D42/1000)*Parametros!D131*Parametros!E42 -> 0 | E69: =(Oferta!$D$53+Oferta!$D$54*Parametros!E11/1000)*Parametros!E131*Parametros!I11+(Oferta!$D$55+Oferta!$D$56*Parametros!D42/1000)*Parametros!E131*Parametros!E42 -> 0 | F69: =(Oferta!$E$53+Oferta!$E$54*Parametros!F11/1000)*Parametros!F131*Parametros!I11+(Oferta!$E$55+Oferta!$E$56*Parametros!D42/1000)*Parametros!F131*Parametros!E42 -> 0 | G69: =(Oferta!$F$53+Oferta!$F$54*Parametros!G11/1000)*Parametros!G131*Parametros!I11+(Oferta!$F$55+Oferta!$F$56*Parametros!D42/1000)*Parametros!G131*Parametros!E42 -> 0 | H69: =(Oferta!$G$53+Oferta!$G$54*Parametros!H11/1000)*Parametros!H131*Parametros!I11+(Oferta!$G$55+Oferta!$G$56*Parametros!D42/1000)*Parametros!H131*Parametros!E42 -> 0 | I69: =SUM(C69:H69) -> 0 | J69: =SUMPRODUCT(Oferta!$B$47:$G$47,Parametros!$C$6:$H$6)*1.051127/12 -> 12107.698 | K69: =J69+I69 -> 12107.698
B70: 43739 | C70: =(Oferta!$B$53+Oferta!$B$54*Parametros!C12/1000)*Parametros!C132*Parametros!I12+(Oferta!$B$55+Oferta!$B$56*Parametros!D43/1000)*Parametros!C132*Parametros!E43 -> 0 | D70: =(Oferta!$C$53+Oferta!$C$54*Parametros!D12/1000)*Parametros!D132*Parametros!I12+(Oferta!$C$55+Oferta!$C$56*Parametros!D43/1000)*Parametros!D132*Parametros!E43 -> 0 | E70: =(Oferta!$D$53+Oferta!$D$54*Parametros!E12/1000)*Parametros!E132*Parametros!I12+(Oferta!$D$55+Oferta!$D$56*Parametros!D43/1000)*Parametros!E132*Parametros!E43 -> 0 | F70: =(Oferta!$E$53+Oferta!$E$54*Parametros!F12/1000)*Parametros!F132*Parametros!I12+(Oferta!$E$55+Oferta!$E$56*Parametros!D43/1000)*Parametros!F132*Parametros!E43 -> 0 | G70: =(Oferta!$F$53+Oferta!$F$54*Parametros!G12/1000)*Parametros!G132*Parametros!I12+(Oferta!$F$55+Oferta!$F$56*Parametros!D43/1000)*Parametros!G132*Parametros!E43 -> 0 | H70: =(Oferta!$G$53+Oferta!$G$54*Parametros!H12/1000)*Parametros!H132*Parametros!I12+(Oferta!$G$55+Oferta!$G$56*Parametros!D43/1000)*Parametros!H132*Parametros!E43 -> 0 | I70: =SUM(C70:H70) -> 0 | J70: =SUMPRODUCT(Oferta!$B$47:$G$47,Parametros!$C$6:$H$6)*1.051127/12 -> 12107.698 | K70: =J70+I70 -> 12107.698
B71: 43770 | C71: =(Oferta!$B$53+Oferta!$B$54*Parametros!C13/1000)*Parametros!C133*Parametros!I13+(Oferta!$B$55+Oferta!$B$56*Parametros!D44/1000)*Parametros!C133*Parametros!E44 -> 0 | D71: =(Oferta!$C$53+Oferta!$C$54*Parametros!D13/1000)*Parametros!D133*Parametros!I13+(Oferta!$C$55+Oferta!$C$56*Parametros!D44/1000)*Parametros!D133*Parametros!E44 -> 0 | E71: =(Oferta!$D$53+Oferta!$D$54*Parametros!E13/1000)*Parametros!E133*Parametros!I13+(Oferta!$D$55+Oferta!$D$56*Parametros!D44/1000)*Parametros!E133*Parametros!E44 -> 0 | F71: =(Oferta!$E$53+Oferta!$E$54*Parametros!F13/1000)*Parametros!F133*Parametros!I13+(Oferta!$E$55+Oferta!$E$56*Parametros!D44/1000)*Parametros!F133*Parametros!E44 -> 0 | G71: =(Oferta!$F$53+Oferta!$F$54*Parametros!G13/1000)*Parametros!G133*Parametros!I13+(Oferta!$F$55+Oferta!$F$56*Parametros!D44/1000)*Parametros!G133*Parametros!E44 -> 0 | H71: =(Oferta!$G$53+Oferta!$G$54*Parametros!H13/1000)*Parametros!H133*Parametros!I13+(Oferta!$G$55+Oferta!$G$56*Parametros!D44/1000)*Parametros!H133*Parametros!E44 -> 0 | I71: =SUM(C71:H71) -> 0 | J71: =SUMPRODUCT(Oferta!$B$47:$G$47,Parametros!$C$6:$H$6)*1.051127/12 -> 12107.698 | K71: =J71+I71 -> 12107.698
B72: 43800 | C72: =(Oferta!$B$53+Oferta!$B$54*Parametros!C14/1000)*Parametros!C134*Parametros!I14+(Oferta!$B$55+Oferta!$B$56*Parametros!D45/1000)*Parametros!C134*Parametros!E45 -> 0 | D72: =(Oferta!$C$53+Oferta!$C$54*Parametros!D14/1000)*Parametros!D134*Parametros!I14+(Oferta!$C$55+Oferta!$C$56*Parametros!D45/1000)*Parametros!D134*Parametros!E45 -> 0 | E72: =(Oferta!$D$53+Oferta!$D$54*Parametros!E14/1000)*Parametros!E134*Parametros!I14+(Oferta!$D$55+Oferta!$D$56*Parametros!D45/1000)*Parametros!E134*Parametros!E45 -> 0 | F72: =(Oferta!$E$53+Oferta!$E$54*Parametros!F14/1000)*Parametros!F134*Parametros!I14+(Oferta!$E$55+Oferta!$E$56*Parametros!D45/1000)*Parametros!F134*Parametros!E45 -> 0 | G72: =(Oferta!$F$53+Oferta!$F$54*Parametros!G14/1000)*Parametros!G134*Parametros!I14+(Oferta!$F$55+Oferta!$F$56*Parametros!D45/1000)*Parametros!G134*Parametros!E45 -> 0 | H72: =(Oferta!$G$53+Oferta!$G$54*Parametros!H14/1000)*Parametros!H134*Parametros!I14+(Oferta!$G$55+Oferta!$G$56*Parametros!D45/1000)*Parametros!H134*Parametros!E45 -> 0 | I72: =SUM(C72:H72) -> 0 | J72: =SUMPRODUCT(Oferta!$B$47:$G$47,Parametros!$C$6:$H$6)*1.051127/12 -> 12107.698 | K72: =J72+I72 -> 12107.698
B73: 43831 | C73: =(Oferta!$B$53+Oferta!$B$54*Parametros!C15/1000)*Parametros!C135*Parametros!I15+(Oferta!$B$55+Oferta!$B$56*Parametros!D46/1000)*Parametros!C135*Parametros!E46 -> 0 | D73: =(Oferta!$C$53+Oferta!$C$54*Parametros!D15/1000)*Parametros!D135*Parametros!I15+(Oferta!$C$55+Oferta!$C$56*Parametros!D46/1000)*Parametros!D135*Parametros!E46 -> 0 | E73: =(Oferta!$D$53+Oferta!$D$54*Parametros!E15/1000)*Parametros!E135*Parametros!I15+(Oferta!$D$55+Oferta!$D$56*Parametros!D46/1000)*Parametros!E135*Parametros!E46 -> 0 | F73: =(Oferta!$E$53+Oferta!$E$54*Parametros!F15/1000)*Parametros!F135*Parametros!I15+(Oferta!$E$55+Oferta!$E$56*Parametros!D46/1000)*Parametros!F135*Parametros!E46 -> 0 | G73: =(Oferta!$F$53+Oferta!$F$54*Parametros!G15/1000)*Parametros!G135*Parametros!I15+(Oferta!$F$55+Oferta!$F$56*Parametros!D46/1000)*Parametros!G135*Parametros!E46 -> 0 | H73: =(Oferta!$G$53+Oferta!$G$54*Parametros!H15/1000)*Parametros!H135*Parametros!I15+(Oferta!$G$55+Oferta!$G$56*Parametros!D46/1000)*Parametros!H135*Parametros!E46 -> 0 | I73: =SUM(C73:H73) -> 0 | J73: =SUMPRODUCT(Oferta!$B$47:$G$47,Parametros!$C$6:$H$6)*1.051127/12 -> 12107.698 | K73: =J73+I73 -> 12107.698
B74: 43862 | C74: =(Oferta!$B$53+Oferta!$B$54*Parametros!C16/1000)*Parametros!C136*Parametros!I16+(Oferta!$B$55+Oferta!$B$56*Parametros!D47/1000)*Parametros!C136*Parametros!E47 -> 0 | D74: =(Oferta!$C$53+Oferta!$C$54*Parametros!D16/1000)*Parametros!D136*Parametros!I16+(Oferta!$C$55+Oferta!$C$56*Parametros!D47/1000)*Parametros!D136*Parametros!E47 -> 0 | E74: =(Oferta!$D$53+Oferta!$D$54*Parametros!E16/1000)*Parametros!E136*Parametros!I16+(Oferta!$D$55+Oferta!$D$56*Parametros!D47/1000)*Parametros!E136*Parametros!E47 -> 0 | F74: =(Oferta!$E$53+Oferta!$E$54*Parametros!F16/1000)*Parametros!F136*Parametros!I16+(Oferta!$E$55+Oferta!$E$56*Parametros!D47/1000)*Parametros!F136*Parametros!E47 -> 0 | G74: =(Oferta!$F$53+Oferta!$F$54*Parametros!G16/1000)*Parametros!G136*Parametros!I16+(Oferta!$F$55+Oferta!$F$56*Parametros!D47/1000)*Parametros!G136*Parametros!E47 -> 0 | H74: =(Oferta!$G$53+Oferta!$G$54*Parametros!H16/1000)*Parametros!H136*Parametros!I16+(Oferta!$G$55+Oferta!$G$56*Parametros!D47/1000)*Parametros!H136*Parametros!E47 -> 0 | I74: =SUM(C74:H74) -> 0 | J74: =SUMPRODUCT(Oferta!$B$47:$G$47,Parametros!$C$6:$H$6)*1.051127/12 -> 12107.698 | K74: =J74+I74 -> 12107.698
B75: 43891 | C75: =(Oferta!$B$53+Oferta!$B$54*Parametros!C17/1000)*Parametros!C137*Parametros!I17+(Oferta!$B$55+Oferta!$B$56*Parametros!D48/1000)*Parametros!C137*Parametros!E48 -> 0 | D75: =(Oferta!$C$53+Oferta!$C$54*Parametros!D17/1000)*Parametros!D137*Parametros!I17+(Oferta!$C$55+Oferta!$C$56*Parametros!D48/1000)*Parametros!D137*Parametros!E48 -> 0 | E75: =(Oferta!$D$53+Oferta!$D$54*Parametros!E17/1000)*Parametros!E137*Parametros!I17+(Oferta!$D$55+Oferta!$D$56*Parametros!D48/1000)*Parametros!E137*Parametros!E48 -> 0 | F75: =(Oferta!$E$53+Oferta!$E$54*Parametros!F17/1000)*Parametros!F137*Parametros!I17+(Oferta!$E$55+Oferta!$E$56*Parametros!D48/1000)*Parametros!F137*Parametros!E48 -> 0 | G75: =(Oferta!$F$53+Oferta!$F$54*Parametros!G17/1000)*Parametros!G137*Parametros!I17+(Oferta!$F$55+Oferta!$F$56*Parametros!D48/1000)*Parametros!G137*Parametros!E48 -> 0 | H75: =(Oferta!$G$53+Oferta!$G$54*Parametros!H17/1000)*Parametros!H137*Parametros!I17+(Oferta!$G$55+Oferta!$G$56*Parametros!D48/1000)*Parametros!H137*Parametros!E48 -> 0 | I75: =SUM(C75:H75) -> 0 | J75: =SUMPRODUCT(Oferta!$B$47:$G$47,Parametros!$C$6:$H$6)*1.051127/12 -> 12107.698 | K75: =J75+I75 -> 12107.698
B76: 43922 | C76: =(Oferta!$B$53+Oferta!$B$54*Parametros!C18/1000)*Parametros!C138*Parametros!I18+(Oferta!$B$55+Oferta!$B$56*Parametros!D49/1000)*Parametros!C138*Parametros!E49 -> 0 | D76: =(Oferta!$C$53+Oferta!$C$54*Parametros!D18/1000)*Parametros!D138*Parametros!I18+(Oferta!$C$55+Oferta!$C$56*Parametros!D49/1000)*Parametros!D138*Parametros!E49 -> 0 | E76: =(Oferta!$D$53+Oferta!$D$54*Parametros!E18/1000)*Parametros!E138*Parametros!I18+(Oferta!$D$55+Oferta!$D$56*Parametros!D49/1000)*Parametros!E138*Parametros!E49 -> 0 | F76: =(Oferta!$E$53+Oferta!$E$54*Parametros!F18/1000)*Parametros!F138*Parametros!I18+(Oferta!$E$55+Oferta!$E$56*Parametros!D49/1000)*Parametros!F138*Parametros!E49 -> 0 | G76: =(Oferta!$F$53+Oferta!$F$54*Parametros!G18/1000)*Parametros!G138*Parametros!I18+(Oferta!$F$55+Oferta!$F$56*Parametros!D49/1000)*Parametros!G138*Parametros!E49 -> 0 | H76: =(Oferta!$G$53+Oferta!$G$54*Parametros!H18/1000)*Parametros!H138*Parametros!I18+(Oferta!$G$55+Oferta!$G$56*Parametros!D49/1000)*Parametros!H138*Parametros!E49 -> 0 | I76: =SUM(C76:H76) -> 0 | J76: =SUMPRODUCT(Oferta!$B$47:$G$47,Parametros!$C$6:$H$6)*1.051127/12 -> 12107.698 | K76: =J76+I76 -> 12107.698
B77: 43952 | C77: =(Oferta!$B$53+Oferta!$B$54*Parametros!C19/1000)*Parametros!C139*Parametros!I19+(Oferta!$B$55+Oferta!$B$56*Parametros!D50/1000)*Parametros!C139*Parametros!E50 -> 0 | D77: =(Oferta!$C$53+Oferta!$C$54*Parametros!D19/1000)*Parametros!D139*Parametros!I19+(Oferta!$C$55+Oferta!$C$56*Parametros!D50/1000)*Parametros!D139*Parametros!E50 -> 0 | E77: =(Oferta!$D$53+Oferta!$D$54*Parametros!E19/1000)*Parametros!E139*Parametros!I19+(Oferta!$D$55+Oferta!$D$56*Parametros!D50/1000)*Parametros!E139*Parametros!E50 -> 0 | F77: =(Oferta!$E$53+Oferta!$E$54*Parametros!F19/1000)*Parametros!F139*Parametros!I19+(Oferta!$E$55+Oferta!$E$56*Parametros!D50/1000)*Parametros!F139*Parametros!E50 -> 0 | G77: =(Oferta!$F$53+Oferta!$F$54*Parametros!G19/1000)*Parametros!G139*Parametros!I19+(Oferta!$F$55+Oferta!$F$56*Parametros!D50/1000)*Parametros!G139*Parametros!E50 -> 0 | H77: =(Oferta!$G$53+Oferta!$G$54*Parametros!H19/1000)*Parametros!H139*Parametros!I19+(Oferta!$G$55+Oferta!$G$56*Parametros!D50/1000)*Parametros!H139*Parametros!E50 -> 0 | I77: =SUM(C77:H77) -> 0 | J77: =SUMPRODUCT(Oferta!$B$47:$G$47,Parametros!$C$6:$H$6)*1.051127/12 -> 12107.698 | K77: =J77+I77 -> 12107.698
B78: 43983 | C78: =(Oferta!$B$53+Oferta!$B$54*Parametros!C20/1000)*Parametros!C140*Parametros!I20+(Oferta!$B$55+Oferta!$B$56*Parametros!D51/1000)*Parametros!C140*Parametros!E51 -> 0 | D78: =(Oferta!$C$53+Oferta!$C$54*Parametros!D20/1000)*Parametros!D140*Parametros!I20+(Oferta!$C$55+Oferta!$C$56*Parametros!D51/1000)*Parametros!D140*Parametros!E51 -> 0 | E78: =(Oferta!$D$53+Oferta!$D$54*Parametros!E20/1000)*Parametros!E140*Parametros!I20+(Oferta!$D$55+Oferta!$D$56*Parametros!D51/1000)*Parametros!E140*Parametros!E51 -> 0 | F78: =(Oferta!$E$53+Oferta!$E$54*Parametros!F20/1000)*Parametros!F140*Parametros!I20+(Oferta!$E$55+Oferta!$E$56*Parametros!D51/1000)*Parametros!F140*Parametros!E51 -> 0 | G78: =(Oferta!$F$53+Oferta!$F$54*Parametros!G20/1000)*Parametros!G140*Parametros!I20+(Oferta!$F$55+Oferta!$F$56*Parametros!D51/1000)*Parametros!G140*Parametros!E51 -> 0 | H78: =(Oferta!$G$53+Oferta!$G$54*Parametros!H20/1000)*Parametros!H140*Parametros!I20+(Oferta!$G$55+Oferta!$G$56*Parametros!D51/1000)*Parametros!H140*Parametros!E51 -> 0 | I78: =SUM(C78:H78) -> 0 | J78: =SUMPRODUCT(Oferta!$B$47:$G$47,Parametros!$C$6:$H$6)*1.051127/12 -> 12107.698 | K78: =J78+I78 -> 12107.698
B79: 44013 | C79: =(Oferta!$B$53+Oferta!$B$54*Parametros!C21/1000)*Parametros!C141*Parametros!I21+(Oferta!$B$55+Oferta!$B$56*Parametros!D52/1000)*Parametros!C141*Parametros!E52 -> 0 | D79: =(Oferta!$C$53+Oferta!$C$54*Parametros!D21/1000)*Parametros!D141*Parametros!I21+(Oferta!$C$55+Oferta!$C$56*Parametros!D52/1000)*Parametros!D141*Parametros!E52 -> 0 | E79: =(Oferta!$D$53+Oferta!$D$54*Parametros!E21/1000)*Parametros!E141*Parametros!I21+(Oferta!$D$55+Oferta!$D$56*Parametros!D52/1000)*Parametros!E141*Parametros!E52 -> 0 | F79: =(Oferta!$E$53+Oferta!$E$54*Parametros!F21/1000)*Parametros!F141*Parametros!I21+(Oferta!$E$55+Oferta!$E$56*Parametros!D52/1000)*Parametros!F141*Parametros!E52 -> 0 | G79: =(Oferta!$F$53+Oferta!$F$54*Parametros!G21/1000)*Parametros!G141*Parametros!I21+(Oferta!$F$55+Oferta!$F$56*Parametros!D52/1000)*Parametros!G141*Parametros!E52 -> 0 | H79: =(Oferta!$G$53+Oferta!$G$54*Parametros!H21/1000)*Parametros!H141*Parametros!I21+(Oferta!$G$55+Oferta!$G$56*Parametros!D52/1000)*Parametros!H141*Parametros!E52 -> 0 | I79: =SUM(C79:H79) -> 0 | J79: =SUMPRODUCT(Oferta!$B$47:$G$47,Parametros!$C$6:$H$6)*1.051127/12 -> 12107.698 | K79: =J79+I79 -> 12107.698
... B96: 44531 | C96: =(Oferta!$B$53+Oferta!$B$54*Parametros!C38/1000)*Parametros!C158*Parametros!I38+(Oferta!$B$55+Oferta!$B$56*Parametros!D69/1000)*Parametros!C158*Parametros!E69 -> 0 | D96: =(Oferta!$C$53+Oferta!$C$54*Parametros!D38/1000)*Parametros!D158*Parametros!I38+(Oferta!$C$55+Oferta!$C$56*Parametros!D69/1000)*Parametros!D158*Parametros!E69 -> 0 | E96: =(Oferta!$D$53+Oferta!$D$54*Parametros!E38/1000)*Parametros!E158*Parametros!I38+(Oferta!$D$55+Oferta!$D$56*Parametros!D69/1000)*Parametros!E158*Parametros!E69 -> 0 | F96: =(Oferta!$E$53+Oferta!$E$54*Parametros!F38/1000)*Parametros!F158*Parametros!I38+(Oferta!$E$55+Oferta!$E$56*Parametros!D69/1000)*Parametros!F158*Parametros!E69 -> 0 | G96: =(Oferta!$F$53+Oferta!$F$54*Parametros!G38/1000)*Parametros!G158*Parametros!I38+(Oferta!$F$55+Oferta!$F$56*Parametros!D69/1000)*Parametros!G158*Parametros!E69 -> 0 | H96: =(Oferta!$G$53+Oferta!$G$54*Parametros!H38/1000)*Parametros!H158*Parametros!I38+(Oferta!$G$55+Oferta!$G$56*Parametros!D69/1000)*Parametros!H158*Parametros!E69 -> 0 | I96: =SUM(C96:H96) -> 0 | J96: =SUMPRODUCT(Oferta!$B$47:$G$47,Parametros!$C$6:$H$6)*1.051127/12 -> 12107.698 | K96: =J96+I96 -> 12107.698
B97: Total | I97: =SUM(I68:I96) -> 0 | J97: =SUM(J68:J96) -> 351123.23 | K97: =SUM(K68:K96) -> 351123.23
