Workbook

Sheet Presupuesto
A1: ASEOS IFEMA PALACIO MUNICIPAL
A2: Presupuesto
A3: Código | B3: Nat | C3: Ud | D3: Resumen | E3: Comentario | F3: N | G3: Longitud | H3: Anchura | I3: Altura | J3: Parcial | K3: CanPres | L3: PrPres | M3: ImpPres
A4: 01_DEM | B4: Capítulo | D4: PROTECCIONES Y DEMOLICIONES
A5: IF01.01 | B5: Partida | C5: PA | D5: PROTECCION DE ZONAS COMUNES
D6: Protección de zonas comunes de rellano de planta mediante tapado de suelos y montacargas con tableros de madera, plásticos, moqueta ferial y en caso necesario con otros materiales que protejan de golpes durante el transcurso de los trabajos hasta su finalización, tapado por medios manuales. Incluso reposiciones si fuese necesario y medios auxiliares para su instalación.
F8: 1 | J8: 430
J9: IF01.01 | K9: 1 | M9: =K9*L9 -> 0
A10: R03DRT041 | B10: Partida | C10: m2 | D10: DESMONTAJE FALSO TECHO DESMONTABLE CON RECUPERACIÓN
D11: Desmontaje de falsos techos desmontables de paneles de escayola, fibra, madera, chapa o material similar; realizado por medios manuales, con recuperación y aprovechamiento máximo del material desmontado, apilado y traslado a almacén de IFEMA, incluso limpieza y retirada de escombros a pie de carga, sin transporte al vertedero. No se incluyen medidas de seguridad ni medios de elevación.
E12: huella de aseos | F12: 1 | G12: 43.87 | H12: 0 | I12: 0 | J12: =F12*(G12+ (G12= 0))*(H12+ (H12= 0))*(I12+ (I12= 0)) -> 43.87
J13: R03DRT041 | K13: =SUM(J12:J12) -> 43.87 | M13: =K13*L13 -> 0
A15: E01DPP021 | B15: Partida | C15: m2 | D15: DEMOLICIÓN SOLADO BALDOSAS A MANO
D16: Demolición de pavimentos de baldosas hidráulicas, de terrazo, cerámicas o de gres, por medios manuales y mecánicos, incluso corte preciso con radial en encuentro con pavimento a mantener, limpieza y retirada de escombros a pie de carga, sin transporte a vertedero o planta de reciclaje y con parte proporcional de medios auxiliares, sin medidas de protección colectivas. Medición de superficie realmente ejecutada.
E17: huella de aseos | F17: 1 | G17: 43.87 | H17: 0 | I17: 0 | J17: =F17*(G17+ (G17= 0))*(H17+ (H17= 0))*(I17+ (I17= 0)) -> 43.87
J18: E01DPP021 | K18: =SUM(J17:J17) -> 43.87 | M18: =K18*L18 -> 0
A20: IF.01.C03 | B20: Partida | C20: ud | D20: DEMOLICION DE CAJAS ELECTRICAS EN SUELO
D21: Desmontaje de caja empotrada en suelo por medios manuales, incluso tubos y mecanismos existentes, con condena de cableado y canalizacion existente, i/p.p. de material auxiliar, limpieza y retirada de escombros a pie de carga, sin transporte a vertedero y con p.p. de medios auxiliares. | E21: cajas existentes en la zona de actuación
F22: 2 | J22: =F22*(G22+ (G22= 0))*(H22+ (H22= 0))*(I22+ (I22= 0)) -> 2
J23: IF.01.C03 | K23: =SUM(J22:J22) -> 2 | M23: =K23*L23 -> 0
A25: E01DPW051 | B25: Partida | C25: m2 | D25: DEMOLICIÓN RECRECIDO MORTERO <10 cm C/MARTILLO ELÉCTRICO
D26: Demolición de recrecido de mortero de hasta 10 cm de espesor, con martillo eléctrico, incluso limpieza y retirada de escombros a pie de carga, sin transporte a vertedero o planta de reciclaje y con parte proporcional de medios auxiliares, sin medidas de protección colectivas. Medición de superficie realmente ejecutada.
E27: huella de aseos | F27: 1 | G27: 43.87 | H27: 0 | I27: 0 | J27: =F27*(G27+ (G27= 0))*(H27+ (H27= 0))*(I27+ (I27= 0)) -> 43.87
J28: E01DPW051 | K28: =SUM(J27:J27) -> 43.87 | M28: =K28*L28 -> 0
J30: 01_DEM | K30: 1 | L30: =M9+M13+M18+M23+M28 -> 0 | M30: =K30*L30 -> 0
A32: 02_ALB | B32: Capítulo | D32: ALBAÑILERÍA, ESTRUCTURA Y FALSOS TECHOS
A33: E05AAT201 | B33: Partida | C33: m | D33: TUBO ESTRUCTURAL RECTANGULAR 150X50X3 mm
D34: Tubo estructural rectangular, tipo S355 J2H RHS 150x50x3 mm, con uniones soldadas, i/p.p. de transporte, despuntes y dos manos de imprimación con pintura de minio de plomo totalmente montado, según CTE-DB-SE-A y EAE. Acero con marcado CE y DdP (Declaración de prestaciones) según Reglamento (UE) 305/2011. | E34: estructura cerramiento perimetral:
E35: verticales en puertas | F35: 4 | G35: 0 | H35: 0 | I35: 4.2 | J35: =F35*(G35+ (G35= 0))*(H35+ (H35= 0))*(I35+ (I35= 0)) -> 16.8
E36: verticales extremos | F36: 2 | G36: 0 | H36: 0 | I36: 4.2 | J36: =F36*(G36+ (G36= 0))*(H36+ (H36= 0))*(I36+ (I36= 0)) -> 8.4
E37: horizontales sobre puertas | F37: 2 | G37: 0.83 | H37: 0 | I37: 0 | J37: =F37*(G37+ (G37= 0))*(H37+ (H37= 0))*(I37+ (I37= 0)) -> 1.66
J38: E05AAT201 | K38: =SUM(J35:J37) -> 26.86 | M38: =K38*L38 -> 0
A40: E05AAT211 | B40: Partida | C40: m | D40: DURMIENTE/ZUNCHO PERFIL UPN 200
D41: Durmiente/zuncho conformado con acero laminado S275 JR, en perfiles laminados en caliente, UPN 200, mediante uniones soldadas; i/p.p. de soldaduras, cortes, piezas especiales, despuntes y dos manos de imprimación con pintura de minio de plomo, montado y colocado, según NTE-EAS/EAV, CTE-DB-SE-A y EAE. Acero con marcado CE y DdP (Declaración de prestaciones) según Reglamento (UE) 305/2011.
E42: durmiente | F42: 1 | G42: 9.46 | H42: 0 | I42: 0 | J42: =F42*(G42+ (G42= 0))*(H42+ (H42= 0))*(I42+ (I42= 0)) -> 9.46
F43: 1 | G43: 7.17 | H43: 0 | I43: 0 | J43: =F43*(G43+ (G43= 0))*(H43+ (H43= 0))*(I43+ (I43= 0)) -> 7.17
E44: zuncho coronación | F44: 1 | G44: 9.46 | H44: 0 | I44: 0 | J44: =F44*(G44+ (G44= 0))*(H44+ (H44= 0))*(I44+ (I44= 0)) -> 9.46
F45: 1 | G45: 7.17 | H45: 0 | I45: 0 | J45: =F45*(G45+ (G45= 0))*(H45+ (H45= 0))*(I45+ (I45= 0)) -> 7.17
J46: E05AAT211 | K46: =SUM(J42:J45) -> 33.26 | M46: =K46*L46 -> 0
A48: E05AAT221 | B48: Partida | C48: m | D48: TUBO CUADRADO ABIERTO 15x40x40x1,5 mm
...

Sheet Resumen
A1: ASEOS PALACIO IFEMA.
A2: Presupuesto
A3: Código | B3: Resumen | D3: ImpPres
A4: 01_DEM | B4: DEMOLICIONES | D4: =Presupuesto!M30 -> 0
A5: 02_ALB | B5: ALBAÑILERÍA, ESTRUCTURA Y FALSOS TECHOS | D5: =Presupuesto!M188 -> 0
A6: 03_PAV | B6: PAVIMENTOS | D6: =Presupuesto!M201 -> 0
A7: 04_ALI | B7: ALICATADOS | D7: =Presupuesto!M233 -> 0
A8: 05_CARP | B8: CARPINTERÍA Y VIDRIO | D8: =Presupuesto!M278 -> 0
A9: 06_ELE | B9: ELECTRICIDAD | D9: =D12 -> 0
A10: EL01.1 | B10: CUADRO DE PROTECCIÓN | D10: =Presupuesto!M286 -> 0
A11: EL01.2 | B11: DISTRIBUCIÓN INTERIOR | D11: =Presupuesto!M356 -> 0
B12: 06_ELE | D12: =SUM(D10:D11) -> 0
A14: 07_FON | B14: FONTANERÍA | D14: =Presupuesto!M390 -> 0
A15: 08_SAN | B15: SANEAMIENTO | D15: =Presupuesto!M453 -> 0
A16: 09_APS | B16: APARATOS SANITARIOS | D16: =Presupuesto!M483 -> 0
A17: 10_VEN | B17: VENTILACIÓN | D17: =Presupuesto!M501 -> 0
A18: 11_PIN | B18: PINTURAS | D18: =Presupuesto!M532 -> 0
A19: 12_ACC | B19: ACCESORIOS | D19: =Presupuesto!M590 -> 0
A20: 13_VAR | B20: VARIOS | D20: =Presupuesto!M610 -> 0
A21: 14_GRC | B21: GESTIÓN DE RESIDUOS | D21: =Presupuesto!M625 -> 0
A22: 15_SYS | B22: SEGURIDAD Y SALUD | D22: =Presupuesto!M632 -> 850
B23: TOTAL EJECUCIÓN MATERIAL | D23: =D4+D5+D6+D7+D8+D12+SUM(D14:D21) -> 0
B25: 13,00% Gastos Generales | C25: =D23*0.13 -> 0
B26: 6,00% Beneficio Industrial | C26: =D23*0.06 -> 0
B27: SUMA DE G.G. y B.I. | D27: =C25+C26 -> 0
B29: TOTAL PRESUPUESTO CONTRATA | D29: =SUM(D23:D28)+D22 -> 850
B31: TOTAL PRESUPUESTO GENERAL | D31: =D29 -> 850
