Workbook

Sheet MAT. COMPLEM. EXPOSITOR MADRIDJ
A1: ANEXO IX B MATERIALES COMPLEMENTARIOS EXPOSITOR
A2: ESTIMACION MADRIDJOYA (No licitables)
A3: ARTICULO | B3: Cantidad | C3: Precios iva excluido | E3: Total
A4: BASE DE ENCHUFE DOBLE HASTA 500 W | B4: 5 | C4: 29.93 | D4: €/Ud. | E4: =B4*C4 -> 149.65
A5: BASE DE ENCHUFE TRIPLE HASTA 500 W | B5: 4 | C5: 33.79 | D5: €/Ud. | E5: =B5*C5 -> 135.16
A6: BASE DE ENCHUFE CUÁDRUPLE HASTA 500 W | B6: 2 | C6: 38.85 | D6: €/Ud. | E6: =B6*C6 -> 77.7
A7: CUADRO ELÉCTRICO TRIFÁSICO 18 KW | B7: 0 | C7: 129.68 | D7: €/Ud. | E7: =B7*C7 -> 0
A8: CUADRO ELÉCTRICO MONOFÁSICO 5 KW | B8: 1 | C8: 44.15 | D8: €/Ud. | E8: =B8*C8 -> 44.15
A9: ENCHUFE MONOFÁSICO HASTA 3500 W | B9: 0 | C9: 42.16 | D9: €/Ud. | E9: =B9*C9 -> 0
A10: ENCHUFE MONOFÁSICO HASTA 500 W | B10: 15 | C10: 24.72 | D10: €/Ud. | E10: =B10*C10 -> 370.8
A11: ENCHUFE TRIFÁSICO CON CONEXIÓN EN PUNTA A PARTIR DE 3.500 W | B11: 0 | C11: 49.42 | D11: €/Ud. | E11: =B11*C11 -> 0
A12: FOCO LED CON BRAZO | B12: =10-2 -> 8 | C12: 45.46 | D12: €/Ud. | E12: =B12*C12 -> 363.68
A13: FOCO LED EN CARRIL | B13: 8 | C13: 39.53 | D13: €/Ud. | E13: =B13*C13 -> 316.24
A14: PROYECTOR HALÓGENO EMPOTRADO DE 300W | B14: 5 | C14: 38.85 | D14: €/Ud. | E14: =B14*C14 -> 194.25
A15: PROYECTOR HALÓGENO EMPOTRADO DICROICO DE 50 W/12 V | B15: 6 | C15: 21.96 | D15: €/Ud. | E15: =B15*C15 -> 131.76
A16: PANTALLA FLUORESCENTE DE 2X40 W | B16: 0 | C16: 72.88 | D16: €/Ud. | E16: =B16*C16 -> 0
A17: PUERTA DE CRISTAL CON CERRADURA | B17: 1 | C17: 110.18 | D17: €/Ud. | E17: =B17*C17 -> 110.18
A18: PUERTA SENCILLA CON LLAVE | B18: 1 | C18: 97.22 | D18: €/Ml. | E18: =B18*C18 -> 97.22
A19: CORTINA DE ALMACÉN | B19: 2 | C19: 27.09 | D19: €/Ud. | E19: =B19*C19 -> 54.18
A20: ESTANTE EN PARED 100X30 HORIZONTAL | B20: 4 | C20: 19.49 | D20: €/Ud. | E20: =B20*C20 -> 77.96
A21: ESTANTE EN PARED 100X30 INCLINADO | B21: 8 | C21: 19.49 | D21: €/Ud. | E21: =B21*C21 -> 155.92
A22: ESTANTE EN PARED 100X50 HORIZONTAL | B22: 8 | C22: 19.49 | D22: €/Ud. | E22: =B22*C22 -> 155.92
A23: MOSTRADOR 100X50X100 | B23: 2 | C23: 47.1 | D23: €/Ud. | E23: =B23*C23 -> 94.2
A24: MOSTRADOR VITRINA | B24: 6 | C24: 67.42 | D24: €/Ud. | E24: =B24*C24 -> 404.52
... A34: VITRINA DE 1,90 x 0,50 x0,56 ILUMINADA CON 6 FOCOS LED DE 30 W | B34: 2 | C34: 248 | D34: €/Ud. | E34: =B34*C34 -> 496
A35: MATERIALES COMPLEMENTARIOS PARA EXPOSITOR A MEDIDA Y BAJO PRESUPUESTO | E35: =2*C12 -> 90.92
A36: ESTIMACIÓN MATERIALES COMPLEMENTARIOS MADRIDJOYA POR EDICIÓN IVA EXCLUIDO (NO ES OBJETO DE LICITACIÓN) | E36: =SUM(E4:E35) -> 4196.57
A37: Nº EDICIONES ESTIMADAS DEL CERTAMEN | E37: 3
A38: TOTAL ESTIMACIÓN MATERIALES COMPLEMENTARIOS MADRIDJOYA IVA EXCLUIDO (NO ES OBJETO DE LICITACIÓN) (1) | E38: =E36*E37 -> 12589.71

Sheet MAT. COMPLEM. EXPOSITOR ESTAMPA
A1: ANEXO IX B MATERIALES COMPLEMENTARIOS EXPOSITOR
A2: ESTIMACION ESTAMPA (No licitables)
A3: ARTICULO | B3: Cantidad | C3: Precios iva excluido | E3: Total
A4: MURO DE PANEL AGLOMERADO DE 10 CM DE GROSOR | B4: =175-5 -> 170 | C4: 57 | D4: €/ml. | E4: =B4*C4 -> 9690
A5: MURO DE PANEL AGLOMERADO SENCILLO | B5: 30 | C5: 45 | D5: €/ml. | E5: =B5*C5 -> 1350
A6: MOQUETA FERIAL | B6: 0 | C6: 3.5 | D6: €/m2. | E6: =B6*C6 -> 0
A7: PUERTA SENCILLA MADERA | B7: 14 | C7: 89 | D7: €/und. | E7: =B7*C7 -> 1246
A8: FOCO LED CON BRAZO | B8: 152 | C8: 45.46 | D8: €/und. | E8: =B8*C8 -> 6909.92
A9: CAMBIO COLOR PINTURA PLASTICA | B9: 0 | C9: 3.1 | D9: €/m2. | E9: =B9*C9 -> 0
A10: CORTINA BLANCA | B10: 0 | C10: 32 | D10: €/und. | E10: =B10*C10 -> 0
A11: TELA NEGRA OPACA | B11: 0 | C11: 13.2 | D11: €/und. | E11: =B11*C11 -> 0
A12: VIGA SUPLEMENTARIA DE PALO DE MADERA (9x4,5 cm.) | B12: 12 | C12: 6.6 | D12: €/und. | E12: =B12*C12 -> 79.2
A13: MATERIALES COMPLEMENTARIOS PARA EXPOSITOR A MEDIDA Y BAJO PRESUPUESTO | E13: =5*C4 -> 285
A14: ESTIMACIÓN MATERIALES COMPLEMENTARIOS ESTAMPA POR EDICIÓN IVA EXCLUIDO (NO ES OBJETO DE LICITACIÓN) | E14: =SUM(E4:E13) -> 19560.12
A15: Nº EDICIONES ESTIMADAS DEL CERTAMEN | E15: 2
A16: TOTAL ESTIMACIÓN MATERIALES COMPLEMENTARIOS ESTAMPA IVA EXCLUIDO (NO ES OBJETO DE LICITACIÓN) (2) | E16: =E14*E15 -> 39120.24

Sheet TOTALES MATERIALES COMPLEMENTAR
A1: ANEXO IX B LOTE 2
A2: MATERIALES COMPLEMENTARIOS EXPOSITOR +IFEMA
B4: Precios unitarios máximos iva excluido | D4: PRECIO UNITARIO OFERTADO PARA EXPOSITOR (a) | E4: PRECIO UNITARIO OFERTADO PARA IFEMA (se aplica un 20 % de descuento del precio para ofertado para expositor) (b) | F4: ESTIMACIÓN UNIDADES EXPOSITOR ( c ) | G4: ESTIMACIÓN UNIDADES IFEMA ( d ) | H4: IMPORTE EXPOSITOR (a) x (c) | I4: IMPORTE IFEMA (b) x ( d )
A6: ARMARIO BAJO 100 x 50 x 60 (MADERA) | B6: 55.91 | C6: €/Ud. | E6: =ROUND(D6-(D6*0.2),2) -> 0 | F6: 6 | G6: 0 | H6: =D6*F6 -> 0 | I6: =E6*G6 -> 0
A7: BANDEROLA (40 x 50 cm.) | B7: 3.61 | C7: €/Ud. | E7: =ROUND(D7-(D7*0.2),2) -> 0 | F7: 4 | G7: 0 | H7: =D7*F7 -> 0 | I7: =E7*G7 -> 0
A8: BASE DE ENCHUFE CUÁDRUPLE HASTA 3500 W CABLE HASTA 10 M (CUADRO NO INCLUIDO) | B8: 6.36 | C8: €/Ud. | E8: =ROUND(D8-(D8*0.2),2) -> 0 | F8: 32 | G8: 0 | H8: =D8*F8 -> 0 | I8: =E8*G8 -> 0
A9: BASE DE ENCHUFE DOBLE HASTA 3500 W CABLE HASTA 10 M (CUADRO NO INCLUIDO) | B9: 4.24 | C9: €/Ud. | E9: =ROUND(D9-(D9*0.2),2) -> 0 | F9: 429 | G9: 0 | H9: =D9*F9 -> 0 | I9: =E9*G9 -> 0
A10: BASE DE ENCHUFE TRIPLE HASTA 3500 W CABLE HASTA 10 M (CUADRO NO INCLUIDO) | B10: 5.31 | C10: €/Ud. | E10: =ROUND(D10-(D10*0.2),2) -> 0 | F10: 183 | G10: 0 | H10: =D10*F10 -> 0 | I10: =E10*G10 -> 0
A11: BASTIDOR DE ALUMINIO | B11: 18.96 | C11: €/Ml. | E11: =ROUND(D11-(D11*0.2),2) -> 0 | F11: 0 | G11: 0 | H11: =D11*F11 -> 0 | I11: =E11*G11 -> 0
A12: BARRA SUPLEMENTARIA ALUMINIO | B12: 3.5 | C12: €/Ml. | E12: =ROUND(D12-(D12*0.2),2) -> 0 | F12: 0 | G12: 0 | H12: =D12*F12 -> 0 | I12: =E12*G12 -> 0
A13: CAMBIO COLOR PINTURA | B13: 3.39 | C13: €/m2 | E13: =ROUND(D13-(D13*0.2),2) -> 0 | F13: 1705 | G13: 0 | H13: =D13*F13 -> 0 | I13: =E13*G13 -> 0
A14: CORTINA | B14: 19.18 | C14: €/Ml. | E14: =ROUND(D14-(D14*0.2),2) -> 0 | F14: 2 | G14: 428 | H14: =D14*F14 -> 0 | I14: =E14*G14 -> 0
A15: ENCHUFE MONOFÁSICO HASTA 3.500 W CABLE HASTA 10 M (CUADRO NO INCLUIDO) | B15: 7.63 | C15: €/Ud. | E15: =ROUND(D15-(D15*0.2),2) -> 0 | F15: 937 | G15: 0 | H15: =D15*F15 -> 0 | I15: =E15*G15 -> 0
A16: ENCHUFE TRIFASICO HASTA 9.000 W. DE 10 M DE LONGITUD CON CETAC DE 16 AMPERIOS MACHO Y HEMBRA EN LOS EXTREMOS (CUADRO NO INCLUIDO) | B16: 11.45 | C16: €/Ud. | E16: =ROUND(D16-(D16*0.2),2) -> 0 | F16: 10 | G16: 0 | H16: =D16*F16 -> 0 | I16: =E16*G16 -> 0
A17: ENCHUFE TRIFASICO HASTA 18.000 W. DE 10 M DE LONGITUD CON CETAC DE 32 AMPERIOS MACHO Y HEMBRA EN LOS EXTREMOS (CUADRO NO INCLUIDO) | B17: 17.18 | C17: €/Ud. | E17: =ROUND(D17-(D17*0.2),2) -> 0 | F17: 83 | G17: 0 | H17: =D17*F17 -> 0 | I17: =E17*G17 -> 0
... A41: PANEL AGLOMERADO PINTADO HASTA 2,44 M ALTURA | B41: 33.55 | C41: €/Ml. | E41: =ROUND(D41-(D41*0.2),2) -> 0 | F41: 60 | G41: 12 | H41: =D41*F41 -> 0 | I41: =E41*G41 -> 0
A42: PANEL AGLOMERADO PINTADO HASTA 3,00 M ALTURA | B42: 41.94 | C42: €/Ml. | E42: =ROUND(D42-(D42*0.2),2) -> 0 | F42: =358.1-15 -> 343.1 | G42: 1889.3 | H42: =D42*F42 -> 0 | I42: =E42*G42 -> 0
A43: PANEL AGLOMERADO PINTADO HASTA 3,66 M ALTURA | B43: 50.32 | C43: €/Ml. | E43: =ROUND(D43-(D43*0.2),2) -> 0 | F43: 191 | G43: 356 | H43: =D43*F43 -> 0 | I43: =E43*G43 -> 0
A44: PANEL MELAMINADO 1ML | B44: 24.74 | C44: €/Ml. | E44: =ROUND(D44-(D44*0.2),2) -> 0 | F44: 71 | G44: 5197.5 | H44: =D44*F44 -> 0 | I44: =E44*G44 -> 0
A45: PANEL MELAMINADO DE DIFERENTE COLOR | B45: 122.31 | C45: €/Ml. | E45: =ROUND(D45-(D45*0.2),2) -> 0 | F45: 0 | G45: 0 | H45: =D45*F45 -> 0 | I45: =E45*G45 -> 0
A46: PERCHERO EN PARED | B46: 15.1 | C46: €/Ud. | E46: =ROUND(D46-(D46*0.2),2) -> 0 | F46: 0 | G46: 0 | H46: =D46*F46 -> 0 | I46: =E46*G46 -> 0
A47: PODIUM 50 X 50 X 100 | B47: 23.52 | C47: €/Ud. | E47: =ROUND(D47-(D47*0.2),2) -> 0 | F47: 35 | G47: 2 | H47: =D47*F47 -> 0 | I47: =E47*G47 -> 0
A48: PODIUM 50 X 50 X 50 | B48: 21.01 | C48: €/Ud. | E48: =ROUND(D48-(D48*0.2),2) -> 0 | F48: 22 | G48: 0 | H48: =D48*F48 -> 0 | I48: =E48*G48 -> 0
A49: PODIUM 50 X 50 X 75 | B49: 22.25 | C49: €/Ud. | E49: =ROUND(D49-(D49*0.2),2) -> 0 | F49: 16 | G49: 0 | H49: =D49*F49 -> 0 | I49: =E49*G49 -> 0
A50: PODIUM 50X50X100 (MADERA) | B50: 43.98 | C50: €/Ud. | E50: =ROUND(D50-(D50*0.2),2) -> 0 | F50: 17 | G50: 0 | H50: =D50*F50 -> 0 | I50: =E50*G50 -> 0
A51: PODIUM 50X50X50 (MADERA) | B51: 37.71 | C51: €/Ud. | E51: =ROUND(D51-(D51*0.2),2) -> 0 | F51: 24 | G51: 48 | H51: =D51*F51 -> 0 | I51: =E51*G51 -> 0
A52: PODIUM 50X50X75 (MADERA) | B52: 40.26 | C52: €/Ud. | E52: =ROUND(D52-(D52*0.2),2) -> 0 | F52: 15 | G52: 0 | H52: =D52*F52 -> 0 | I52: =E52*G52 -> 0
A53: PUERTA ACRISTALADA CON LLAVE | B53: 78.53 | C53: €/Ud. | E53: =ROUND(D53-(D53*0.2),2) -> 0 | F53: 0 | G53: 0 | H53: =D53*F53 -> 0 | I53: =E53*G53 -> 0
A54: PUERTA DOBLE CON LLAVE | B54: 82.71 | C54: €/Ud. | E54: =ROUND(D54-(D54*0.2),2) -> 0 | F54: 6 | G54: 104 | H54: =D54*F54 -> 0 | I54: =E54*G54 -> 0
... A67: VITRINA 100 X 50 CON LUZ (CONEXIÓN INCLUIDA) | B67: 114.71 | C67: €/Ud. | E67: =ROUND(D67-(D67*0.2),2) -> 0 | F67: 0 | G67: 0 | H67: =D67*F67 -> 0 | I67: =E67*G67 -> 0
A68: MATERIALES COMPLEMENTARIOS PARA EXPOSITOR A MEDIDA Y BAJO PRESUPUESTO (NO LICITABLES) | H68: =15*D42 -> 0
A69: MATERIALES EXPECIFICOS
A70: CUERPO ESTANTERIA (5+1 Estante) (LIBER) | B70: 33.13 | C70: €/Ud. | E70: =ROUND(D70-(D70*0.2),2) -> 0 | F70: 40 | G70: 0 | H70: =D70*F70 -> 0 | I70: =E70*G70 -> 0
A71: TELA SERIGRAFIADA (BISUTEX) | B71: 31.59 | C71: €/m2 | E71: =ROUND(D71-(D71*0.2),2) -> 0 | F71: 0 | G71: 0 | H71: =D71*F71 -> 0 | I71: =E71*G71 -> 0
A72: TELA SIN SERIGRAFÍA (BISUTEX) | B72: 8.84 | C72: €/m2 | E72: =ROUND(D72-(D72*0.2),2) -> 0 | F72: 150 | G72: 0 | H72: =D72*F72 -> 0 | I72: =E72*G72 -> 0
A73: TOTALES COMPLEMENTOS EXPOSITOR+IFEMA | H73: =SUM(H6:H72) -> 0 | I73: =SUM(I6:I72) -> 0
H74: (3) | I74: (4)
A75: (*) El ofertante deberá consignar el precio unitario ofertado para expositores en aquellos materiales cuya destino puede ser para expositores o para IFEMA. En caso del uso para IFEMA, el precio ofertado para expositores se aplicará un descuento de un 20 %
A77: El ofertante únicamente deberá cumplimentar las celdas de precios unitarios con fondo AZUL. | H77: =SUM(H73:I73) -> 0
A79: MATERIALES COMPLEMENTARIOS ESPECIFICOS ESTAMPA | H79: 39120.24
...

Sheet PROYECTOS
A1: FICHA -A- LOTE 1
A2: PROYECTOS DE DISEÑO FERIAL
B4: Nº DE EDICIONES ESTIMADAS (A) | C4: Precio unitario máximo montaje IVA EXCLUIDO | D4: Precio unitario ofertado montaje IVA EXCLUIDO (B) | E4: Subtotal ofertado montaje IVA EXCLUIDO (A) X (B)
A6: MATELEC | B6: 2 | C6: 11891.02 | E6: =D6*B6 -> 0
A7: MATELEC INDUSTRY 2021 | B7: 2 | C7: 3583.27 | E7: =D7*B7 -> 0
A8: GENERA | B8: 3 | C8: 7280.67 | E8: =D8*B8 -> 0
A9: MULAFEST | B9: 3 | C9: 25994.56 | E9: =D9*B9 -> 0
A10: GAMERGY | B10: 3 | C10: 52700.76 | E10: =D10*B10 -> 0
A11: SPAINSKILLS | B11: 2 | C11: 47464.24 | E11: =D11*B11 -> 0
A12: BISUTEX 2ª ED. | B12: 2 | C12: 1059.86 | E12: =D12*B12 -> 0
A13: EXPOFRANQUICIA | B13: 3 | C13: 4372.26 | E13: =D13*B13 -> 0
A14: LIBER | B14: 1 | C14: 21597.93 | E14: =D14*B14 -> 0
A15: PROMOGIFT | B15: 3 | C15: 3288.12 | E15: =D15*B15 -> 0
A16: ESTAMPA | B16: 2 | C16: 9006.38 | E16: =D16*B16 -> 0
A17: SIMO | B17: 2 | C17: 11452.56 | E17: =D17*B17 -> 0
... A28: FRUIT ATTRACTION | B28: 2 | C28: 57745.34 | E28: =D28*B28 -> 0
A29: TOTAL PROYECTOS DISEÑO FERIAL IVA EXCLUIDO (5) | E29: =SUM(E6:E28) -> 0
A32: (cumplimentar las celdas en azul)

Sheet TOTAL 
A1: ANEXO IX - B- LOTE 2
A2: TOTAL OFERTA
B5: ESTIMACIÓN M2 (a) | C5: PRESUPUESTO UNITARIO MAX (EUR / M2) IVA EXCLUIDO | D5: PARTIDAS | E5: PRECIOS UNITARIOS OFERTADO POR PARTIDAS €/M2 | F5: PRECIO UNITARIO TOTAL OFERTADO (sumatorio de precios unitarios por partidas) €/M2 OFERTADO IVA EXCLUIDO (b) | G5: TOTAL (a) x (b)
A6: Abierto | B6: 3002 | C6: 14 | D6: ESTRUCTURA | F6: =SUM(E6:E9) -> 0 | G6: =F6*B6 -> 0
D7: INSTALACIÓN ELÉCTRICA
D8: ROTULACIÓN
D9: PAVIMENTACIÓN
A10: Almancen modular aluminio | B10: 144 | C10: 13.45 | D10: ESTRUCTURA | F10: =SUM(E10:E13) -> 0 | G10: =F10*B10 -> 0
D11: INSTALACIÓN ELÉCTRICA
D12: ROTULACIÓN
D13: PAVIMENTACIÓN
A14: Archy | B14: 878 | C14: 24.1 | D14: ESTRUCTURA | F14: =SUM(E14:E17) -> 0 | G14: =F14*B14 -> 0
D15: INSTALACIÓN ELÉCTRICA
D16: ROTULACIÓN
D17: PAVIMENTACIÓN
A18: Área Colectiva | B18: 304 | C18: 39 | D18: ESTRUCTURA | F18: =SUM(E18:E21) -> 0 | G18: =F18*B18 -> 0
D19: INSTALACIÓN ELÉCTRICA
D20: ROTULACIÓN
D21: PAVIMENTACIÓN
A22: Area Mini | B22: 1697 | C22: 31.6 | D22: ESTRUCTURA | F22: =SUM(E22:E25) -> 0 | G22: =F22*B22 -> 0
D23: INSTALACIÓN ELÉCTRICA
D24: ROTULACIÓN
D25: PAVIMENTACIÓN
A26: Bisutex | B26: 10839 | C26: 25.66 | D26: ESTRUCTURA | F26: =SUM(E26:E29) -> 0 | G26: =F26*B26 -> 0
D27: INSTALACIÓN ELÉCTRICA
D28: ROTULACIÓN
D29: PAVIMENTACIÓN
A30: Cerrado | B30: 2166 | C30: 45 | D30: ESTRUCTURA | F30: =SUM(E30:E33) -> 0 | G30: =F30*B30 -> 0
D31: INSTALACIÓN ELÉCTRICA
D32: ROTULACIÓN
D33: PAVIMENTACIÓN
A34: Promogift | B34: 11775 | C34: 28 | D34: ESTRUCTURA | F34: =SUM(E34:E37) -> 0 | G34: =F34*B34 -> 0
D35: INSTALACIÓN ELÉCTRICA
D36: ROTULACIÓN
D37: PAVIMENTACIÓN
A38: Club Gamergy | B38: 328 | C38: 82.11 | D38: ESTRUCTURA | F38: =SUM(E38:E41) -> 0 | G38: =F38*B38 -> 0
D39: INSTALACIÓN ELÉCTRICA
D40: ROTULACIÓN
D41: PAVIMENTACIÓN
A42: Liber | B42: 1600 | C42: 16.18 | D42: ESTRUCTURA | F42: =SUM(E42:E45) -> 0 | G42: =F42*B42 -> 0
...
