Workbook

Sheet PRUEBAS COLOR
A1: PRUEBAS DE COLOR
A3: MEDIDAS | B3: UNIDADES PREVISTAS (a) | C3: IMPORTE UNITARIO MAXIMO DE LICITACIÓN (IVA EXCLUIDO) | D3: IMPORTE UNITARIO OFERTADO (IVA EXCLUIDO) (b) | E3: IMPORTE TOTAL OFERTADO (a x b)(IVA EXCLUIDO)
A4: Menos 10 x 15 | B4: 35 | C4: 3.15 | E4: =B4*D4 -> 0
A5: 10 x 15 | B5: 30 | C5: 3.15 | E5: =B5*D5 -> 0
A6: 10 x 20 | B6: 125 | C6: 3.255 | E6: =B6*D6 -> 0
A7: 20 x 20 | B7: 15 | C7: 3.717 | E7: =B7*D7 -> 0
A8: A-5 | B8: 210 | C8: 3.717 | E8: =B8*D8 -> 0
A9: A-4 | B9: 175 | C9: 4.2 | E9: =B9*D9 -> 0
A10: A-3 | B10: 35 | C10: 7.35 | E10: =B10*D10 -> 0
A11: TOTAL | B11: =SUM(B4:B10) -> 625 | C11: --- | E11: =SUM(E4:E10) -> 0

Sheet IMPRESION 70X100
A1: TARIFAS DE IMPRESIÓN
A3: MÁQUINA 70 X 100 (O SUPERIOR)
A5: ARRANQUE | B5: Nº TRABAJOS PREVISTOS (a) | C5: IMPORTE UNITARIO MAXIMO DE LICITACIÓN (IVA EXCLUIDO) | D5: IMPORTE UNITARIO OFERTADO (IVA EXCLUIDO)(b) | E5: IMPORTE TOTAL OFERTADO (a x b) (IVA EXCLUIDO)
A6: 4 colores | B6: 20 | C6: 68.25 | E6: =B6*D6 -> 0
A7: 5 colores | B7: 13 | C7: 85.05 | E7: =B7*D7 -> 0
A8: 8 colores | B8: 75 | C8: 134.4 | E8: =B8*D8 -> 0
A9: TOTAL | B9: =SUM(B6:B8) -> 108 | C9: --- | D9: --- | E9: =SUM(E6:E8) -> 0
A10: El licitador debe tener en cuenta, al incorporar el precio unitario, que para los trabajos solicitados se aplicará un solo arranque, independientemente que se realicen en tira/retira o anverso/reverso. IFEMA no admitirá presupuestar más de un arranque, en la aplicación de estas tarifas en los presupuestos de los trabajos concretos de cada programa ferial, excepto en los casos que por formato y número de páginas sea necesario.
A12: PLANCHAS | B12: UNIDADES PREVISTAS (a) | C12: IMPORTE UNITARIO MAXIMO DE LICITACIÓN (IVA EXCLUIDO) | D12: IMPORTE UNITARIO OFERTADO (IVA EXCLUIDO)(b) | E12: IMPORTE TOTAL OFERTADO (a x b) (IVA EXCLUIDO)
B13: 745 | C13: 16.065 | E13: =B13*D13 -> 0
A15: TIRADA 4 COLORES | B15: PLIEGOS PREVISTOS (millares) (a) | C15: IMPORTE UNITARIO MAXIMO DE LICITACIÓN POR COLOR (por millar) (IVA EXCLUIDO) | D15: IMPORTE UNITARIO OFERTADO (por millar)(IVA EXCLUIDO) (b) | E15: IMPORTE TOTAL OFERTADO = (a) x (b) x 4 colores (IVA EXCLUIDO)
A16: Hasta 2 millares | B16: 17 | C16: 4.9875 | E16: =B16*D16 -> 0
A17: Más de 2 a 5 millares | B17: 11 | C17: 4.515 | E17: =B17*D17 -> 0
A18: Más de 5 a 10 Millares | B18: 13 | C18: 4.389 | E18: =B18*D18 -> 0
A19: Más de 10 millares | B19: 14 | C19: 4.095 | E19: =B19*D19 -> 0
A20: TOTAL | B20: =SUM(B16:B19) -> 55 | C20: --- | D20: --- | E20: =SUM(E16:E19) -> 0
A22: TIRADA 5 COLORES | B22: PLIEGOS PREVISTOS (millares) (a) | C22: IMPORTE UNITARIO MAXIMO DE LICITACIÓN POR COLOR (por millar) (IVA EXCLUIDO) | D22: IMPORTE UNITARIO OFERTADO (por millar)(IVA EXCLUIDO) (b) | E22: IMPORTE TOTAL OFERTADO = (a) x (b) x 5 colores (IVA EXCLUIDO)
A23: Hasta 2 millares | B23: 8 | C23: 4.41 | E23: =B23*D23 -> 0
A24: Más de 2 a 5 millares | B24: 17.5 | C24: 3.885 | E24: =B24*D24 -> 0
A25: Más de 5 a 10 Millares | B25: 6 | C25: 3.675 | E25: =B25*D25 -> 0
A26: Más de 10 | B26: 15 | C26: 3.5175 | E26: =B26*D26 -> 0
A27: TOTAL | B27: =SUM(B23:B26) -> 46.5 | C27: --- | D27: --- | E27: =SUM(E23:E26) -> 0
A29: TIRADA 8 COLORES | B29: PLIEGOS PREVISTOS (millares) (a) | C29: IMPORTE UNITARIO MAXIMO DE LICITACIÓN POR COLOR (por millar) (IVA EXCLUIDO) | D29: IMPORTE UNITARIO OFERTADO (por millar) (IVA EXCLUIDO) (b) | E29: IMPORTE TOTAL OFERTADO = (a) x (b) x 8 colores (IVA EXCLUIDO)
A30: Hasta 2 millares | B30: 35 | C30: 3.885 | E30: =B30*D30 -> 0
A31: Más de 2 a 5 millares | B31: 60 | C31: 3.5175 | E31: =B31*D31 -> 0
A32: Más de 5 a 10 Millares | B32: 120 | C32: 3.3075 | E32: =B32*D32 -> 0
A33: Más de 10 | B33: 120 | C33: 3.255 | E33: =B33*D33 -> 0
A34: TOTAL | B34: =SUM(B30:B33) -> 335 | C34: --- | D34: --- | E34: =SUM(E30:E33) -> 0
A36: TOTAL IMPRESIÓN MÁQUINA 70 x 100 | E36: =SUM(E34,E27,E20,E13,E9) -> 0

Sheet IMPRESION DATO VARIABLE
A1: IMPRESIÓN ELEMENTOS DATO VARIABLE
A3: Se deberá indicar el IMPORTE POR UNIDAD terminada, excepto el COSTE DEL PAPEL ya incluido en la ficha de CONSUMO DE PAPEL, contemplando todos los trabajos a realizar hasta la entrega del elemento, incluidas las pruebas de personalización y prueba de color. También incluirá todos los costes en el caso de que se realice la impresión en máquina en plano (pruebas de color, arranque, planchas, tirada, barniz si lo requiere, personalización, corte y fajado). La impresión del dato variable se realizará en la misma cara en todos los casos.
A5: INVITACIÓN A
A6: Características: 4/4 colores. Medidas: 18,8 x 5,5. Dato variable: código de barras secuencial y numerado. Fajado a 100 ejemplares
A8: TIRADA POR TRABAJO (a) | B8: Nº TRABAJOS PREVISTOS (b) | C8: PRECIO MILLAR MAXIMO DE LICITACIÓN (IVA EXCLUIDO) | D8: PRECIO MILLAR OFERTADO. (IVA EXCLUIDO) (c ) | E8: IMPORTE TOTAL OFERTADO (a x b x c) (IVA EXCLUIDO)
A9: 100000 | B9: 1 | C9: 10.8 | E9: =B9*D9 -> 0
A10: Se aplicará el importe unitario de este elemento para tiradas entre 80.000 y 120.000
A12: INVITACIÓN B
A13: Características: 4/4 colores. Medidas: 8,5 x 20. Dato variable: código de barras secuencial. Fajado a 100 ejemplares
A15: TIRADA POR TRABAJO (a) | B15: Nº TRABAJOS PREVISTOS (b) | C15: PRECIO MILLAR MAXIMO DE LICITACIÓN (IVA EXCLUIDO) | D15: PRECIO MILLAR OFERTADO. (IVA EXCLUIDO) (c ) | E15: IMPORTE TOTAL OFERTADO (a x b x c)(IVA EXCLUIDO)
A16: 30000 | B16: 2 | C16: 16.8 | E16: =B16*D16 -> 0
A17: Se aplicará el importe unitario de este elemento para tiradas entre 20.000 y 40.000
A19: IMPORTE TOTAL ELEMENTOS DATO VARIABLE | E19: =SUM(E16,E9) -> 0

Sheet TARJETAS DE VISITA
A2: TARJETAS DE VISITA
A4: Características: Impresión: 4/1 colores. Medidas: 9 x 5,5 cm. Olin smooth Absolute white 300 g FSC ó PEFC. Presentación en cajas de metacrilato 90/100 uds.
A5: TIRADA | B5: TRABAJOS PREVISTOS (a) | C5: IMPORTE POR TRABAJO ACABADO MAXIMO DE LICITACIÓN (IVA EXCLUIDO) | D5: IMPORTE POR TRABAJO ACABADO MAXIMO DE LICITACIÓN (IVA EXCLUIDO) (b) | E5: IMPORTE TOTAL OFERTADO (a x b) (IVA EXCLUIDO)
A6: 250 | B6: 10 | C6: 90 | E6: =B6*D6 -> 0
A7: 500 | B7: 15 | C7: 105 | E7: =B7*D7 -> 0
A8: 1000 | B8: 4 | C8: 116 | E8: =B8*D8 -> 0
A9: 1500 | B9: 1 | C9: 121 | E9: =B9*D9 -> 0
A10: 2000 | B10: 1 | C10: 195 | E10: =B10*D10 -> 0
A12: TOTAL TARJETAS DE VISITA | E12: =SUM(E6:E10) -> 0
A14: Se debe indicar el importe por trabajo acabado, contemplando TODOS los costes, pre-impresión, prueba color, impresión, corte y empaquetado en cajas de metacrilato, INCLUIDO el COSTE DEL PAPEL
A15: En aquellos trabajos en los que se envíen varios modelos de tarjetas al mismo tiempo se calculará un presupuesto aparte en tirada conjunta

Sheet ACABADOS
A1: ACABADOS
A3: BARNIZ OFFSET MÁQUINA 70x100
A5: PROCESO | B5: UNIDADES PREVISTAS (a) | C5: IMPORTE UNITARIO MAXIMO DE LICITACIÓN (IVA EXCLUIDO) | D5: IMPORTE UNITARIO OFERTADO (IVA EXCLUIDO) (b) | E5: IMPORTE TOTAL OFERTADO (a x b) (IVA EXCLUIDO)
A6: Arranque * | B6: 45 | C6: 16.8
A7: Pliego (importe por millar) | B7: 225 | C7: 4.095
A8: Plancha | B8: 80 | C8: 14.7
A9: TOTAL | B9: --- | C9: --- | E9: =SUM(E6:E8) -> 0
A10: * Para cada trabajo de barnizado tira/retira solicitado, se aplicará 1 SOLO ARRANQUE en la facturación
A12: PLASTIFICADO
A14: PROCESO | B14: UNIDADES PREVISTAS (a) | C14: IMPORTE UNITARIO MAXIMO DE LICITACIÓN (IVA EXCLUIDO) | D14: IMPORTE UNITARIO OFERTADO (IVA EXCLUIDO) (b) | E14: IMPORTE TOTAL OFERTADO (a x b) (IVA EXCLUIDO)
A15: Polipropileno mate (importe por m2) | B15: 9000 | C15: 0.16275
A16: Polipropileno brillo (importe por m2) | B16: 10000 | C16: 0.1281
A17: TOTAL | B17: --- | C17: --- | E17: =SUM(E15:E16) -> 0
A19: UVI SERIGRAFÍA
A21: PROCESO | B21: UNIDADES PREVISTAS (a) | C21: IMPORTE UNITARIO MAXIMO DE LICITACIÓN (IVA EXCLUIDO) | D21: IMPORTE UNITARIO OFERTADO (IVA EXCLUIDO) (b) | E21: IMPORTE TOTAL OFERTADO (a x b) (IVA EXCLUIDO)
A22: Arranque | B22: 9 | C22: 30
A23: Plancha | B23: 9 | C23: 27
A24: UVI BRILLO Con reserva (importe por m2) | B24: 10000 | C24: 0.126
A25: UVI MATE Con reserva (importe por m2) | B25: 750 | C25: 0.3675
A26: Pasada por Pliego (importe por millar) | B26: 20 | C26: 75
A27: TOTAL | B27: --- | C27: --- | E27: =SUM(E22:E26) -> 0
A29: CORTE
A31: CANTIDADES | B31: MILLARES PREVISTOS (a) | C31: IMPORTE UNITARIO MAXIMO DE LICITACIÓN (por millar) (IVA EXCLUIDO) | D31: IMPORTE UNITARIO OFERTADO (por millar) (IVA EXCLUIDO) (b) | E31: IMPORTE TOTAL OFERTADO (a x b) (IVA EXCLUIDO)
A32: Hasta 50.000 ejemplares | B32: 700 | C32: 0.819
A33: De 50.001 a 200.000 | B33: 200 | C33: 0.7875
A34: TOTAL | B34: =SUM(B32:B33) -> 900 | C34: --- | E34: =SUM(E32:E33) -> 0
A36: FAJADO (PRECIO POR FAJA)
A38: CANTIDADES | B38: Nº FAJADOS (a) | C38: IMPORTE UNITARIO MAXIMO DE LICITACIÓN POR FAJA (IVA EXCLUIDO) | D38: IMPORTE UNITARIO OFERTADO POR FAJA (IVA EXCLUIDO) (b) | E38: IMPORTE TOTAL OFERTADO (a x b) (IVA EXCLUIDO)
A39: Faja de 100 unidades | B39: 2000 | C39: 0.105 | E39: =B39*D39 -> 0
A40: Faja 250 unidades | B40: 4000 | C40: 0.0735 | E40: =B40*D40 -> 0
A41: TOTAL | B41: =SUM(B39:B40) -> 6000 | C41: --- | D41: --- | E41: =SUM(E39:E40) -> 0
A43: TROQUELADOS 70 x 100
A45: PROCESO | B45: UNIDADES PREVISTAS (a) | C45: IMPORTE UNITARIO MAXIMO DE LICITACIÓN (IVA EXCLUIDO) | D45: IMPORTE UNITARIO OFERTADO (IVA EXCLUIDO) (b) | E45: IMPORTE TOTAL OFERTADO (a x b) (IVA EXCLUIDO)
A46: Arranque | B46: 17 | C46: 26.25 | E46: =B46*D46 -> 0
A47: Pliego (importe por millar) | B47: 35 | C47: 17.85 | E47: =B47*D47 -> 0
A50: TOTAL | B50: --- | C50: --- | D50: --- | E50: =SUM(E46:E47) -> 0
A52: TOTAL ACABADOS | E52: =SUM(E50,E41,E34,E27,E17,E9) -> 0

Sheet ENCUERDENACIÓN HASTA 170G
A1: TARIFAS DE ENCUADERNACIÓN HASTA 170 GR.
A3: PLEGADO TAMAÑO CERRADO 10 x 20 (HASTA 170 GR.)
A5: ARRANQUE | G5: PLEGADO (Hasta 15.000 ejemplares)
A6: FORMATOS | B6: TRABAJOS PREVISTOS (a) | C6: IMPORTE UNITARIO MAXIMO DE LICITACIÓN (IVA EXCLUIDO) | D6: IMPORTE UNITARIO OFERTADO (IVA EXCLUIDO) (b) | E6: IMPORTE TOTAL OFERTADO (IVA EXCLUIDO) (a x b) | G6: FORMATOS | H6: MILLARES PREVISTOS (a) | I6: IMPORTE MAXIMO DE LICITACIÓN POR MILLAR (IVA EXCLUIDO) | J6: IMPORTE OFERTADO POR MILLAR (IVA EXCLUIDO) (b) | K6: IMPORTE TOTAL OFERTADO (IVA EXCLUIDO) (a x b)
A7: Díptico | B7: 1 | C7: 57.75 | E7: =B7*D7 -> 0 | G7: Díptico | H7: 10 | I7: 2.1525 | K7: =H7*J7 -> 0
A8: Tríptico envolvente | B8: 1 | C8: 57.75 | E8: =B8*D8 -> 0 | G8: Tríptico envolvente | H8: 2 | I8: 2.4675 | K8: =H8*J8 -> 0
A9: 4 Cuerpos en ventana | B9: 1 | C9: 57.75 | E9: =B9*D9 -> 0 | G9: 4 Cuerpos en ventana | H9: 2 | I9: 5.5125 | K9: =H9*J9 -> 0
A10: TOTAL | E10: =SUM(E7:E9) -> 0 | G10: TOTAL | K10: =SUM(K7:K9) -> 0
A12: TOTAL PLEGADOS 10 x 20 | E12: =SUM(E10,K10) -> 0
A14: PLEGADO TAMAÑO CERRADO A5 (HASTA 170 GR.)
A16: ARRANQUE A5 | G16: PLEGADO (Hasta 15.000 ejemplares)
A17: FORMATOS | B17: TRABAJOS PREVISTOS (a) | C17: IMPORTE UNITARIO MAXIMO DE LICITACIÓN (IVA EXCLUIDO) | D17: IMPORTE UNITARIO OFERTADO (IVA EXCLUIDO) (b) | E17: IMPORTE TOTAL OFERTADO (IVA EXCLUIDO) (a x b) | G17: FORMATOS | H17: MILLARES PREVISTOS (a) | I17: IMPORTE MAXIMO DE LICITACIÓN POR MILLAR (IVA EXCLUIDO) | J17: IMPORTE OFERTADO POR MILLAR (IVA EXCLUIDO) (b) | K17: IMPORTE TOTAL OFERTADO (IVA EXCLUIDO) (a x b)
A18: Díptico | B18: 1 | C18: 57.75 | E18: =B18*D18 -> 0 | G18: Díptico | H18: 2 | I18: 2.1735 | K18: =H18*J18 -> 0
A19: Tríptico envolvente | B19: 1 | C19: 57.75 | E19: =B19*D19 -> 0 | G19: Tríptico envolvente | H19: 3 | I19: 2.478 | K19: =H19*J19 -> 0
A20: 4 Cuerpos en ventana | B20: 1 | C20: 57.75 | E20: =B20*D20 -> 0 | G20: 4 Cuerpos en ventana | H20: 2 | I20: 5.523 | K20: =H20*J20 -> 0
A21: TOTAL | E21: =SUM(E18:E20) -> 0 | G21: TOTAL | K21: =SUM(K18:K20) -> 0
A23: TOTAL PLEGADOS A5 | E23: =SUM(E21,K21) -> 0
A25: PLEGADO TAMAÑO CERRADO A4 (HASTA 170 GR.)
A27: ARRANQUE | G27: PLEGADO (Hasta 15.000 ejemplares)
A28: FORMATOS | B28: TRABAJOS PREVISTOS (a) | C28: IMPORTE UNITARIO MAXIMO DE LICITACIÓN (IVA EXCLUIDO) | D28: IMPORTE UNITARIO OFERTADO (IVA EXCLUIDO) (b) | E28: IMPORTE TOTAL OFERTADO (IVA EXCLUIDO)(a x b) | G28: FORMATOS | H28: MILLARES PREVISTOS (a) | I28: IMPORTE MAXIMO DE LICITACIÓN POR MILLAR (IVA EXCLUIDO) | J28: IMPORTE OFERTADO POR MILLAR (IVA EXCLUIDO) (b) | K28: IMPORTE TOTAL OFERTADO (IVA EXCLUIDO) (a x b)
A29: Díptico | B29: 3 | C29: 57.75 | E29: =B29*D29 -> 0 | G29: Díptico | H29: 7 | I29: 2.436 | K29: =H29*J29 -> 0
A30: Tríptico envolvente | B30: 1 | C30: 57.75 | E30: =B30*D30 -> 0 | G30: Tríptico envolvente | H30: 5 | I30: 2.7405 | K30: =H30*J30 -> 0
A31: Tríptico envolvente y al centro en cruz 16,6 x 25 | B31: 1 | C31: 57.75 | E31: =B31*D31 -> 0 | G31: Tríptico envolvente y al centro en cruz 16,6 x 25 | H31: 6 | I31: 5.145 | K31: =H31*J31 -> 0
A32: 4 Cuerpos en ventana | B32: 1 | C32: 57.75 | E32: =B32*D32 -> 0 | G32: 4 Cuerpos en ventana | H32: 5 | I32: 6.72 | K32: =H32*J32 -> 0
A33: TOTAL | E33: =SUM(E29:E32) -> 0 | G33: TOTAL | K33: =SUM(K29:K32) -> 0
A35: TOTAL PLEGADOS A4 | E35: =SUM(E33,K33) -> 0
A37: COMPLET HASTA 170 GR.
C39: ARRANQUE | G39: PLEGADO (*)
A40: FORMATOS | B40: UNIDADES | C40: TRABAJOS PREVISTOS (a) | D40: IMPORTE UNITARIO MAXIMO DE LICITACIÓN (IVA EXCLUIDO) | E40: IMPORTE UNITARIO OFERTADO (IVA EXCLUIDO) (b) | F40: IMPORTE TOTAL OFERTADO (IVA EXCLUIDO)(a x b) | G40: EJEMPLARES PREVISTOS (EN MILLARES) (c ) | H40: IMPORTE MAXIMO DE LICITACIÓN POR MILLAR (IVA EXCLUIDO) | I40: IMPORTE OFERTADO POR MILLAR (IVA EXCLUIDO) (d) | J40: IMPORTE TOTAL OFERTADO (IVA EXCLUIDO)(c x d)
A41: Díptico. 15 x 21 cm cerrado 30 x 21 cm abierto | B41: De 10.001 hasta 25.000 ejemplares | C41: 1 | D41: 57.75 | F41: =C41*E41 -> 0 | G41: 14 | H41: 13.86 | J41: =G41*I41 -> 0
A42: Diptico 20 x 20 cm cerrado 40 x 20 cm abierto. | B42: De 25.001 hasta 50.000 ejemplares | C42: 1 | D42: 57.75 | F42: =C42*E42 -> 0 | G42: 45 | H42: 13.86 | J42: =G42*I42 -> 0
C44: TOTAL | F44: =SUM(F41:F42) -> 0 | G44: TOTAL | J44: =SUM(J41:J42) -> 0
C46: TOTAL COMPLET HASTA 170 GR (ARRANQUE + PLEGADO) | F46: =SUM(F44,J44) -> 0
A48: IMPORTE TOTAL ENCUADERNACIÓN HASTA 170G | K48: =SUM(F46,E35,E23,E12) -> 0

Sheet ENCUADERNACION MAS 170G
A1: TARIFAS DE ENCUADERNACIÓN MÁS DE 170 GR.
A3: PLEGADO TAMAÑO CERRADO 10 x 20 (MÁS DE 170 GR.)
A5: ARRANQUE | G5: PLEGADO (Hasta 15.000 ejemplares)
A6: FORMATOS | B6: TRABAJOS PREVISTOS (a) | C6: IMPORTE UNITARIO MAXIMO DE LICITACIÓN (IVA EXCLUIDO) | D6: IMPORTE OFERTADO (IVA EXCLUIDO) (b) | E6: IMPORTE TOTAL OFERTADO (IVA EXCLUIDO)(a x b) | G6: FORMATOS | H6: MILLARES PREVISTOS (a) | I6: IMPORTE MAXIMO DE LICITACIÓN POR MILLAR (IVA EXCLUIDO) | J6: IMPORTE OFERTADO POR MILLAR (IVA EXCLUIDO) (b) | K6: IMPORTE TOTAL OFERTADO (IVA EXCLUIDO) (a x b)
A7: Díptico | B7: 1 | C7: 57.75 | E7: =B7*D7 -> 0 | G7: Díptico | H7: 3 | I7: 2.9925 | K7: =H7*J7 -> 0
A8: Tríptico envolvente | B8: 1 | C8: 57.75 | E8: =B8*D8 -> 0 | G8: Tríptico envolvente | H8: 4 | I8: 3.3075 | K8: =H8*J8 -> 0
A9: 4 Cuerpos en ventana | B9: 1 | C9: 57.75 | E9: =B9*D9 -> 0 | G9: 4 Cuerpos en ventana | H9: 1 | I9: 6.405 | K9: =H9*J9 -> 0
A10: 4 Cuerpos Acordeón | B10: 1 | C10: 57.75 | E10: =B10*D10 -> 0 | G10: 4 Cuerpos Acordeón | H10: 2 | I10: 6.3 | K10: =H10*J10 -> 0
A11: TOTAL | E11: =SUM(E7:E10) -> 0 | G11: TOTAL | K11: =SUM(K7:K10) -> 0
A13: TOTAL PLEGADOS 10 x 20 | E13: =SUM(E11,K11) -> 0
A15: PLEGADO TAMAÑO CERRADO A4 (MÁS DE 170 GR.)
A17: ARRANQUE | G17: PLEGADO (Hasta 15.000 ejemplares)
A18: FORMATOS | B18: TRABAJOS PREVISTOS (a) | C18: IMPORTE UNITARIO MAXIMO DE LICITACIÓN (IVA EXCLUIDO) | D18: IMPORTE UNITARIO OFERTADO (IVA EXCLUIDO) (b) | E18: IMPORTE TOTAL OFERTADO (IVA EXCLUIDO)(a x b) | G18: FORMATOS | H18: MILLARES PREVISTOS (a) | I18: IMPORTE MAXIMO DE LICITACIÓN POR MILLAR (IVA EXCLUIDO) | J18: IMPORTE OFERTADO POR MILLAR (IVA EXCLUIDO) | K18: IMPORTE TOTAL OFERTADO (IVA EXCLUIDO)(a x b)
A19: Díptico | B19: 2 | C19: 57.75 | E19: =B19*D19 -> 0 | G19: Díptico | H19: 2 | I19: 2.6775 | K19: =H19*J19 -> 0
A20: Tríptico envolvente | B20: 2 | C20: 57.75 | E20: =B20*D20 -> 0 | G20: Tríptico envolvente | H20: 1 | I20: 2.7825 | K20: =H20*J20 -> 0
A21: 4 Cuerpos en ventana | B21: 3 | C21: 57.75 | E21: =B21*D21 -> 0 | G21: 4 Cuerpos en ventana | H21: 2 | I21: 8.925 | K21: =H21*J21 -> 0
A22: TOTAL | E22: =SUM(E19:E21) -> 0 | G22: TOTAL | K22: =SUM(K19:K21) -> 0
A24: PLEGADO (De 15.001 a 50.000 ejemplares) | G24: PLEGADO (más de 50.000 ejemplares)
A25: FORMATOS | B25: MILLARES PREVISTOS (a) | C25: IMPORTE MAXIMO DE POR MILLAR (IVA EXCLUIDO) | D25: IMPORTE OFERTADO POR MILLAR (IVA EXCLUIDO) (b) | E25: IMPORTA TOTAL OFERTADO (IVA EXCLUIDO)(a x b) | G25: FORMATOS | H25: MILLARES PREVISTOS (a) | I25: IMPORTE MAXIMO DE LICITACIÓN POR MILLAR (IVA EXCLUIDO) | J25: IMPORTE OFERTADO POR MILLAR (IVA EXCLUIDO) | K25: IMPORTE TOTAL OFERTADO (IVA EXCLUIDO)(a x b)
A26: Díptico | B26: 16 | C26: 2.625 | E26: =B26*D26 -> 0 | G26: 4 Cuerpos en ventana | H26: 52 | I26: 8.72 | K26: =H26*J26 -> 0
A27: Tríptico envolvente | B27: 16 | C27: 2.73 | E27: =B27*D27 -> 0 | G27: TOTAL | K27: =SUM(K26) -> 0
A28: 4 Cuerpos en ventana | B28: 16 | C28: 8.82 | E28: =B28*D28 -> 0
A29: TOTAL | E29: =SUM(E26:E28) -> 0
A31: TOTAL PLEGADOS A4 | E31: =SUM(E29,K27,K22,E22) -> 0
A33: PLEGADO TAMAÑO CERRADO A5 (MÁS DE 170 GR.)
A35: ARRANQUE A5 | G35: PLEGADO (Hasta 15.000 ejemplares)
A36: FORMATOS | B36: TRABAJOS PREVISTOS (a) | C36: IMPORTE UNITARIO MAXIMO DE LICITACIÓN (IVA EXCLUIDO) | D36: IMPORTE UNITARIO OFERTADO (IVA EXCLUIDO) | E36: IMPORTE TOTAL OFERTADO (IVA EXCLUIDO)(a x b) | G36: FORMATOS | H36: MILLARES PREVISTOS (a) | I36: IMPORTE MAXIMO DE LICITACIÓN POR MILLAR (IVA EXCLUIDO) | J36: IMPORTE OFERTADO (IVA EXCLUIDO) (b) | K36: IMPORTE TOTAL OFERTADO (IVA EXCLUIDO)(a x b)
A37: Díptico | B37: 2 | C37: 57.75 | E37: =B37*D37 -> 0 | G37: Díptico | H37: 2 | I37: 2.1525 | K37: =H37*J37 -> 0
A38: Tríptico envolvente | B38: 2 | C38: 57.75 | E38: =B38*D38 -> 0 | G38: Tríptico envolvente | H38: 2 | I38: 2.52 | K38: =H38*J38 -> 0
A39: 4 Cuerpos en ventana | B39: 3 | C39: 57.75 | E39: =B39*D39 -> 0 | G39: 4 Cuerpos en ventana | H39: 2 | I39: 6.405 | K39: =H39*J39 -> 0
A40: TOTAL | E40: =SUM(E37:E39) -> 0 | G40: TOTAL | K40: =SUM(K37:K39) -> 0
A42: PLEGADO (De 15.001 a 50.000 ejemplares) | G42: PLEGADO (más de 50.000 ejemplares)
A43: FORMATOS | B43: MILLARES PREVISTOS (a) | C43: IMPORTE MAXIMO DE LICITACIÓN POR MILLAR OFERTADO (IVA EXCLUIDO) | D43: IMPORTE OFERTADO POR MILLAR (IVA EXCLUIDO) (b) | E43: IMPORTE TOTAL OFERTADO (IVA EXCLUIDO) (a x b) | G43: FORMATOS | H43: MILLARES PREVISTOS (a) | I43: IMPORTE MAXIMO DE LICITACIÓN POR MILLAR (IVA EXCLUIDO) | J43: IMPORTE OFERTADO POR MILLAR (IVA EXCLUIDO) (b) | K43: IMPORTE TOTAL OFERTADO (IVA EXCLUIDO) (a x b)
A44: Díptico | B44: 18 | C44: 2.1 | E44: =B44*D44 -> 0 | G44: 4 Cuerpos en ventana | H44: 51 | I44: 6.195 | K44: =H44*J44 -> 0
A45: Tríptico envolvente | B45: 18 | C45: 2.478 | E45: =B45*D45 -> 0 | G45: TOTAL | K45: =SUM(K44) -> 0
A46: 4 Cuerpos en ventana | B46: 18 | C46: 6.2475 | E46: =B46*D46 -> 0
A47: TOTAL | E47: =SUM(E44:E46) -> 0
A49: TOTAL PLEGADOS A5 | E49: =SUM(E47,K45,K40,E40) -> 0
A51: HENDIDOS (MÁS DE 170 GRS.)
A53: PROCESO | B53: UNIDADES PREVISTAS (a) | C53: IMPORTE UNITARIO MAXIMO DE LICITACIÓN (IVA EXCLUIDO) | D53: IMPORTE UNITARIO OFERTADO (IVA EXCLUIDO) (b) | E53: IMPORTE TOTAL OFERTADO (IVA EXCLUIDO) (a x b)
...

Sheet RESTO ENCUADERNACIONES
A1: TARIFAS RESTO ENCUADERNACIONES
A3: COSIDO GRAPA
A5: ARRANQUE COSIDO HASTA 15.000 EJEMPLARES | G5: ARRANQUE COSIDO (15.001-50.000 ejemplares)
A6: TRABAJOS PREVISTOS (a) | B6: IMPORTE UNITARIO MAXIMO DE LICITACIÓN (IVA EXCLUIDO) | C6: IMPORTE OFERTADO (IVA EXCLUIDO) (b) | D6: IMPORTE TOTAL OFERTADO (IVA EXCLUIDO) (a x b) | G6: TRABAJOS PREVISTOS (a) | H6: IMPORTE UNITARIO MAXIMO DE LICITACIÓN (IVA EXCLUIDO) | I6: IMPORTE OFERTADO (IVA EXCLUIDO) (b) | J6: IMPORTE TOTAL OFERTADO (IVA EXCLUIDO) (a x b)
A7: 1 | B7: 57.75 | D7: =A7*C7 -> 0 | G7: 1 | H7: 57.75 | J7: =G7*I7 -> 0
A8: TOTAL | D8: =SUM(D7) -> 0 | G8: TOTAL | J8: =SUM(J7) -> 0
A10: COSIDO (Hasta 15.000 ejemplares) | G10: COSIDO (15.001-50.000 ejemplares)
A11: FORMATOS | B11: MILLARES PREVISTOS (a) | C11: IMPORTE UNITARIO MAXIMO DE LICITACIÓN POR MILLAR (IVA EXCLUIDO) | D11: IMPORTE OFERTADO POR MILLAR (IVA EXCLUIDO) (b) | E11: IMP. TOTAL OFERTADO (a x b) | G11: FORMATOS | H11: MILLARES PREVISTOS (a) | I11: IMPORTE UNITARIO MAXIMO DE LICITACIÓN (IVA EXCLUIDO) | J11: IMPORTE OFERTADO POR MILLAR (IVA EXCLUIDO) (b) | K11: IMP. TOTAL OFERTADO (a x b)
A12: Hendido de cubierta (importe por millar) | B12: 4 | C12: 17.85 | E12: =B12*D12 -> 0 | G12: Hendido de cubierta (importe por millar) | H12: 16 | I12: 17.85 | K12: =H12*J12 -> 0
A13: Pliego 4 páginas (importe por millar) | B13: 4 | C13: 4.5885 | E13: =B13*D13 -> 0 | G13: Pliego 8 páginas (importe por millar) | H13: 16 | I13: 5.7855 | K13: =H13*J13 -> 0
A14: Pliego 8 páginas (importe por millar) | B14: 16 | C14: 5.817 | E14: =B14*D14 -> 0
A16: TOTAL | E16: =SUM(E12:E14) -> 0 | G16: TOTAL | K16: =SUM(K12:K14) -> 0
A18: TOTAL COSIDO GRAPA | E18: =SUM(E16,K16,J8,D8) -> 0
A20: IMPORTE TOTAL RESTO ENCUADERNACIONES | K20: =SUM(E18) -> 0

Sheet TARIFAS PAPEL
A1: FICHA TARIFAS PAPEL
A3: ESTUCADO SEMI MATE
A4: TRAMOS | B4: TONELADAS PREVISTAS (a) | C4: IMPORTE MAXIMO DE LICITACIÓN POR TONELADA (IVA EXCLUIDO) | D4: IMPORTE OFERTADO POR TONELADA (IVA EXCLUIDO) (b) | E4: IMPORTE TOTAL OFERTADO (IVA EXCLUIDO) (a x b)
A5: Hasta 170 gr. | B5: 12 | C5: 945 | E5: =B5*D5 -> 0
A6: Más de 170 gr. y hasta 300 gr. | B6: 7 | C6: 920 | E6: =B6*D6 -> 0
A7: Más de 300 gr. y hasta 350 gr. | B7: 6 | C7: 970 | E7: =B7*D7 -> 0
B8: TOTAL ESTUCADO SEMI MATE | E8: =SUM(E5:E7) -> 0
A10: ESTUCADO BRILLO
A11: TRAMOS | B11: TONELADAS PREVISTAS (a) | C11: IMPORTE MAXIMO DE LICITACIÓN POR TONELADA (IVA EXCLUIDO) | D11: IMPORTE OFERTADO POR TONELADA (IVA EXCLUIDO) (b) | E11: IMPORTE TOTAL OFERTADO (IVA EXCLUIDO) (a x b)
A12: Hasta 170 gr. | B12: 10 | C12: 945 | E12: =B12*D12 -> 0
A13: Más de 170 gr. y hasta 300 gr. | B13: 8 | C13: 920 | E13: =B13*D13 -> 0
A14: Más de 300 gr. y hasta 350 gr. | B14: 2 | C14: 970 | E14: =B14*D14 -> 0
B15: TOTAL ESTUCADO BRILLO | E15: =SUM(E12:E14) -> 0
A17: OFFSET
A18: TRAMOS | B18: TONELADAS PREVISTAS (a) | C18: IMPORTE MAXIMO DE LICITACIÓN POR TONELADA (IVA EXCLUIDO) | D18: IMPORTE OFERTADO POR TONELADA (IVA EXCLUIDO) (b) | E18: IMPORTE TOTAL OFERTADO (IVA EXCLUIDO) (a x b)
A19: De 80 hasta 120 gr. | B19: 3 | C19: 1000 | E19: =B19*D19 -> 0
A20: Más de 120 gr. y hasta 350 gr. | B20: 3 | C20: 1150 | E20: =B20*D20 -> 0
B21: TOTAL OFFSET | E21: =SUM(E19:E20) -> 0
A23: IMP. MÁXIMO LICITACIÓN | B23: 113211.53 | C23: IMPORTE TOTAL | E23: =SUM(E21,E15,E8) -> 0

Sheet RESUMEN TARIFAS
A1: FICHA RESUMEN FINAL TARIFAS
A3: PROCESO | B3: IMPORTE TOTAL OFERTADO (IVA EXCLUIDO)
A4: PRUEBAS DE COLOR | B4: ='PRUEBAS COLOR'!E11 -> 0
A5: IMPRESIÓN 70 x 100 | B5: ='IMPRESION 70X100'!E36 -> 0
A6: IMPRESIÓN DATO VARIABLE | B6: ='IMPRESION DATO VARIABLE'!E19 -> 0
A7: IMPRESIÓN TARJETAS DE VISITA | B7: ='TARJETAS DE VISITA'!E12 -> 0
A8: ACABADOS | B8: =ACABADOS!E52 -> 0
A9: ENCUADERNACIÓN HASTA 170 GR. | B9: ='ENCUERDENACIÓN HASTA 170G'!K48 -> 0
A10: ENCUADERNACIÓN MÁS DE 170 GR. | B10: ='ENCUADERNACION MAS 170G'!K83 -> 0
A11: RESTO ENCUADERNACIONES | B11: ='RESTO ENCUADERNACIONES'!K20 -> 0
A12: SUBTOTAL IMPORTE TRABAJOS DE PRUEBAS/ IMPRESIÓN/ACABADOS/ENCUADERNACIÓN (1) | B12: =SUM(B4:B11) -> 0
A15: SUBTOTAL CONSUMO PAPEL (2) | B15: ='TARIFAS PAPEL'!E23 -> 0
A18: IMPORTE TOTAL (*) SUMA DE LOS SUBTOTALES DE CADA GRUPO | B18: =B15+B12 -> 0
A20: * Importe que se deberá incluir en el modelo IX 'PROPOSICIÓN ECONÓMICA'.
