Workbook

Sheet datosmercado
C1: MODELO -2- DATOS DE MERCADO (NO MODIFICABLE)
C3: martes, 29 de marzo de 2022 09:58
C5: FECHA | D5: MIBGAS | E5: BRENT | F5: BRENT 603 | G5: USD101 | H5: USD 303 | I5: TTF
C6: 44562 | D6: 82.675 | E6: 87.219 | F6: 76.603 | G6: 1.1304 | H6: 1.1435 | I6: 81.86
C7: 44593 | D7: 82.085 | E7: 98.185 | F7: 76.603 | G7: 1.1314 | H7: 1.1435 | I7: 79.38
C8: 44621 | D8: 126.335 | E8: 108.015 | F8: 76.603 | G8: 1.1342 | H8: 1.1435 | I8: 128.421
C9: 44652 | D9: 98.948 | E9: 101.643 | F9: 88.77 | G9: 1.103 | H9: 1.1227 | I9: 105.698
C10: 44682 | D10: 99.394 | E10: 98.528 | F10: 88.77 | G10: 1.106 | H10: 1.1227 | I10: 105.394
C11: 44713 | D11: 99.306 | E11: 96.449 | F11: 88.77 | G11: 1.107 | H11: 1.1227 | I11: 105.056
C12: 44743 | D12: 100.345 | E12: 94.565 | F12: 98.34 | G12: 1.108 | H12: 1.1069 | I12: 104.845
C13: ago-22 | D13: 107.553 | E13: 101.412 | F13: 105.517 | G13: 1.106 | H13: 1.1024 | I13: 111.103
C14: 44805 | D14: 107.819 | E14: 99.202 | F14: 105.517 | G14: 1.108 | H14: 1.1024 | I14: 111.119
C15: 44835 | D15: 103.414 | E15: 97.191 | F15: 105.653 | G15: 1.11 | H15: 1.1076 | I15: 105.714
C16: 44866 | D16: 100.99 | E16: 95.743 | F16: 105.653 | G16: 1.112 | H16: 1.1076 | I16: 102.79
C17: 44896 | D17: 100.725 | E17: 94.153 | F17: 105.653 | G17: 1.114 | H17: 1.1076 | I17: 102.525
C18: 44927 | D18: 101.779 | E18: 92.98 | F18: 98.616 | G18: 1.117 | H18: 1.1144 | I18: 102.079
C19: 44958 | D19: 99.867 | E19: 91.989 | F19: 98.616 | G19: 1.12 | H19: 1.1144 | I19: 100.167
C20: 44986 | D20: 95.087 | E20: 91.17 | F20: 98.616 | G20: 1.122 | H20: 1.1144 | I20: 95.387
C21: 45017 | D21: 66.387 | E21: 90.289 | F21: 93.871 | G21: 1.125 | H21: 1.1223 | I21: 66.387
C22: 45047 | D22: 60.293 | E22: 89.488 | F22: 93.871 | G22: 1.127 | H22: 1.1223 | I22: 60.293
C23: 45078 | D23: 57.987 | E23: 88.798 | F23: 93.871 | G23: 1.13 | H23: 1.1223 | I23: 57.987
C24: 45108 | D24: 58.535 | E24: 88.126 | F24: 90.786 | G24: 1.132 | H24: 1.1297 | I24: 58.535
C26: 45139 | D26: 58.684 | E26: 87.528 | F26: 90.786 | G26: 1.134 | H26: 1.1297 | I26: 58.684
... C37: 45474 | D37: 45.2 | E37: 81.66 | F37: 83.028 | G37: 1.157 | H37: 1.1556 | I37: 44.35

Sheet consumopliegos2022_24m+24m
C1: MODELO -2- ESTIMACIÓN DE CONSUMO (NO MODIFICABLE)
C2: Fecha | D2: CUPS | E2: CUPS | F2: CUPS | G2: CUPS | H2: CUPS
D3: ES0217901000013660KR | E3: ES0230901000024204EL | F3: ES0217901000009332QC | G3: ES0237902000029474HH | H3: ES0237902000029476HC
D4: RLTB6 | E4: RLTB5 | F4: RLTB5 | G4: RLTB5 | H4: RL4
I5: =I21+I35 -> 35292000
B7: Parte fija € mes | D7: 1155.95 | E7: 109.83 | F7: 109.83 | G7: 109.83 | H7: 54.15
C9: 44774 | D9: 20000 | E9: 1000 | F9: 6000 | G9: 40000 | H9: 1000
C10: 44805 | D10: 524000 | E10: 30000 | F10: 35000 | G10: 40000 | H10: 5000
C11: 44835 | D11: 974000 | E11: 197000 | F11: 42000 | G11: 40000 | H11: 5000
C12: 44866 | D12: 1771000 | E12: 233000 | F12: 250000 | G12: 40000 | H12: 5000
C13: 44896 | D13: 2250000 | E13: 199000 | F13: 270000 | G13: 40000 | H13: 5000
C14: 44927 | D14: 2850000 | E14: 506000 | F14: 320000 | G14: 40000 | H14: 5000
C15: 44958 | D15: 2137000 | E15: 223000 | F15: 220000 | G15: 40000 | H15: 5000
C16: 44986 | D16: 1350000 | E16: 213000 | F16: 140000 | G16: 40000 | H16: 5000
C17: 45017 | D17: 1250000 | E17: 66000 | F17: 150000 | G17: 40000 | H17: 5000
C18: 45047 | D18: 429000 | E18: 23000 | F18: 55000 | G18: 40000 | H18: 5000
C19: 45078 | D19: 330000 | E19: 14000 | F19: 6000 | G19: 40000 | H19: 5000
C20: 45108 | D20: 23000 | E20: 1000 | F20: 6000 | G20: 40000 | H20: 1000
D21: =SUM(D9:D20) -> 13908000 | E21: =SUM(E9:E20) -> 1706000 | F21: =SUM(F9:F20) -> 1500000 | G21: =SUM(G9:G20) -> 480000 | H21: =SUM(H9:H20) -> 52000 | I21: =SUM(D21:H21) -> 17646000
C23: 45139 | D23: 20000 | E23: 1000 | F23: 6000 | G23: 40000 | H23: 1000
C24: 45170 | D24: 524000 | E24: 30000 | F24: 35000 | G24: 40000 | H24: 5000
C25: 45200 | D25: 974000 | E25: 197000 | F25: 42000 | G25: 40000 | H25: 5000
C26: 45231 | D26: 1771000 | E26: 233000 | F26: 250000 | G26: 40000 | H26: 5000
C27: 45261 | D27: 2250000 | E27: 199000 | F27: 270000 | G27: 40000 | H27: 5000
C28: 45292 | D28: 2850000 | E28: 506000 | F28: 320000 | G28: 40000 | H28: 5000
C29: 45323 | D29: 2137000 | E29: 223000 | F29: 220000 | G29: 40000 | H29: 5000
C30: 45352 | D30: 1350000 | E30: 213000 | F30: 140000 | G30: 40000 | H30: 5000
C31: 45383 | D31: 1250000 | E31: 66000 | F31: 150000 | G31: 40000 | H31: 5000
C32: 45413 | D32: 429000 | E32: 23000 | F32: 55000 | G32: 40000 | H32: 5000
C33: 45444 | D33: 330000 | E33: 14000 | F33: 6000 | G33: 40000 | H33: 5000
C34: 45474 | D34: 23000 | E34: 1000 | F34: 6000 | G34: 40000 | H34: 1000
D35: =SUM(D23:D34) -> 13908000 | E35: =SUM(E23:E34) -> 1706000 | F35: =SUM(F23:F34) -> 1500000 | G35: =SUM(G23:G34) -> 480000 | H35: =SUM(H23:H34) -> 52000 | I35: =SUM(D35:H35) -> 17646000
C37: TOTAL | D37: =D21+D35 -> 27816000 | E37: =E21+E35 -> 3412000 | F37: =F21+F35 -> 3000000 | G37: =G21+G35 -> 960000 | H37: =H21+H35 -> 104000

Sheet Plantilla de cálculo
C1: MODELO 2 - DETALLE DE OFERTA A CUMPLIMENTAR POR LOS LICITADORES
C2: Nombre comercializadora
C3: Precio fijo de energía (€/kWh) | E3: Fórmula TTF. En la constante K se deben incluir todos los costes variables aplicables en función del consumo, atr, fnee, etc…
C4: (1*TTF DA)+K | D4: DEBERÁ INDICAR LA CONSTANTE K PARA CADA CUPS
E5: K | G5: K | I5: K | K5: K | M5: K
E8: cups | G8: cups | I8: cups | K8: cups | M8: cups
E9: ES0217901000013660KR | G9: ES0230901000024204EL | I9: ES0217901000009332QC | K9: ES0237902000029474HH | M9: ES0237902000029476HC
C10: Tarifa | E10: RLTB6 | G10: RLTB5 | I10: RLTB5 | K10: RLTB5 | M10: RL4
A12: PRIMER AÑO DE CONTRATO | C12: Término fijo € mes | E12: 1188.51 | G12: 115.98 | I12: 115.98 | K12: 115.98 | M12: 55.86
B13: 1 | C13: Término fijo € año | E13: =E12*12 -> 14262.12 | G13: =G12*12 -> 1391.76 | I13: =I12*12 -> 1391.76 | K13: =K12*12 -> 1391.76 | M13: =M12*12 -> 670.32
C15: Fecha/Consumo | D15: KWh | E15: Euros | F15: KWh | G15: Euros | H15: KWh | I15: Euros | J15: KWh | K15: Euros | L15: KWh | M15: Euros
C16: 44774 | D16: ='consumopliegos2022_24m+24m'!D9 -> 20000 | E16: =IF($E$4=0,0,IF($E$4>0,D16*((datosmercado!I13+$E$4)/1000))) -> 0 | F16: ='consumopliegos2022_24m+24m'!E9 -> 1000 | G16: =IF($G$4=0,0,IF($G$4>0,F16*(datosmercado!I13+$G$4)/1000)) -> 0 | H16: ='consumopliegos2022_24m+24m'!F9 -> 6000 | I16: =IF($I$4=0,0,IF($I$4>0,H16*(datosmercado!I13+$I$4)/1000)) -> 0 | J16: ='consumopliegos2022_24m+24m'!G9 -> 40000 | K16: =IF($K$4=0,0,IF($K$4>0,J16*(datosmercado!I13+$K$4)/1000)) -> 0 | L16: ='consumopliegos2022_24m+24m'!H9 -> 1000 | M16: =IF($M$4=0,0,IF($M$4>0,L16*(datosmercado!I13+$M$4)/1000)) -> 0
C17: 44805 | D17: ='consumopliegos2022_24m+24m'!D10 -> 524000 | E17: =IF($E$4=0,0,IF($E$4>0,D17*((datosmercado!I14+$E$4)/1000))) -> 0 | F17: ='consumopliegos2022_24m+24m'!E10 -> 30000 | G17: =IF($G$4=0,0,IF($G$4>0,F17*(datosmercado!I14+$G$4)/1000)) -> 0 | H17: ='consumopliegos2022_24m+24m'!F10 -> 35000 | I17: =IF($I$4=0,0,IF($I$4>0,H17*(datosmercado!I14+$I$4)/1000)) -> 0 | J17: ='consumopliegos2022_24m+24m'!G10 -> 40000 | K17: =IF($K$4=0,0,IF($K$4>0,J17*(datosmercado!I14+$K$4)/1000)) -> 0 | L17: ='consumopliegos2022_24m+24m'!H10 -> 5000 | M17: =IF($M$4=0,0,IF($M$4>0,L17*(datosmercado!I14+$M$4)/1000)) -> 0
C18: 44835 | D18: ='consumopliegos2022_24m+24m'!D11 -> 974000 | E18: =IF($E$4=0,0,IF($E$4>0,D18*((datosmercado!I15+$E$4)/1000))) -> 0 | F18: ='consumopliegos2022_24m+24m'!E11 -> 197000 | G18: =IF($G$4=0,0,IF($G$4>0,F18*(datosmercado!I15+$G$4)/1000)) -> 0 | H18: ='consumopliegos2022_24m+24m'!F11 -> 42000 | I18: =IF($I$4=0,0,IF($I$4>0,H18*(datosmercado!I15+$I$4)/1000)) -> 0 | J18: ='consumopliegos2022_24m+24m'!G11 -> 40000 | K18: =IF($K$4=0,0,IF($K$4>0,J18*(datosmercado!I15+$K$4)/1000)) -> 0 | L18: ='consumopliegos2022_24m+24m'!H11 -> 5000 | M18: =IF($M$4=0,0,IF($M$4>0,L18*(datosmercado!I15+$M$4)/1000)) -> 0
C19: 44866 | D19: ='consumopliegos2022_24m+24m'!D12 -> 1771000 | E19: =IF($E$4=0,0,IF($E$4>0,D19*((datosmercado!I16+$E$4)/1000))) -> 0 | F19: ='consumopliegos2022_24m+24m'!E12 -> 233000 | G19: =IF($G$4=0,0,IF($G$4>0,F19*(datosmercado!I16+$G$4)/1000)) -> 0 | H19: ='consumopliegos2022_24m+24m'!F12 -> 250000 | I19: =IF($I$4=0,0,IF($I$4>0,H19*(datosmercado!I16+$I$4)/1000)) -> 0 | J19: ='consumopliegos2022_24m+24m'!G12 -> 40000 | K19: =IF($K$4=0,0,IF($K$4>0,J19*(datosmercado!I16+$K$4)/1000)) -> 0 | L19: ='consumopliegos2022_24m+24m'!H12 -> 5000 | M19: =IF($M$4=0,0,IF($M$4>0,L19*(datosmercado!I16+$M$4)/1000)) -> 0
C20: 44896 | D20: ='consumopliegos2022_24m+24m'!D13 -> 2250000 | E20: =IF($E$4=0,0,IF($E$4>0,D20*((datosmercado!I17+$E$4)/1000))) -> 0 | F20: ='consumopliegos2022_24m+24m'!E13 -> 199000 | G20: =IF($G$4=0,0,IF($G$4>0,F20*(datosmercado!I17+$G$4)/1000)) -> 0 | H20: ='consumopliegos2022_24m+24m'!F13 -> 270000 | I20: =IF($I$4=0,0,IF($I$4>0,H20*(datosmercado!I17+$I$4)/1000)) -> 0 | J20: ='consumopliegos2022_24m+24m'!G13 -> 40000 | K20: =IF($K$4=0,0,IF($K$4>0,J20*(datosmercado!I17+$K$4)/1000)) -> 0 | L20: ='consumopliegos2022_24m+24m'!H13 -> 5000 | M20: =IF($M$4=0,0,IF($M$4>0,L20*(datosmercado!I17+$M$4)/1000)) -> 0
C21: 44927 | D21: ='consumopliegos2022_24m+24m'!D14 -> 2850000 | E21: =IF($E$4=0,0,IF($E$4>0,D21*((datosmercado!I18+$E$4)/1000))) -> 0 | F21: ='consumopliegos2022_24m+24m'!E14 -> 506000 | G21: =IF($G$4=0,0,IF($G$4>0,F21*(datosmercado!I18+$G$4)/1000)) -> 0 | H21: ='consumopliegos2022_24m+24m'!F14 -> 320000 | I21: =IF($I$4=0,0,IF($I$4>0,H21*(datosmercado!I18+$I$4)/1000)) -> 0 | J21: ='consumopliegos2022_24m+24m'!G14 -> 40000 | K21: =IF($K$4=0,0,IF($K$4>0,J21*(datosmercado!I18+$K$4)/1000)) -> 0 | L21: ='consumopliegos2022_24m+24m'!H14 -> 5000 | M21: =IF($M$4=0,0,IF($M$4>0,L21*(datosmercado!I18+$M$4)/1000)) -> 0
C22: 44958 | D22: ='consumopliegos2022_24m+24m'!D15 -> 2137000 | E22: =IF($E$4=0,0,IF($E$4>0,D22*((datosmercado!I19+$E$4)/1000))) -> 0 | F22: ='consumopliegos2022_24m+24m'!E15 -> 223000 | G22: =IF($G$4=0,0,IF($G$4>0,F22*(datosmercado!I19+$G$4)/1000)) -> 0 | H22: ='consumopliegos2022_24m+24m'!F15 -> 220000 | I22: =IF($I$4=0,0,IF($I$4>0,H22*(datosmercado!I19+$I$4)/1000)) -> 0 | J22: ='consumopliegos2022_24m+24m'!G15 -> 40000 | K22: =IF($K$4=0,0,IF($K$4>0,J22*(datosmercado!I19+$K$4)/1000)) -> 0 | L22: ='consumopliegos2022_24m+24m'!H15 -> 5000 | M22: =IF($M$4=0,0,IF($M$4>0,L22*(datosmercado!I19+$M$4)/1000)) -> 0
C23: 44986 | D23: ='consumopliegos2022_24m+24m'!D16 -> 1350000 | E23: =IF($E$4=0,0,IF($E$4>0,D23*((datosmercado!I20+$E$4)/1000))) -> 0 | F23: ='consumopliegos2022_24m+24m'!E16 -> 213000 | G23: =IF($G$4=0,0,IF($G$4>0,F23*(datosmercado!I20+$G$4)/1000)) -> 0 | H23: ='consumopliegos2022_24m+24m'!F16 -> 140000 | I23: =IF($I$4=0,0,IF($I$4>0,H23*(datosmercado!I20+$I$4)/1000)) -> 0 | J23: ='consumopliegos2022_24m+24m'!G16 -> 40000 | K23: =IF($K$4=0,0,IF($K$4>0,J23*(datosmercado!I20+$K$4)/1000)) -> 0 | L23: ='consumopliegos2022_24m+24m'!H16 -> 5000 | M23: =IF($M$4=0,0,IF($M$4>0,L23*(datosmercado!I20+$M$4)/1000)) -> 0
C24: 45017 | D24: ='consumopliegos2022_24m+24m'!D17 -> 1250000 | E24: =IF($E$4=0,0,IF($E$4>0,D24*((datosmercado!I21+$E$4)/1000))) -> 0 | F24: ='consumopliegos2022_24m+24m'!E17 -> 66000 | G24: =IF($G$4=0,0,IF($G$4>0,F24*(datosmercado!I21+$G$4)/1000)) -> 0 | H24: ='consumopliegos2022_24m+24m'!F17 -> 150000 | I24: =IF($I$4=0,0,IF($I$4>0,H24*(datosmercado!I21+$I$4)/1000)) -> 0 | J24: ='consumopliegos2022_24m+24m'!G17 -> 40000 | K24: =IF($K$4=0,0,IF($K$4>0,J24*(datosmercado!I21+$K$4)/1000)) -> 0 | L24: ='consumopliegos2022_24m+24m'!H17 -> 5000 | M24: =IF($M$4=0,0,IF($M$4>0,L24*(datosmercado!I21+$M$4)/1000)) -> 0
C25: 45047 | D25: ='consumopliegos2022_24m+24m'!D18 -> 429000 | E25: =IF($E$4=0,0,IF($E$4>0,D25*((datosmercado!I22+$E$4)/1000))) -> 0 | F25: ='consumopliegos2022_24m+24m'!E18 -> 23000 | G25: =IF($G$4=0,0,IF($G$4>0,F25*(datosmercado!I22+$G$4)/1000)) -> 0 | H25: ='consumopliegos2022_24m+24m'!F18 -> 55000 | I25: =IF($I$4=0,0,IF($I$4>0,H25*(datosmercado!I22+$I$4)/1000)) -> 0 | J25: ='consumopliegos2022_24m+24m'!G18 -> 40000 | K25: =IF($K$4=0,0,IF($K$4>0,J25*(datosmercado!I22+$K$4)/1000)) -> 0 | L25: ='consumopliegos2022_24m+24m'!H18 -> 5000 | M25: =IF($M$4=0,0,IF($M$4>0,L25*(datosmercado!I22+$M$4)/1000)) -> 0
C26: 45078 | D26: ='consumopliegos2022_24m+24m'!D19 -> 330000 | E26: =IF($E$4=0,0,IF($E$4>0,D26*((datosmercado!I23+$E$4)/1000))) -> 0 | F26: ='consumopliegos2022_24m+24m'!E19 -> 14000 | G26: =IF($G$4=0,0,IF($G$4>0,F26*(datosmercado!I23+$G$4)/1000)) -> 0 | H26: ='consumopliegos2022_24m+24m'!F19 -> 6000 | I26: =IF($I$4=0,0,IF($I$4>0,H26*(datosmercado!I23+$I$4)/1000)) -> 0 | J26: ='consumopliegos2022_24m+24m'!G19 -> 40000 | K26: =IF($K$4=0,0,IF($K$4>0,J26*(datosmercado!I23+$K$4)/1000)) -> 0 | L26: ='consumopliegos2022_24m+24m'!H19 -> 5000 | M26: =IF($M$4=0,0,IF($M$4>0,L26*(datosmercado!I23+$M$4)/1000)) -> 0
C27: 45108 | D27: ='consumopliegos2022_24m+24m'!D20 -> 23000 | E27: =IF($E$4=0,0,IF($E$4>0,D27*((datosmercado!I24+$E$4)/1000))) -> 0 | F27: ='consumopliegos2022_24m+24m'!E20 -> 1000 | G27: =IF($G$4=0,0,IF($G$4>0,F27*(datosmercado!I24+$G$4)/1000)) -> 0 | H27: ='consumopliegos2022_24m+24m'!F20 -> 6000 | I27: =IF($I$4=0,0,IF($I$4>0,H27*(datosmercado!I24+$I$4)/1000)) -> 0 | J27: ='consumopliegos2022_24m+24m'!G20 -> 40000 | K27: =IF($K$4=0,0,IF($K$4>0,J27*(datosmercado!I24+$K$4)/1000)) -> 0 | L27: ='consumopliegos2022_24m+24m'!H20 -> 1000 | M27: =IF($M$4=0,0,IF($M$4>0,L27*(datosmercado!I24+$M$4)/1000)) -> 0
B29: 2 | C29: Término energía € año | D29: =SUM(D16:D27) -> 13908000 | E29: =SUM(E16:E27) -> 0 | F29: =SUM(F16:F27) -> 1706000 | G29: =SUM(G16:G27) -> 0 | H29: =SUM(H16:H27) -> 1500000 | I29: =SUM(I16:I27) -> 0 | J29: =SUM(J16:J27) -> 480000 | K29: =SUM(K16:K27) -> 0 | ... M29: =SUM(M16:M27) -> 0
B31: 3 | C31: Impuesto de Hidrocarburos | D31: 0.0023 | E31: =D29*$D$31 -> 31988.4 | G31: =F29*$D$31 -> 3923.8 | I31: =H29*$D$31 -> 3450 | K31: =J29*$D$31 -> 1104 | M31: =L29*$D$31 -> 119.6
B33: 4 | C33: Bruto total | E33: =SUM(E31,E29,E13) -> 46250.52 | G33: =SUM(G31,G29,G13) -> 5315.56 | I33: =SUM(I31,I29,I13) -> 4841.76 | K33: =SUM(K31,K29,K13) -> 2495.76 | M33: =SUM(M31,M29,M13) -> 789.92 | N33: =SUM(M33,K33,I33,G33,E33) -> 59693.52
A36: SEGUNDO AÑO DE CONTRATO | C36: Término fijo € mes | E36: 1188.51 | G36: 115.98 | I36: 115.98 | K36: 115.98 | M36: 55.86
B37: 1 | C37: Término fijo € año | E37: =E36*12 -> 14262.12 | G37: =G36*12 -> 1391.76 | I37: =I36*12 -> 1391.76 | K37: =K36*12 -> 1391.76 | M37: =M36*12 -> 670.32
C39: Fecha/Consumo | D39: KWh | E39: Euros | F39: KWh | G39: Euros | H39: KWh | I39: Euros | J39: KWh | K39: Euros | L39: KWh | M39: Euros
C40: 45139 | D40: ='consumopliegos2022_24m+24m'!D23 -> 20000 | E40: =IF($E$4=0,0,IF($E$4>0,D40*([1]datosmercado!I26+$E$4)/1000)) -> 0 | F40: ='consumopliegos2022_24m+24m'!E23 -> 1000 | G40: =IF($G$4=0,0,F40*([1]datosmercado!I26+$G$4)/1000) -> 0 | H40: ='consumopliegos2022_24m+24m'!F23 -> 6000 | I40: =IF($I$4=0,0,IF($I$4>0,H40*([1]datosmercado!I26+$I$4)/1000)) -> 0 | J40: ='consumopliegos2022_24m+24m'!G23 -> 40000 | K40: =IF($K$4=0,0,IF($K$4>0,J40*([1]datosmercado!I26+$K$4)/1000)) -> 0 | L40: ='consumopliegos2022_24m+24m'!H23 -> 1000 | M40: =IF($M$4=0,0,IF($M$4>0,L40*([1]datosmercado!I26+$M$4)/1000)) -> 0
C41: 45170 | D41: ='consumopliegos2022_24m+24m'!D24 -> 524000 | E41: =IF($E$4=0,0,IF($E$4>0,D41*([1]datosmercado!I27+$E$4)/1000)) -> 0 | F41: ='consumopliegos2022_24m+24m'!E24 -> 30000 | G41: =IF($G$4=0,0,F41*([1]datosmercado!I27+$G$4)/1000) -> 0 | H41: ='consumopliegos2022_24m+24m'!F24 -> 35000 | I41: =IF($I$4=0,0,IF($I$4>0,H41*([1]datosmercado!I27+$I$4)/1000)) -> 0 | J41: ='consumopliegos2022_24m+24m'!G24 -> 40000 | K41: =IF($K$4=0,0,IF($K$4>0,J41*([1]datosmercado!I27+$K$4)/1000)) -> 0 | L41: ='consumopliegos2022_24m+24m'!H24 -> 5000 | M41: =IF($M$4=0,0,IF($M$4>0,L41*([1]datosmercado!I27+$M$4)/1000)) -> 0
C42: 45200 | D42: ='consumopliegos2022_24m+24m'!D25 -> 974000 | E42: =IF($E$4=0,0,IF($E$4>0,D42*([1]datosmercado!I28+$E$4)/1000)) -> 0 | F42: ='consumopliegos2022_24m+24m'!E25 -> 197000 | G42: =IF($G$4=0,0,F42*([1]datosmercado!I28+$G$4)/1000) -> 0 | H42: ='consumopliegos2022_24m+24m'!F25 -> 42000 | I42: =IF($I$4=0,0,IF($I$4>0,H42*([1]datosmercado!I28+$I$4)/1000)) -> 0 | J42: ='consumopliegos2022_24m+24m'!G25 -> 40000 | K42: =IF($K$4=0,0,IF($K$4>0,J42*([1]datosmercado!I28+$K$4)/1000)) -> 0 | L42: ='consumopliegos2022_24m+24m'!H25 -> 5000 | M42: =IF($M$4=0,0,IF($M$4>0,L42*([1]datosmercado!I28+$M$4)/1000)) -> 0
C43: 45231 | D43: ='consumopliegos2022_24m+24m'!D26 -> 1771000 | E43: =IF($E$4=0,0,IF($E$4>0,D43*([1]datosmercado!I29+$E$4)/1000)) -> 0 | F43: ='consumopliegos2022_24m+24m'!E26 -> 233000 | G43: =IF($G$4=0,0,F43*([1]datosmercado!I29+$G$4)/1000) -> 0 | H43: ='consumopliegos2022_24m+24m'!F26 -> 250000 | I43: =IF($I$4=0,0,IF($I$4>0,H43*([1]datosmercado!I29+$I$4)/1000)) -> 0 | J43: ='consumopliegos2022_24m+24m'!G26 -> 40000 | K43: =IF($K$4=0,0,IF($K$4>0,J43*([1]datosmercado!I29+$K$4)/1000)) -> 0 | L43: ='consumopliegos2022_24m+24m'!H26 -> 5000 | M43: =IF($M$4=0,0,IF($M$4>0,L43*([1]datosmercado!I29+$M$4)/1000)) -> 0
C44: 45261 | D44: ='consumopliegos2022_24m+24m'!D27 -> 2250000 | E44: =IF($E$4=0,0,IF($E$4>0,D44*([1]datosmercado!I30+$E$4)/1000)) -> 0 | F44: ='consumopliegos2022_24m+24m'!E27 -> 199000 | G44: =IF($G$4=0,0,F44*([1]datosmercado!I30+$G$4)/1000) -> 0 | H44: ='consumopliegos2022_24m+24m'!F27 -> 270000 | I44: =IF($I$4=0,0,IF($I$4>0,H44*([1]datosmercado!I30+$I$4)/1000)) -> 0 | J44: ='consumopliegos2022_24m+24m'!G27 -> 40000 | K44: =IF($K$4=0,0,IF($K$4>0,J44*([1]datosmercado!I30+$K$4)/1000)) -> 0 | L44: ='consumopliegos2022_24m+24m'!H27 -> 5000 | M44: =IF($M$4=0,0,IF($M$4>0,L44*([1]datosmercado!I30+$M$4)/1000)) -> 0
C45: 45292 | D45: ='consumopliegos2022_24m+24m'!D28 -> 2850000 | E45: =IF($E$4=0,0,IF($E$4>0,D45*([1]datosmercado!I31+$E$4)/1000)) -> 0 | F45: ='consumopliegos2022_24m+24m'!E28 -> 506000 | G45: =IF($G$4=0,0,F45*([1]datosmercado!I31+$G$4)/1000) -> 0 | H45: ='consumopliegos2022_24m+24m'!F28 -> 320000 | I45: =IF($I$4=0,0,IF($I$4>0,H45*([1]datosmercado!I31+$I$4)/1000)) -> 0 | J45: ='consumopliegos2022_24m+24m'!G28 -> 40000 | K45: =IF($K$4=0,0,IF($K$4>0,J45*([1]datosmercado!I31+$K$4)/1000)) -> 0 | L45: ='consumopliegos2022_24m+24m'!H28 -> 5000 | M45: =IF($M$4=0,0,IF($M$4>0,L45*([1]datosmercado!I31+$M$4)/1000)) -> 0
C46: 45323 | D46: ='consumopliegos2022_24m+24m'!D29 -> 2137000 | E46: =IF($E$4=0,0,IF($E$4>0,D46*([1]datosmercado!I32+$E$4)/1000)) -> 0 | F46: ='consumopliegos2022_24m+24m'!E29 -> 223000 | G46: =IF($G$4=0,0,F46*([1]datosmercado!I32+$G$4)/1000) -> 0 | H46: ='consumopliegos2022_24m+24m'!F29 -> 220000 | I46: =IF($I$4=0,0,IF($I$4>0,H46*([1]datosmercado!I32+$I$4)/1000)) -> 0 | J46: ='consumopliegos2022_24m+24m'!G29 -> 40000 | K46: =IF($K$4=0,0,IF($K$4>0,J46*([1]datosmercado!I32+$K$4)/1000)) -> 0 | L46: ='consumopliegos2022_24m+24m'!H29 -> 5000 | M46: =IF($M$4=0,0,IF($M$4>0,L46*([1]datosmercado!I32+$M$4)/1000)) -> 0
C47: 45352 | D47: ='consumopliegos2022_24m+24m'!D30 -> 1350000 | E47: =IF($E$4=0,0,IF($E$4>0,D47*([1]datosmercado!I33+$E$4)/1000)) -> 0 | F47: ='consumopliegos2022_24m+24m'!E30 -> 213000 | G47: =IF($G$4=0,0,F47*([1]datosmercado!I33+$G$4)/1000) -> 0 | H47: ='consumopliegos2022_24m+24m'!F30 -> 140000 | I47: =IF($I$4=0,0,IF($I$4>0,H47*([1]datosmercado!I33+$I$4)/1000)) -> 0 | J47: ='consumopliegos2022_24m+24m'!G30 -> 40000 | K47: =IF($K$4=0,0,IF($K$4>0,J47*([1]datosmercado!I33+$K$4)/1000)) -> 0 | L47: ='consumopliegos2022_24m+24m'!H30 -> 5000 | M47: =IF($M$4=0,0,IF($M$4>0,L47*([1]datosmercado!I33+$M$4)/1000)) -> 0
C48: 45383 | D48: ='consumopliegos2022_24m+24m'!D31 -> 1250000 | E48: =IF($E$4=0,0,IF($E$4>0,D48*([1]datosmercado!I34+$E$4)/1000)) -> 0 | F48: ='consumopliegos2022_24m+24m'!E31 -> 66000 | G48: =IF($G$4=0,0,F48*([1]datosmercado!I34+$G$4)/1000) -> 0 | H48: ='consumopliegos2022_24m+24m'!F31 -> 150000 | I48: =IF($I$4=0,0,IF($I$4>0,H48*([1]datosmercado!I34+$I$4)/1000)) -> 0 | J48: ='consumopliegos2022_24m+24m'!G31 -> 40000 | K48: =IF($K$4=0,0,IF($K$4>0,J48*([1]datosmercado!I34+$K$4)/1000)) -> 0 | L48: ='consumopliegos2022_24m+24m'!H31 -> 5000 | M48: =IF($M$4=0,0,IF($M$4>0,L48*([1]datosmercado!I34+$M$4)/1000)) -> 0
C49: 45413 | D49: ='consumopliegos2022_24m+24m'!D32 -> 429000 | E49: =IF($E$4=0,0,IF($E$4>0,D49*([1]datosmercado!I35+$E$4)/1000)) -> 0 | F49: ='consumopliegos2022_24m+24m'!E32 -> 23000 | G49: =IF($G$4=0,0,F49*([1]datosmercado!I35+$G$4)/1000) -> 0 | H49: ='consumopliegos2022_24m+24m'!F32 -> 55000 | I49: =IF($I$4=0,0,IF($I$4>0,H49*([1]datosmercado!I35+$I$4)/1000)) -> 0 | J49: ='consumopliegos2022_24m+24m'!G32 -> 40000 | K49: =IF($K$4=0,0,IF($K$4>0,J49*([1]datosmercado!I35+$K$4)/1000)) -> 0 | L49: ='consumopliegos2022_24m+24m'!H32 -> 5000 | M49: =IF($M$4=0,0,IF($M$4>0,L49*([1]datosmercado!I35+$M$4)/1000)) -> 0
C50: 45444 | D50: ='consumopliegos2022_24m+24m'!D33 -> 330000 | E50: =IF($E$4=0,0,IF($E$4>0,D50*([1]datosmercado!I36+$E$4)/1000)) -> 0 | F50: ='consumopliegos2022_24m+24m'!E33 -> 14000 | G50: =IF($G$4=0,0,F50*([1]datosmercado!I36+$G$4)/1000) -> 0 | H50: ='consumopliegos2022_24m+24m'!F33 -> 6000 | I50: =IF($I$4=0,0,IF($I$4>0,H50*([1]datosmercado!I36+$I$4)/1000)) -> 0 | J50: ='consumopliegos2022_24m+24m'!G33 -> 40000 | K50: =IF($K$4=0,0,IF($K$4>0,J50*([1]datosmercado!I36+$K$4)/1000)) -> 0 | L50: ='consumopliegos2022_24m+24m'!H33 -> 5000 | M50: =IF($M$4=0,0,IF($M$4>0,L50*([1]datosmercado!I36+$M$4)/1000)) -> 0
...
