Workbook

Sheet 0. Resumen
B2: CUADRO RESUMEN LICITACION ESTRUCTURAS | G2: Eventos anuales estimados | H2: Dias de uso estimados
B3: Estimación presupuestaria máxima ESCENARIO | E3: ='1. Escenario'!D82 -> 428439.62 | G3: ='1. Escenario'!D86 -> 12 | H3: ='1. Escenario'!D88 -> 17
B5: Estimación presupuestaria máxima GRADAS / SILLAS | E5: ='2. Gradas y Sillas'!C32 -> 130620 | G5: ='2. Gradas y Sillas'!C36 -> 3 | H5: ='2. Gradas y Sillas'!C38 -> 6
B7: Estimación presupuestaria máxima | C7: =E3+E5 -> 559059.62
B9: Total ofertado ESCENARIO | E9: ='1. Escenario'!D84 -> 0
B11: Total ofertado GRADAS / SILLAS | E11: ='2. Gradas y Sillas'!C34 -> 0
B13: Oferta económica (*) | C13: =E9+E11 -> 0
B15: (*) Esta cifra será la que deberá reflejarse en el MODELO 1 - OFERTA ECONÓMICA del Anexo I del Pliego de Clausulas Administrativas Particulares

Sheet 1. Escenario
B2: ESCENARIO
B3: UBICACIÓN: IFEMA MADRID
B6: ESCENARIO | C6: UD | D6: Q (a) | E6: Nº eventos /año estimados (De 1 día de uso del mismo montaje) (b) | F6: Días de uso del mismo montaje (c) | G6: Total días de uso estimados / año (D = b x c) | H6: Importe unitario máximo (Por día de uso del mismo montaje) (e) | I6: Subtotal anual máximo estimado (1 día de uso del mismo montaje en 8 eventos/año) (a x D x e)
B8: PLATAFORMA DE ESCENARIO Y MUROS | C8: M2 | D8: 368 | E8: 8 | F8: 1 | G8: =E8*F8 -> 8 | H8: 35 | I8: =D8*H8*G8 -> 103040
B9: CUBIERTA O TECHO TÉCNICO | C9: M2 | D9: 264 | E9: 8 | F9: 1 | G9: =E9*F9 -> 8 | H9: 17 | I9: =D9*H9*G9 -> 35904
B10: RAMPA DE ESCENARIO | C10: M2 | D10: 18 | E10: 8 | F10: 1 | G10: =E10*F10 -> 8 | H10: 10 | I10: =D10*H10*G10 -> 1440
B11: ESCALERA 8 PELDAÑOS | C11: UD | D11: 1 | E11: 8 | F11: 1 | G11: =E11*F11 -> 8 | H11: 430 | I11: =D11*H11*G11 -> 3440
B12: ESCALERA 5 PELDAÑOS | C12: UD | D12: 1 | E12: 8 | F12: 1 | G12: =E12*F12 -> 8 | H12: 300 | I12: =D12*H12*G12 -> 2400
B13: ESCALERA 3 PELDAÑOS | C13: UD | D13: 1 | E13: 8 | F13: 1 | G13: =E13*F13 -> 8 | H13: 250 | I13: =D13*H13*G13 -> 2000
B14: ESCALERA 2 PELDAÑOS | C14: UD | D14: 1 | E14: 8 | F14: 1 | G14: =E14*F14 -> 8 | H14: 100 | I14: =D14*H14*G14 -> 800
B15: REVESTIMIENTO PVC | C15: M2 | D15: 300 | E15: 8 | F15: 1 | G15: =E15*F15 -> 8 | H15: 7 | I15: =D15*H15*G15 -> 16800
B16: PLATAFORMA CONTROL FOH, CÁMARAS Y CAÑONES | C16: M2 | D16: 25 | E16: 8 | F16: 1 | G16: =E16*F16 -> 8 | H16: 35 | I16: =D16*H16*G16 -> 7000
B17: MÓDULO DE 2m DE TORRE DE 0 A 2 m | C17: UD | D17: 1 | E17: 8 | F17: 1 | G17: =E17*F17 -> 8 | H17: 250 | I17: =D17*H17*G17 -> 2000
B18: MÓDULO DE 2m DE TORRE DE 2 A 4 m | C18: UD | D18: 1 | E18: 8 | F18: 1 | G18: =E18*F18 -> 8 | H18: 300 | I18: =D18*H18*G18 -> 2400
B19: MÓDULO DE 2m DE TORRE DE 4 A 6 m | C19: UD | D19: 3 | E19: 8 | F19: 1 | G19: =E19*F19 -> 8 | H19: 350 | I19: =D19*H19*G19 -> 8400
... B27: VALLA ANTIPÁNICO | C27: UD | D27: 40 | E27: 8 | F27: 1 | G27: =E27*F27 -> 8 | H27: 12 | I27: =D27*H27*G27 -> 3840
H29: Total Anual Estimado | I29: =SUM(I8:I27) -> 227344
B31: ESCENARIO | C31: UD | D31: Q (a) | E31: Nº eventos /año estimados (De 2 días de uso del mismo montaje) (b) | F31: Días de uso del mismo montaje (c) | G31: Total días de uso estimados / año (D = b x c) | H31: Importe unitario máximo (Por día de uso del mismo montaje) (e) | I31: Subtotal anual máximo estimado (2 días de uso del mismo montaje en 3 eventos/año) (a x D x e)
B33: PLATAFORMA DE ESCENARIO Y MUROS | C33: M2 | D33: 368 | E33: 3 | F33: 2 | G33: =E33*F33 -> 6 | H33: =H8*0.8 -> 28 | I33: =D33*H33*G33 -> 61824
B34: CUBIERTA O TECHO TÉCNICO | C34: M2 | D34: 264 | E34: 3 | F34: 2 | G34: =E34*F34 -> 6 | H34: 17 | I34: =D34*H34*G34 -> 26928
B35: RAMPA DE ESCENARIO | C35: M2 | D35: 18 | E35: 3 | F35: 2 | G35: =E35*F35 -> 6 | H35: =H10*0.8 -> 8 | I35: =D35*H35*G35 -> 864
B36: ESCALERA 8 PELDAÑOS | C36: UD | D36: 1 | E36: 3 | F36: 2 | G36: =E36*F36 -> 6 | H36: =H11*0.8 -> 344 | I36: =D36*H36*G36 -> 2064
B37: ESCALERA 5 PELDAÑOS | C37: UD | D37: 1 | E37: 3 | F37: 2 | G37: =E37*F37 -> 6 | H37: =H12*0.8 -> 240 | I37: =D37*H37*G37 -> 1440
B38: ESCALERA 3 PELDAÑOS | C38: UD | D38: 1 | E38: 3 | F38: 2 | G38: =E38*F38 -> 6 | H38: =H13*0.8 -> 200 | I38: =D38*H38*G38 -> 1200
B39: ESCALERA 2 PELDAÑOS | C39: UD | D39: 1 | E39: 3 | F39: 2 | G39: =E39*F39 -> 6 | H39: =H14*0.8 -> 80 | I39: =D39*H39*G39 -> 480
B40: REVESTIMIENTO PVC | C40: M2 | D40: 300 | E40: 3 | F40: 2 | G40: =E40*F40 -> 6 | H40: =H15*0.8 -> 5.6 | I40: =D40*H40*G40 -> 10080
B41: PLATAFORMA CONTROL FOH, CÁMARAS Y CAÑONES | C41: M2 | D41: 25 | E41: 3 | F41: 2 | G41: =E41*F41 -> 6 | H41: =H33 -> 28 | I41: =D41*H41*G41 -> 4200
B42: MÓDULO DE 2m DE TORRE DE 0 A 2 m | C42: UD | D42: 1 | E42: 3 | F42: 2 | G42: =E42*F42 -> 6 | H42: =H17*0.75 -> 187.5 | I42: =D42*H42*G42 -> 1125
B43: MÓDULO DE 2m DE TORRE DE 2 A 4 m | C43: UD | D43: 1 | E43: 3 | F43: 2 | G43: =E43*F43 -> 6 | H43: =H18*0.75 -> 225 | I43: =D43*H43*G43 -> 1350
B44: MÓDULO DE 2m DE TORRE DE 4 A 6 m | C44: UD | D44: 3 | E44: 3 | F44: 2 | G44: =E44*F44 -> 6 | H44: =H19*0.75 -> 262.5 | I44: =D44*H44*G44 -> 4725
B45: MÓDULO DE 2m DE TORRE DE 6 A 8 m | C45: UD | D45: 2 | E45: 3 | F45: 2 | G45: =E45*F45 -> 6 | H45: =H20*0.75 -> 285 | I45: =D45*H45*G45 -> 3420
B46: MÓDULO DE 2m DE TORRE DE 8 A 10 m | C46: UD | D46: 2 | E46: 3 | F46: 2 | G46: =E46*F46 -> 6 | H46: =H21*0.75 -> 307.5 | I46: =D46*H46*G46 -> 3690
B47: MÓDULO DE 2m DE TORRE DE 10 A 12 m | C47: UD | D47: 1 | E47: 3 | F47: 2 | G47: =E47*F47 -> 6 | H47: =H22*0.75 -> 337.5 | I47: =D47*H47*G47 -> 2025
B48: PLATAFORMAS ZONAS VIP Y ACTIVACIÓN DE MARCAS | C48: M2 | D48: 36 | E48: 3 | F48: 2 | G48: =E48*F48 -> 6 | H48: =H33 -> 28 | I48: =D48*H48*G48 -> 6048
B49: PLATAFORMA PMR | C49: M2 | D49: 25 | E49: 3 | F49: 2 | G49: =E49*F49 -> 6 | H49: =H33 -> 28 | I49: =D49*H49*G49 -> 4200
B50: RAMPA PMR | C50: M2 | D50: 9 | E50: 3 | F50: 2 | G50: =E50*F50 -> 6 | H50: =0.8*H25 -> 8 | I50: =D50*H50*G50 -> 432
B51: PASACABLES | C51: UD | D51: 40 | E51: 3 | F51: 2 | G51: =E51*F51 -> 6 | H51: =0.8*H26 -> 9.6 | I51: =D51*H51*G51 -> 2304
B52: VALLA ANTIPÁNICO | C52: UD | D52: 40 | E52: 3 | F52: 2 | G52: =E52*F52 -> 6 | H52: =0.8*H27 -> 9.6 | I52: =D52*H52*G52 -> 2304
H54: Total Anual Estimado | I54: =SUM(I33:I52) -> 140703
B56: ESCENARIO | C56: UD | D56: Q (a) | E56: Nº eventos /año estimados (De 3 o más días de uso del mismo montaje) (b) | F56: Días de uso del mismo montaje (c) | G56: Total días de uso estimados / año (D = b x c) | H56: Importe unitario máximo (Por día de uso del mismo montaje) (e) | I56: Subtotal anual máximo estimado (3 días de uso del mismo montaje en 1 evento/año) (a x D x e)
...

Sheet 2. Gradas y Sillas
B3: GRADAS Y SILLAS
B4: UBICACIÓN: IFEMA MADRID
D7: Nº eventos /año estimados (De 1 día de uso del mismo montaje) (b) | E7: Días de uso del mismo montaje (c) | F7: Total días de uso estimados / año (D = b x c) | G7: Importe unitario máximo (Por día de uso del mismo montaje) | H7: Subtotal anual máximo estimado (1 día de uso del mismo montaje en 1 evento/año) (a x D x e) | I7: IMPORTE UNITARIO OFERTADO (Por día de uso del mismo montaje) | J7: SUBTOTAL OFERTADO (1 día de uso del mismo montaje en 1 evento/año)
B8: GRADAS | C8: UDS (a)
B9: Asiento Montado y Entregado | C9: 2000 | D9: 1 | E9: 1 | F9: =D9*E9 -> 1 | G9: 16 | H9: =C9*F9*G9 -> 32000 | J9: =C9*F9*I9 -> 0
B10: SILLAS PISTA | C10: UDS (a)
B11: Asiento Montado y Entregado | C11: 1500 | D11: 1 | E11: 1 | F11: =D11*E11 -> 1 | G11: 4.6 | H11: =C11*F11*G11 -> 6900 | J11: =C11*F11*I11 -> 0
G13: Total Anual Estimado | H13: =H9+H11 -> 38900 | I13: Total Anual Ofertado | J13: =J9+J11 -> 0
D15: Nº eventos /año estimados (De 2 días de uso del mismo montaje) (b) | E15: Días de uso del mismo montaje (c) | F15: Total días de uso estimados / año (D = b x c) | G15: Importe unitario máximo (Por día de uso del mismo montaje) | H15: Subtotal anual máximo estimado (2 días de uso del mismo montaje en 1 evento/año) (a x D x e) | I15: IMPORTE UNITARIO OFERTADO (Por día de uso del mismo montaje) | J15: SUBTOTAL OFERTADO (2 días de uso del mismo montaje en 1 evento/año)
B16: GRADAS | C16: UDS (a)
B17: Asiento Montado y Entregado | C17: 2000 | D17: 1 | E17: 2 | F17: =D17*E17 -> 2 | G17: 8.8 | H17: =C17*F17*G17 -> 35200 | J17: =C17*F17*I17 -> 0
B18: SILLAS PISTA | C18: UDS (a)
B19: Asiento Montado y Entregado | C19: 1500 | D19: 1 | E19: 2 | F19: =D19*E19 -> 2 | G19: 2.5 | H19: =C19*F19*G19 -> 7500 | J19: =C19*F19*I19 -> 0
G21: Total Anual Estimado | H21: =H17+H19 -> 42700 | I21: Total Anual Ofertado | J21: =J17+J19 -> 0
D23: Nº eventos /año estimados (De 3 o más días de uso del mismo montaje) (b) | E23: Días de uso del mismo montaje (c) | F23: Total días de uso estimados / año (D = b x c) | G23: Importe unitario máximo (Por día de uso del mismo montaje) | H23: Subtotal anual máximo estimado (3 días de uso del mismo montaje en 1 evento/año) (a x D x e) | I23: IMPORTE UNITARIO OFERTADO (Por día de uso del mismo montaje) | J23: SUBTOTAL OFERTADO (3 días de uso del mismo montaje en 1 eventos/año)
B24: GRADAS | C24: UDS (a)
B25: Asiento Montado y Entregado | C25: 2000 | D25: 1 | E25: 3 | F25: =D25*E25 -> 3 | G25: 6.67 | H25: =C25*F25*G25 -> 40020 | J25: =C25*F25*I25 -> 0
B26: SILLAS PISTA | C26: UDS (a)
B27: Asiento Montado y Entregado | C27: 1500 | D27: 1 | E27: 3 | F27: =D27*E27 -> 3 | G27: 2 | H27: =C27*F27*G27 -> 9000 | J27: =C27*F27*I27 -> 0
G29: Total Anual Estimado | H29: =H25+H27 -> 49020 | I29: Total Anual Ofertado | J29: =J25+J27 -> 0
B32: Estimación anual máxima GRADAS Y SILLAS | C32: =H13+H21+H29 -> 130620
B34: Total ofertado GRADAS Y SILLAS | C34: =J13+J21+J29 -> 0
B36: EVENTOS ESTIMADOS ANUALES | C36: 3
B38: DÍAS DE USO ANUALES ESTIMADOS | C38: 6
