Workbook

Sheet Precios unitarios
B2: FICHA A - PRECIOS UNITARIOS
B5: SERVICIOS PLATAFORMA
B6: SERVICIOS POR CONCEPTO | C6: PRECIOS UNITARIOS MÁXIMOS | D6: PRECIOS UNITARIOS OFERTADOS
B7: Uso de la plataforma (precio unitario por invitado registrado) | C7: - | D7: -
B8: Hasta 500 | C8: 2
B9: De 501-1000 | C9: 1.75
B10: Más de 1000 | C10: 1.5
B11: Web informativa del evento (precio unitario por evento) | C11: 120
B12: Formulario a medida para inscripciones (precio unitario por formulario) | C12: 50
B13: Envíos de comunicados vía email (precio unitario por email) | C13: 0.01
B14: Encuestas (precio unitario por encuesta) | C14: 75
B15: Mantenimiento del evento por un año (precio por evento) | C15: 100
B19: SERVICIOS NETWORKING
B20: SERVICIOS POR CONCEPTO | C20: PRECIOS UNITARIOS MÁXIMOS | D20: PRECIOS UNITARIOS OFERTADOS
B21: Uso de la plataforma (precio unitario por invitado registrado) | C21: - | D21: -
B22: Hasta 500 | C22: 2
B23: De 501-1000 | C23: 1.75
B24: Más de 1000 | C24: 1.5
B25: Web informativa del evento (precio unitario por evento) | C25: 120
B26: Formulario a medida para inscripciones (precio unitario por formulario) | C26: 50
B27: Envíos de comunicados vía email (precio unitario por email) | C27: 0.01
B28: Encuestas (precio unitario por encuesta) | C28: 75
B29: Mantenimiento del evento por un año (precio por evento) | C29: 100
B30: Networking: gestión de agendas a medida (*) | C30: - | D30: -
B31: Cantidad máxima fija a abonar para gestión de networking | C31: 1100
B32: Hasta 200 | C32: 1.3
B33: De 200-500 | C33: 0.9
B34: De 501-1000 | C34: 0.75
B35: Más de 1000 | C35: 0.5
B36: Registro y acreditación de participantes (precio por invitado) | C36: 0.2
B38: (*) Para la cotización del networking, se abonará una cantidad máxima fija (1.100 €) + cantidad variable (el importe unitario por invitado).

Sheet Desglose 2020
B2: ESTIMACIÓN SERVICIOS AÑO 2020
B4: FECHA CELEBRACIÓN | C4: EVENTO | D4: Nº INVITADOS | E4: Nº EMAILS | F4: SERVICIOS PLATAFORMA | G4: SERVICIOS NETWORKING
B5: 43831 | C5: PROMOGIFT | D5: 200 | E5: =+D5*3 -> 600 | F5: ='Precios unitarios'!D11+('Precios unitarios'!D12*2)+'Precios unitarios'!D14+'Precios unitarios'!D15+('Desglose 2020'!D5*'Precios unitarios'!D8)+(E5*'Precios unitarios'!D13) -> 0 | G5: -
B6: 43831 | C6: FITUR | D6: 800 | E6: =+D6*6 -> 4800 | F6: - | G6: ='Precios unitarios'!D25+('Precios unitarios'!D26*2)+'Precios unitarios'!D28+'Precios unitarios'!D29+('Precios unitarios'!D23*'Desglose 2020'!D6)+'Precios unitarios'!D31+('Precios unitarios'!D33*'Desglose 2020'!D6)+('Precios unitarios'!D36*D6)+('Precios unitarios'!D27*E6) -> 0
B7: 43831 | C7: MBFWM EDICIÓN ENERO | D7: 150 | E7: =+D7*5 -> 750 | F7: - | G7: ='Precios unitarios'!D25+('Precios unitarios'!D26*2)+'Precios unitarios'!D28+'Precios unitarios'!D29+('Precios unitarios'!D22*'Desglose 2020'!D7)+'Precios unitarios'!D31+('Precios unitarios'!D32*'Desglose 2020'!D7)+('Precios unitarios'!D36*D7)+('Precios unitarios'!D27*E7) -> 0
B8: 43831 | C8: FITUR MICE | D8: 150 | E8: =+D8*5 -> 750 | F8: - | G8: ='Precios unitarios'!D25+('Precios unitarios'!D26*2)+'Precios unitarios'!D28+'Precios unitarios'!D29+('Precios unitarios'!D22*'Desglose 2020'!D8)+'Precios unitarios'!D31+('Precios unitarios'!D32*'Desglose 2020'!D8)+('Precios unitarios'!D36*D8)+('Precios unitarios'!D27*E8) -> 0
B9: 43862 | C9: ARCOmadrid | D9: 600 | E9: =+D9*3 -> 1800 | F9: ='Precios unitarios'!D11+('Precios unitarios'!D12*2)+'Precios unitarios'!D15+'Precios unitarios'!D14+('Desglose 2020'!D9*'Precios unitarios'!D9)+(E9*'Precios unitarios'!D13) -> 0 | G9: -
B10: 43862 | C10: SICUR | D10: 100 | E10: =+D10*3 -> 300 | F10: ='Precios unitarios'!D11+('Precios unitarios'!D12*2)+'Precios unitarios'!D15+'Precios unitarios'!D14+('Desglose 2020'!D10*'Precios unitarios'!D8)+(E10*'Precios unitarios'!D13) -> 0 | G10: -
B11: 43862 | C11: SMART DOORS | D11: 50 | E11: =+D11*3 -> 150 | F11: ='Precios unitarios'!D11+('Precios unitarios'!D12*2)+'Precios unitarios'!D15+'Precios unitarios'!D14+('Desglose 2020'!D11*'Precios unitarios'!D8)+(E11*'Precios unitarios'!D13) -> 0 | G11: -
B12: 43862 | C12: INTERGIFT-BISUTEX-MADRIDJOYA EDICIÓN FEBRERO | D12: 750 | E12: =+D12*3 -> 2250 | F12: - | G12: ='Precios unitarios'!D25+('Precios unitarios'!D26*2)+'Precios unitarios'!D28+'Precios unitarios'!D29+('Precios unitarios'!D23*'Desglose 2020'!D12)+'Precios unitarios'!D31+('Precios unitarios'!D34*'Desglose 2020'!D12)+('Precios unitarios'!D36*D12)+('Precios unitarios'!D27*E12) -> 0
B13: 43862 | C13: MOMAD METRÓPOLIS EDICIÓN FEBRERO | D13: 90 | E13: =+D13*3 -> 270 | F13: ='Precios unitarios'!D11+('Precios unitarios'!D12*2)+'Precios unitarios'!D15+'Precios unitarios'!D14+('Desglose 2020'!D13*'Precios unitarios'!D8)+(E13*'Precios unitarios'!D13) -> 0 | G13: -
B14: 43862 | C14: SHOESROOM BY MOMAD EDICIÓN FEBRERO | D14: 50 | E14: =+D14*3 -> 150 | F14: ='Precios unitarios'!D11+('Precios unitarios'!D12*2)+'Precios unitarios'!D15+'Precios unitarios'!D14+('Desglose 2020'!D14*'Precios unitarios'!D8)+(E14*'Precios unitarios'!D13) -> 0 | G14: -
B15: 43891 | C15: EXPODENTAL | D15: 150 | E15: =+D15*3 -> 450 | F15: ='Precios unitarios'!D11+('Precios unitarios'!D12*2)+'Precios unitarios'!D15+'Precios unitarios'!D14+('Desglose 2020'!D15*'Precios unitarios'!D8)+(E15*'Precios unitarios'!D13) -> 0 | G15: -
B16: 44105 | C16: FRUIT ATTRACTION | D16: 1350 | E16: =+D16*3 -> 4050 | F16: ='Precios unitarios'!D11+('Precios unitarios'!D12*2)+'Precios unitarios'!D15+'Precios unitarios'!D14+('Desglose 2020'!D16*'Precios unitarios'!D10)+(E16*'Precios unitarios'!D13) -> 0 | G16: -
B17: 44013 | C17: MBFWM E JULIO | D17: 150 | E17: =+D17*5 -> 750 | F17: - | G17: ='Precios unitarios'!D25+('Precios unitarios'!D26*2)+'Precios unitarios'!D28+'Precios unitarios'!D29+('Precios unitarios'!D22*'Desglose 2020'!D17)+'Precios unitarios'!D31+('Precios unitarios'!D32*'Desglose 2020'!D17)+('Precios unitarios'!D36*D17)+('Precios unitarios'!D27*E17) -> 0
B18: 44075 | C18: INTERGIFT-BISUTEX-MADRID JOYA EDICIÓN SEPTIEMBRE | D18: 690 | E18: =+D18*3 -> 2070 | F18: - | G18: ='Precios unitarios'!D25+('Precios unitarios'!D26*2)+'Precios unitarios'!D28+'Precios unitarios'!D29+('Precios unitarios'!D23*'Desglose 2020'!D18)+'Precios unitarios'!D31+('Precios unitarios'!D34*'Desglose 2020'!D18)+('Precios unitarios'!D36*D18)+('Precios unitarios'!D27*E18) -> 0
B19: 44075 | C19: MEAT ATTRACTION | D19: 189 | E19: =+D19*3 -> 567 | F19: ='Precios unitarios'!D11+('Precios unitarios'!D12*2)+'Precios unitarios'!D15+'Precios unitarios'!D14+('Desglose 2020'!D19*'Precios unitarios'!D8)+(E19*'Precios unitarios'!D13) -> 0 | G19: -
B20: 44075 | C20: MOMAD METRÓPOLIS EDICIÓN SEPTIEMBRE | D20: 70 | E20: =+D20*3 -> 210 | F20: ='Precios unitarios'!D11+('Precios unitarios'!D12*2)+'Precios unitarios'!D15+'Precios unitarios'!D14+('Desglose 2020'!D20*'Precios unitarios'!D8)+(E20*'Precios unitarios'!D13) -> 0 | G20: -
B21: 44075 | C21: SHOESROOM BY MOMAD EDICIÓN SEPTIEMBRE | D21: 50 | E21: =+D21*3 -> 150 | F21: ='Precios unitarios'!D11+('Precios unitarios'!D12*2)+'Precios unitarios'!D15+'Precios unitarios'!D14+('Desglose 2020'!D21*'Precios unitarios'!D8)+(E21*'Precios unitarios'!D13) -> 0 | G21: -
B22: 44136 | C22: EPOWER & BUILDING | D22: 1250 | E22: =+D22*3 -> 3750 | F22: ='Precios unitarios'!D11+('Precios unitarios'!D12*2)+'Precios unitarios'!D15+'Precios unitarios'!D14+('Desglose 2020'!D22*'Precios unitarios'!D10)+(E22*'Precios unitarios'!D13) -> 0 | G22: -
E24: SUBTOTALES | F24: =SUM(F5:F22) -> 0 | G24: =SUM(G5:G22) -> 0

Sheet Desglose 2021
B2: ESTIMACIÓN SERVICIOS AÑO 2021
B4: FECHA CELEBRACIÓN | C4: EVENTO | D4: Nº INVITADOS | E4: Nº EMAILS | F4: SERVICIOS PLATAFORMA | G4: SERVICIOS NETWORKING
B5: 44197 | C5: FITUR | D5: 800 | E5: =+D5*6 -> 4800 | F5: - | G5: ='Precios unitarios'!D25+('Precios unitarios'!D26*2)+'Precios unitarios'!D28+'Precios unitarios'!D29+('Precios unitarios'!D23*'Desglose 2021'!D5)+'Precios unitarios'!D31+('Precios unitarios'!D33*'Desglose 2021'!D5)+('Precios unitarios'!D36*D5)+('Precios unitarios'!D27*E5) -> 0
B6: 44197 | C6: FITUR MICE | D6: 150 | E6: 750 | F6: - | G6: ='Precios unitarios'!D25+('Precios unitarios'!D26*2)+'Precios unitarios'!D28+'Precios unitarios'!D29+('Precios unitarios'!D22*'Desglose 2021'!D6)+'Precios unitarios'!D31+('Precios unitarios'!D32*'Desglose 2021'!D6)+('Precios unitarios'!D36*D6)+('Precios unitarios'!D27*E6) -> 0
B7: 44197 | C7: PROMOGIFT | D7: 200 | E7: =+D7*3 -> 600 | F7: ='Precios unitarios'!D11+('Precios unitarios'!D12*2)+'Precios unitarios'!D15+'Precios unitarios'!D14+('Desglose 2021'!D7*'Precios unitarios'!D8)+(E7*'Precios unitarios'!D13) -> 0 | G7: -
B8: 44228 | C8: ARCOmadrid | D8: 600 | E8: =+D8*3 -> 1800 | F8: ='Precios unitarios'!D11+('Precios unitarios'!D12*2)+'Precios unitarios'!D15+'Precios unitarios'!D14+('Desglose 2021'!D8*'Precios unitarios'!D9)+(E8*'Precios unitarios'!D13) -> 0 | G8: -
B9: 44228 | C9: CLIMATIZACIÓN Y REFRIGERACIÓN | D9: 75 | E9: =+D9*3 -> 225 | F9: ='Precios unitarios'!D11+('Precios unitarios'!D12*2)+'Precios unitarios'!D14+'Precios unitarios'!D15+('Desglose 2021'!D9*'Precios unitarios'!D8)+(E9*'Precios unitarios'!D13) -> 0 | G9: -
B10: 44228 | C10: SIGA | D10: 50 | E10: =+D10*3 -> 150 | F10: ='Precios unitarios'!D11+('Precios unitarios'!D12*2)+'Precios unitarios'!D15+'Precios unitarios'!D14+('Desglose 2021'!D10*'Precios unitarios'!D8)+(E10*'Precios unitarios'!D13) -> 0 | G10: -
B11: 44228 | C11: TECNOVA-PISCINAS | D11: 50 | E11: =+D11*3 -> 150 | F11: ='Precios unitarios'!D11+('Precios unitarios'!D12*2)+'Precios unitarios'!D15+'Precios unitarios'!D14+('Desglose 2021'!D11*'Precios unitarios'!D8)+(E11*'Precios unitarios'!D13) -> 0 | G11: -
B12: 44228 | C12: INTERGIFT-BISUTEX-MADRID JOYA EDICIÓN FEBRERO | D12: 800 | E12: =+D12*3 -> 2400 | G12: ='Precios unitarios'!D25+('Precios unitarios'!D26*2)+'Precios unitarios'!D28+'Precios unitarios'!D29+('Precios unitarios'!D23*'Desglose 2021'!D12)+'Precios unitarios'!D31+('Precios unitarios'!D34*'Desglose 2021'!D12)+('Precios unitarios'!D36*D12)+('Precios unitarios'!D27*E12) -> 0
B13: 44228 | C13: INTERSICOP | D13: 45 | E13: =+D13*3 -> 135 | F13: ='Precios unitarios'!D11+('Precios unitarios'!D12*2)+'Precios unitarios'!D14+'Precios unitarios'!D15+('Desglose 2021'!D13*'Precios unitarios'!D8)+(E13*'Precios unitarios'!D13) -> 0 | G13: -
B14: 44228 | C14: SHOESROOM BY MOMAD EDICIÓN FEBRERO | D14: 60 | E14: =+D14*3 -> 180 | F14: ='Precios unitarios'!D11+('Precios unitarios'!D12*2)+'Precios unitarios'!D15+'Precios unitarios'!D14+('Desglose 2021'!D14*'Precios unitarios'!D8)+(E14*'Precios unitarios'!D13) -> 0 | G14: -
B15: 44228 | C15: MOMAD METRÓPOLIS ED. FEB | D15: 90 | E15: =+D15*3 -> 270 | F15: ='Precios unitarios'!D11+('Precios unitarios'!D12*2)+'Precios unitarios'!D14+'Precios unitarios'!D15+('Desglose 2021'!D15*'Precios unitarios'!D8)+(E15*'Precios unitarios'!D13) -> 0 | G15: -
B16: 44228 | C16: MBFW ENERO | D16: 150 | E16: 750 | F16: - | G16: ='Precios unitarios'!D25+('Precios unitarios'!D26*2)+'Precios unitarios'!D28+'Precios unitarios'!D29+('Precios unitarios'!D22*'Desglose 2021'!D16)+'Precios unitarios'!D31+('Precios unitarios'!D32*'Desglose 2021'!D16)+('Precios unitarios'!D36*D16)+('Precios unitarios'!D27*E16) -> 0
B17: 44256 | C17: MOTORTEC | D17: 500 | E17: =+D17*3 -> 1500 | F17: ='Precios unitarios'!D11+('Precios unitarios'!D12*2)+'Precios unitarios'!D15+'Precios unitarios'!D14+('Desglose 2021'!D17*'Precios unitarios'!D9)+(E17*'Precios unitarios'!D13) -> 0 | G17: -
B18: 44378 | C18: MBFWM JULIO | D18: 150 | E18: 750 | F18: - | G18: ='Precios unitarios'!D25+('Precios unitarios'!D26*2)+'Precios unitarios'!D28+'Precios unitarios'!D29+('Precios unitarios'!D22*'Desglose 2021'!D18)+'Precios unitarios'!D31+('Precios unitarios'!D32*'Desglose 2021'!D18)+('Precios unitarios'!D36*D18)+('Precios unitarios'!D27*E18) -> 0
B19: 44440 | C19: INTERGIFT-BISUTEX-MADRID JOYA EDICIÓN SEPTIEMBRE | D19: 790 | E19: =+D19*3 -> 2370 | F19: - | G19: ='Precios unitarios'!D25+('Precios unitarios'!D26*2)+'Precios unitarios'!D28+'Precios unitarios'!D29+('Precios unitarios'!D23*'Desglose 2021'!D19)+'Precios unitarios'!D31+('Precios unitarios'!D34*'Desglose 2021'!D19)+('Precios unitarios'!D36*D19)+('Precios unitarios'!D27*E19) -> 0
B20: 44440 | C20: MEAT ATTRACTION | D20: 250 | E20: =+D20*3 -> 750 | F20: ='Precios unitarios'!D11+('Precios unitarios'!D12*2)+'Precios unitarios'!D15+'Precios unitarios'!D14+('Desglose 2021'!D20*'Precios unitarios'!D8)+(E20*'Precios unitarios'!D13) -> 0 | G20: -
B21: 44440 | C21: MOMAD METRÓPOLIS ED. SEPT | D21: 70 | E21: =+D21*3 -> 210 | F21: ='Precios unitarios'!D11+('Precios unitarios'!D12*2)+'Precios unitarios'!D15+'Precios unitarios'!D14+('Desglose 2021'!D21*'Precios unitarios'!D8)+(E21*'Precios unitarios'!D13) -> 0 | G21: -
B22: 44440 | C22: SHOESROOM BY MOMAD ED. SEPT | D22: 60 | E22: =+D22*3 -> 180 | F22: ='Precios unitarios'!D11+('Precios unitarios'!D12*2)+'Precios unitarios'!D15+'Precios unitarios'!D14+('Desglose 2021'!D22*'Precios unitarios'!D8)+(E22*'Precios unitarios'!D13) -> 0 | G22: -
B23: 44470 | C23: FRUIT ATTRACTION | D23: 1520 | E23: =+D23*3 -> 4560 | F23: ='Precios unitarios'!D11+('Precios unitarios'!D12*2)+'Precios unitarios'!D15+'Precios unitarios'!D14+('Desglose 2021'!D23*'Precios unitarios'!D10)+(E23*'Precios unitarios'!D13) -> 0 | G23: -
B24: 44470 | C24: LIBER | D24: 80 | E24: =+D24*3 -> 240 | F24: - | G24: ='Precios unitarios'!D25+('Precios unitarios'!D26*2)+'Precios unitarios'!D28+'Precios unitarios'!D29+('Precios unitarios'!D22*'Desglose 2021'!D24)+'Precios unitarios'!D31+('Precios unitarios'!D32*'Desglose 2021'!D24)+('Precios unitarios'!D36*D24)+('Precios unitarios'!D27*E24) -> 0
B25: 44501 | C25: VENDIBÉRICA | D25: 105 | E25: =+D25*3 -> 315 | F25: ='Precios unitarios'!D11+('Precios unitarios'!D12*2)+'Precios unitarios'!D15+'Precios unitarios'!D14+('Desglose 2021'!D25*'Precios unitarios'!D8)+(E25*'Precios unitarios'!D13) -> 0 | G25: -
E27: SUBTOTALES | F27: =SUM(F5:F25) -> 0 | G27: =SUM(G5:G25) -> 0

Sheet Importe total
C3: 2020 | D3: 2021
B5: SERVICIO DE PLATAFORMA | C5: ='Desglose 2020'!F24 -> 0 | D5: ='Desglose 2021'!F27 -> 0
B7: SERVICIO DE NETWORKING | C7: ='Desglose 2020'!G24 -> 0 | D7: ='Desglose 2021'!G27 -> 0
B9: SUBTOTALES | C9: =C5+C7 -> 0 | D9: =D5+D7 -> 0
B11: TOTAL (*) | C11: =C9+D9 -> 0
B14: (*) El importe total deberá ser incorporado en el modelo de oferta económica del pliego de bases
