Workbook

Sheet Materiales Complem Privel
A1: Cod. SAP | C1: ARTÍCULOS PRIVEL | D1: Precios unitarios máximos iva excluido | F1: PRECIO UNITARIO OFERTADO PARA EXPOSITOR (a) | G1: PRECIO UNITARIO OFERTADO PARA IFEMA (se aplica un 20 % de descuento del precio para ofertado para expositor) (b) | H1: ESTIMACIÓN UNIDADES EXPOSITOR ( c ) | I1: ESTIMACIÓN UNIDADES IFEMA ( d ) | J1: ESTIMACIÓN UNIDADES DISEÑO FERIAL ( d ) | K1: IMPORTE EXPOSITOR (a) x (c) | L1: IMPORTE IFEMA (b) x ( d ) | M1: Intergift | O1: Vida Silver | Q1: Pisci-Mad | S1: FRUIT (PARA CADA LOTE) | U1: Salon Look | W1: Matelec Industry | Y1: Veteco | AA1: Simo | AC1: Total | AX1: IMPORTE DISEÑO FERIAL (b) x ( d )
A2: Expositor | B2: SS.FF. | C2: MATERIALES GENERICOS | M2: Expo | N2: Ifema | O2: Expo | P2: Ifema | Q2: Expo | R2: Ifema | S2: Expo | T2: Ifema | U2: Expo | V2: Ifema | W2: Expo | X2: Ifema | Y2: Expo | Z2: Ifema | AA2: Expo | AB2: Ifema | AC2: Expo | AD2: Ifema
A3: 6RY01037 | B3: 6RI09005 | C3: ARMARIO BAJO 100 x 50 x 60 (MADERA) | D3: 85.3 | E3: €/Ud. | G3: =ROUND(F3-(F3*0.2),2) -> 0 | H3: 0 | I3: 0 | J3: 0 | K3: =H3*D3 -> 0 | L3: =G3*I3 -> 0 | AC3: =SUM(M3,O3,Q3,S3,U3,W3,Y3,AA3) -> 0 | AD3: =SUM(N3,P3,R3,T3,V3,X3,Z3,AB3) -> 0 | AX3: =G3*J3 -> 0
A4: 6RY01072 | B4: 6RI02125 | C4: BANDEROLA (40 x 50 cm.) | D4: 5.91 | E4: €/Ud. | G4: =ROUND(F4-(F4*0.2),2) -> 0 | H4: 0 | I4: 0 | J4: 0 | K4: =H4*D4 -> 0 | L4: =G4*I4 -> 0 | AC4: =SUM(M4,O4,Q4,S4,U4,W4,Y4,AA4) -> 0 | AD4: =SUM(N4,P4,R4,T4,V4,X4,Z4,AB4) -> 0 | AX4: =G4*J4 -> 0
A5: 6RY01034 | B5: 6RI02003 | C5: BASE DE ENCHUFE CUÁDRUPLE HASTA 3.500 W CABLE HASTA 10 M (CUADRO NO INCLUIDO) | D5: 9.71 | E5: €/Ud. | G5: =ROUND(F5-(F5*0.2),2) -> 0 | H5: 4 | I5: 0 | J5: 0 | K5: =H5*D5 -> 38.84 | L5: =G5*I5 -> 0 | S5: 8 | U5: 2 | W5: 2 | Y5: 4 | AA5: 1 | AC5: =SUM(M5,O5,Q5,S5,U5,W5,Y5,AA5) -> 17 | AD5: =SUM(N5,P5,R5,T5,V5,X5,Z5,AB5) -> 0 | AX5: =G5*J5 -> 0
A6: 6RY01032 | B6: 6RI02001 | C6: BASE DE ENCHUFE DOBLE HASTA 3.500 W CABLE HASTA 10 M (CUADRO NO INCLUIDO) | D6: 6.47 | E6: €/Ud. | G6: =ROUND(F6-(F6*0.2),2) -> 0 | H6: 2 | I6: 0 | J6: 0 | K6: =H6*D6 -> 12.94 | L6: =G6*I6 -> 0 | M6: 59 | Q6: 7 | S6: 19 | U6: 89 | W6: 1 | Y6: 2 | AA6: 28 | AC6: =SUM(M6,O6,Q6,S6,U6,W6,Y6,AA6) -> 205 | AD6: =SUM(N6,P6,R6,T6,V6,X6,Z6,AB6) -> 0 | AX6: =G6*J6 -> 0
A7: 6RY01033 | B7: 6RI02002 | C7: BASE DE ENCHUFE TRIPLE HASTA 3.500 W CABLE HASTA 10 M (CUADRO NO INCLUIDO) | D7: 8.1 | E7: €/Ud. | G7: =ROUND(F7-(F7*0.2),2) -> 0 | H7: 2 | I7: 0 | J7: 0 | K7: =H7*D7 -> 16.2 | L7: =G7*I7 -> 0 | O7: 10 | S7: 7 | U7: 1 | W7: 2 | Y7: 2 | AA7: 2 | AC7: =SUM(M7,O7,Q7,S7,U7,W7,Y7,AA7) -> 24 | AD7: =SUM(N7,P7,R7,T7,V7,X7,Z7,AB7) -> 0 | AX7: =G7*J7 -> 0
A8: 6RY01075 | B8: 6RI02120 | C8: BASTIDOR DE ALUMINIO | D8: 28.93 | E8: €/Ml. | G8: =ROUND(F8-(F8*0.2),2) -> 0 | H8: 0 | I8: 0 | J8: 0 | K8: =H8*D8 -> 0 | L8: =G8*I8 -> 0 | AC8: =SUM(M8,O8,Q8,S8,U8,W8,Y8,AA8) -> 0 | AD8: =SUM(N8,P8,R8,T8,V8,X8,Z8,AB8) -> 0 | AX8: =G8*J8 -> 0
A9: 6RY01038 | B9: 6RI02067 | C9: CAMBIO COLOR PINTURA | D9: 5.17 | E9: €/m2 | G9: =ROUND(F9-(F9*0.2),2) -> 0 | H9: 20 | I9: 0 | J9: 0 | K9: =H9*D9 -> 103.4 | L9: =G9*I9 -> 0 | M9: 121 | Q9: 2 | S9: 91 | U9: 211 | V9: 12 | AA9: 114 | AC9: =SUM(M9,O9,Q9,S9,U9,W9,Y9,AA9) -> 539 | AD9: =SUM(N9,P9,R9,T9,V9,X9,Z9,AB9) -> 12 | AX9: =G9*J9 -> 0
A10: 6RY01035 | B10: 6RI02020 | C10: CORTINA | D10: 29.26 | E10: €/Ml. | G10: =ROUND(F10-(F10*0.2),2) -> 0 | H10: 0 | I10: 20 | J10: 0 | K10: =H10*D10 -> 0 | L10: =G10*I10 -> 0 | N10: 27 | T10: 62 | U10: 5 | V10: 22 | W10: 1 | X10: 11 | Z10: 2 | AC10: =SUM(M10,O10,Q10,S10,U10,W10,Y10,AA10) -> 6 | AD10: =SUM(N10,P10,R10,T10,V10,X10,Z10,AB10) -> 124 | AX10: =G10*J10 -> 0
A11: 6RY01018 | B11: 6RI02052 | C11: ENCHUFE MONOFÁSICO HASTA 3.500 W CABLE HASTA 10 M (CUADRO NO INCLUIDO) | D11: 11.64 | E11: €/Ud. | G11: =ROUND(F11-(F11*0.2),2) -> 0 | H11: 2 | I11: 0 | J11: 0 | K11: =H11*D11 -> 23.28 | L11: =G11*I11 -> 0 | M11: 83 | S11: 32 | AA11: 5 | AC11: =SUM(M11,O11,Q11,S11,U11,W11,Y11,AA11) -> 120 | AD11: =SUM(N11,P11,R11,T11,V11,X11,Z11,AB11) -> 0 | AX11: =G11*J11 -> 0
A12: 6RY01076 | B12: 6RI02168 | C12: ENCHUFE TRIFASICO HASTA 18.000 W. DE 10 M DE LONGITUD CON CETAC DE 32 AMPERIOS MACHO Y HEMBRA EN LOS EXTREMOS (CUADRO NO INCLUIDO) | D12: 26.22 | E12: €/Ud. | G12: =ROUND(F12-(F12*0.2),2) -> 0 | H12: 2 | I12: 0 | J12: 0 | K12: =H12*D12 -> 52.44 | L12: =G12*I12 -> 0 | S12: 6 | AC12: =SUM(M12,O12,Q12,S12,U12,W12,Y12,AA12) -> 6 | AD12: =SUM(N12,P12,R12,T12,V12,X12,Z12,AB12) -> 0 | AX12: =G12*J12 -> 0
A13: 6RY01077 | B13: 6RI02169 | C13: ENCHUFE TRIFASICO HASTA 37.000 W. DE 10 M DE LONGITUD CON CETAC DE 63 AMPERIOS MACHO Y HEMBRA EN LOS EXTREMOS (CUADRO NO INCLUIDO) | D13: 39.32 | E13: €/Ud. | G13: =ROUND(F13-(F13*0.2),2) -> 0 | H13: 2 | I13: 0 | J13: 0 | K13: =H13*D13 -> 78.64 | L13: =G13*I13 -> 0 | Y13: 1 | AC13: =SUM(M13,O13,Q13,S13,U13,W13,Y13,AA13) -> 1 | AD13: =SUM(N13,P13,R13,T13,V13,X13,Z13,AB13) -> 0 | AX13: =G13*J13 -> 0
A14: 6RY01078 | B14: 6RI02170 | C14: ENCHUFE TRIFASICO HASTA 9.000 W. DE 10 M DE LONGITUD CON CETAC DE 16 AMPERIOS MACHO Y HEMBRA EN LOS EXTREMOS (CUADRO NO INCLUIDO) | D14: 17.47 | E14: €/Ud. | G14: =ROUND(F14-(F14*0.2),2) -> 0 | H14: 2 | I14: 0 | J14: 0 | K14: =H14*D14 -> 34.94 | L14: =G14*I14 -> 0 | Y14: 1 | AC14: =SUM(M14,O14,Q14,S14,U14,W14,Y14,AA14) -> 1 | AD14: =SUM(N14,P14,R14,T14,V14,X14,Z14,AB14) -> 0 | AX14: =G14*J14 -> 0
A15: 6RY01039 | B15: 6RI02060 | C15: ENTRAMADO DE TECHO | D15: 15.4 | E15: €/Ml. | G15: =ROUND(F15-(F15*0.2),2) -> 0 | H15: 0 | I15: 0 | J15: 0 | K15: =H15*D15 -> 0 | L15: =G15*I15 -> 0 | M15: 73 | W15: 4 | Y15: 4 | AC15: =SUM(M15,O15,Q15,S15,U15,W15,Y15,AA15) -> 81 | AD15: =SUM(N15,P15,R15,T15,V15,X15,Z15,AB15) -> 0 | AX15: =G15*J15 -> 0
A16: 6RY01036 | B16: 6RI02021 | C16: ESPEJO EN PARED | D16: 101.43 | E16: €/Ud. | G16: =ROUND(F16-(F16*0.2),2) -> 0 | H16: 0 | I16: 0 | J16: 0 | K16: =H16*D16 -> 0 | L16: =G16*I16 -> 0 | AC16: =SUM(M16,O16,Q16,S16,U16,W16,Y16,AA16) -> 0 | AD16: =SUM(N16,P16,R16,T16,V16,X16,Z16,AB16) -> 0 | AX16: =G16*J16 -> 0
A17: 6RY01012 | B17: 6RI02012 | C17: ESTANTE EN PARED 100 X 30 HORIZONTAL | D17: 20.21 | E17: €/Ud. | G17: =ROUND(F17-(F17*0.2),2) -> 0 | H17: 20 | I17: 0 | J17: 0 | K17: =H17*D17 -> 404.2 | L17: =G17*I17 -> 0 | M17: 30 | W17: 2 | AC17: =SUM(M17,O17,Q17,S17,U17,W17,Y17,AA17) -> 32 | AD17: =SUM(N17,P17,R17,T17,V17,X17,Z17,AB17) -> 0 | AX17: =G17*J17 -> 0
A18: 6RY01063 | B18: 6RI02013 | C18: ESTANTE EN PARED 100 X 30 INCLINADO | D18: 20.21 | E18: €/Ud. | G18: =ROUND(F18-(F18*0.2),2) -> 0 | H18: 5 | I18: 0 | J18: 0 | K18: =H18*D18 -> 101.05 | L18: =G18*I18 -> 0 | W18: 4 | Y18: 3 | AC18: =SUM(M18,O18,Q18,S18,U18,W18,Y18,AA18) -> 7 | AD18: =SUM(N18,P18,R18,T18,V18,X18,Z18,AB18) -> 0 | AX18: =G18*J18 -> 0
A19: 6RY01011 | B19: 6RI02014 | C19: ESTANTE EN PARED 100 X 50 HORIZONTAL | D19: 20.21 | E19: €/Ud. | G19: =ROUND(F19-(F19*0.2),2) -> 0 | H19: 10 | I19: 0 | J19: 0 | K19: =H19*D19 -> 202.1 | L19: =G19*I19 -> 0 | AC19: =SUM(M19,O19,Q19,S19,U19,W19,Y19,AA19) -> 0 | AD19: =SUM(N19,P19,R19,T19,V19,X19,Z19,AB19) -> 0 | AX19: =G19*J19 -> 0
A20: 6RY01040 | B20: 6RI02037 | C20: ESTANTE EN PARED 100X30 HORIZONTAL (MADERA) | D20: 39.08 | E20: €/Ud. | G20: =ROUND(F20-(F20*0.2),2) -> 0 | H20: 10 | I20: 0 | J20: 0 | K20: =H20*D20 -> 390.8 | L20: =G20*I20 -> 0 | M20: 12 | O20: 1 | S20: 7 | U20: 16 | AC20: =SUM(M20,O20,Q20,S20,U20,W20,Y20,AA20) -> 36 | AD20: =SUM(N20,P20,R20,T20,V20,X20,Z20,AB20) -> 0 | AX20: =G20*J20 -> 0
A21: 6RY01041 | B21: 6RI02038 | C21: ESTANTE EN PARED 100X30 INCLINADO (MADERA) | D21: 39.08 | E21: €/Ud. | G21: =ROUND(F21-(F21*0.2),2) -> 0 | H21: 2 | I21: 0 | J21: 0 | K21: =H21*D21 -> 78.16 | L21: =G21*I21 -> 0 | S21: 3 | AC21: =SUM(M21,O21,Q21,S21,U21,W21,Y21,AA21) -> 3 | AD21: =SUM(N21,P21,R21,T21,V21,X21,Z21,AB21) -> 0 | AX21: =G21*J21 -> 0
A22: 6RY01042 | B22: 6RI02039 | C22: ESTANTE EN PARED 100X50 HORIZONTAL (MADERA) | D22: 39.08 | E22: €/Ud. | G22: =ROUND(F22-(F22*0.2),2) -> 0 | H22: 10 | I22: 0 | J22: 0 | K22: =H22*D22 -> 390.8 | L22: =G22*I22 -> 0 | M22: 19 | S22: 3 | AC22: =SUM(M22,O22,Q22,S22,U22,W22,Y22,AA22) -> 22 | AD22: =SUM(N22,P22,R22,T22,V22,X22,Z22,AB22) -> 0 | AX22: =G22*J22 -> 0
A23: 6RY01065 | B23: 6RI02158 | C23: FOCO LED CON BRAZO | D23: 69.37 | E23: €/Ud. | G23: =ROUND(F23-(F23*0.2),2) -> 0 | H23: 0 | I23: 0 | J23: 0 | K23: =H23*D23 -> 0 | L23: =G23*I23 -> 0 | M23: 8 | U23: 7 | W23: 227 | AA23: 4 | AC23: =SUM(M23,O23,Q23,S23,U23,W23,Y23,AA23) -> 246 | AD23: =SUM(N23,P23,R23,T23,V23,X23,Z23,AB23) -> 0 | AX23: =G23*J23 -> 0
A24: 6RY01064 | B24: 6RI02157 | C24: FOCO LED EN CARRIL | D24: 60.32 | E24: €/Ud. | G24: =ROUND(F24-(F24*0.2),2) -> 0 | H24: 6 | I24: 0 | J24: 0 | K24: =H24*D24 -> 361.92 | L24: =G24*I24 -> 0 | M24: 25 | Q24: 5 | S24: 2 | U24: 11 | AA24: 2 | AC24: =SUM(M24,O24,Q24,S24,U24,W24,Y24,AA24) -> 45 | AD24: =SUM(N24,P24,R24,T24,V24,X24,Z24,AB24) -> 0 | AX24: =G24*J24 -> 0
A25: 6RY01079 | B25: 6RI02159 | C25: HORA TÉCNICO (MINIMO 1 h.) | D25: 45.78 | E25: €/h | G25: =ROUND(F25-(F25*0.2),2) -> 0 | H25: 0 | I25: 0 | J25: 0 | K25: =H25*D25 -> 0 | L25: =G25*I25 -> 0 | W25: 127 | AC25: =SUM(M25,O25,Q25,S25,U25,W25,Y25,AA25) -> 127 | AD25: =SUM(N25,P25,R25,T25,V25,X25,Z25,AB25) -> 0 | AX25: =G25*J25 -> 0
A26: 6RY01080 | B26: 6RI02113 | C26: LOGOTIPO | D26: 40.34 | E26: €/Ud. | G26: =ROUND(F26-(F26*0.2),2) -> 0 | H26: 0 | I26: 0 | J26: 0 | K26: =H26*D26 -> 0 | L26: =G26*I26 -> 0 | AC26: =SUM(M26,O26,Q26,S26,U26,W26,Y26,AA26) -> 0 | AD26: =SUM(N26,P26,R26,T26,V26,X26,Z26,AB26) -> 0 | AX26: =G26*J26 -> 0
A27: 6RY01005 | B27: 6RI02121 | C27: MOQUETA FERIAL SUELO (CON PLÁSTICO PROTECTOR) | D27: 6.87 | E27: €/m2 | G27: =ROUND(F27-(F27*0.2),2) -> 0 | H27: 0 | I27: 0 | J27: 0 | K27: =H27*D27 -> 0 | L27: =G27*I27 -> 0 | M27: 36 | N27: 50 | P27: 48 | S27: 328 | U27: 156 | AA27: 27 | AC27: =SUM(M27,O27,Q27,S27,U27,W27,Y27,AA27) -> 547 | AD27: =SUM(N27,P27,R27,T27,V27,X27,Z27,AB27) -> 98 | AX27: =G27*J27 -> 0
A28: 6RY01030 | B28: 6RI02041 | C28: MOSTRADOR 100 X 50 X 100 | D28: 47.11 | E28: €/Ud. | G28: =ROUND(F28-(F28*0.2),2) -> 0 | H28: 6 | I28: 0 | J28: 0 | K28: =H28*D28 -> 282.66 | L28: =G28*I28 -> 0 | S28: 2 | AC28: =SUM(M28,O28,Q28,S28,U28,W28,Y28,AA28) -> 2 | AD28: =SUM(N28,P28,R28,T28,V28,X28,Z28,AB28) -> 0 | AX28: =G28*J28 -> 0
A29: 6RY01045 | B29: 6RI02042 | C29: MOSTRADOR 100X50X100 (MADERA) | D29: 95.88 | E29: €/Ud. | G29: =ROUND(F29-(F29*0.2),2) -> 0 | H29: 2 | I29: 0 | J29: 2 | K29: =H29*D29 -> 191.76 | L29: =G29*I29 -> 0 | U29: 9 | W29: 1 | Y29: 6 | AC29: =SUM(M29,O29,Q29,S29,U29,W29,Y29,AA29) -> 16 | AD29: =SUM(N29,P29,R29,T29,V29,X29,Z29,AB29) -> 0 | AX29: =G29*J29 -> 0
A30: 6RY01029 | B30: 6RI02040 | C30: MOSTRADOR VITRINA | D30: 67.32 | E30: €/Ud. | G30: =ROUND(F30-(F30*0.2),2) -> 0 | H30: 2 | I30: 0 | J30: 0 | K30: =H30*D30 -> 134.64 | L30: =G30*I30 -> 0 | AC30: =SUM(M30,O30,Q30,S30,U30,W30,Y30,AA30) -> 0 | AD30: =SUM(N30,P30,R30,T30,V30,X30,Z30,AB30) -> 0 | AX30: =G30*J30 -> 0
A31: 6RY01046 | B31: 6RI02114 | C31: MURO AGLOMERADO (10-20 CM) PINTADO HASTA 1,22 M ALTURA | D31: 42.65 | E31: €/Ml. | G31: =ROUND(F31-(F31*0.2),2) -> 0 | H31: 0 | I31: 0 | J31: 10 | K31: =H31*D31 -> 0 | L31: =G31*I31 -> 0 | S31: 3 | U31: 3 | AC31: =SUM(M31,O31,Q31,S31,U31,W31,Y31,AA31) -> 6 | AD31: =SUM(N31,P31,R31,T31,V31,X31,Z31,AB31) -> 0 | AX31: =G31*J31 -> 0
A32: 6RY01047 | B32: 6RI02115 | C32: MURO AGLOMERADO (10-20 CM) PINTADO HASTA 2,44 M ALTURA | D32: 64 | E32: €/Ml. | G32: =ROUND(F32-(F32*0.2),2) -> 0 | H32: 0 | I32: 0 | J32: 0 | K32: =H32*D32 -> 0 | L32: =G32*I32 -> 0 | S32: 2 | W32: 53 | Y32: 143 | AC32: =SUM(M32,O32,Q32,S32,U32,W32,Y32,AA32) -> 198 | AD32: =SUM(N32,P32,R32,T32,V32,X32,Z32,AB32) -> 0 | AX32: =G32*J32 -> 0
A33: 6RY01048 | B33: 6RI02116 | C33: MURO AGLOMERADO (10-20 CM) PINTADO HASTA 3,00 M ALTURA | D33: 80 | E33: €/Ml. | G33: =ROUND(F33-(F33*0.2),2) -> 0 | H33: 0 | I33: 0 | J33: 50 | K33: =H33*D33 -> 0 | L33: =G33*I33 -> 0 | M33: 19 | N33: 7 | S33: 10 | U33: 21 | V33: 168 | AC33: =SUM(M33,O33,Q33,S33,U33,W33,Y33,AA33) -> 50 | AD33: =SUM(N33,P33,R33,T33,V33,X33,Z33,AB33) -> 175 | AX33: =G33*J33 -> 0
A34: 6RY01071 | B34: 6RI02117 | C34: MURO AGLOMERADO (10-20 CM) PINTADO HASTA 3,66 M ALTURA | D34: 106.64 | E34: €/Ml. | G34: =ROUND(F34-(F34*0.2),2) -> 0 | H34: 0 | I34: 0 | J34: 0 | K34: =H34*D34 -> 0 | L34: =G34*I34 -> 0 | AC34: =SUM(M34,O34,Q34,S34,U34,W34,Y34,AA34) -> 0 | AD34: =SUM(N34,P34,R34,T34,V34,X34,Z34,AB34) -> 0 | AX34: =G34*J34 -> 0
A35: 6RY01002 | B35: 6RI02007 | C35: PANEL ACRISTALADO 1ML. | D35: 74.02 | E35: €/Ml. | G35: =ROUND(F35-(F35*0.2),2) -> 0 | H35: 0 | I35: 0 | J35: 0 | K35: =H35*D35 -> 0 | L35: =G35*I35 -> 0 | AC35: =SUM(M35,O35,Q35,S35,U35,W35,Y35,AA35) -> 0 | AD35: =SUM(N35,P35,R35,T35,V35,X35,Z35,AB35) -> 0 | AX35: =G35*J35 -> 0
A36: 6RY01049 | B36: 6RI09001 | C36: PANEL AGLOMERADO PINTADO HASTA 1,22 M ALTURA | D36: 25.58 | E36: €/Ml. | G36: =ROUND(F36-(F36*0.2),2) -> 0 | H36: 0 | I36: 0 | J36: 0 | K36: =H36*D36 -> 0 | L36: =G36*I36 -> 0 | S36: 6 | AC36: =SUM(M36,O36,Q36,S36,U36,W36,Y36,AA36) -> 6 | AD36: =SUM(N36,P36,R36,T36,V36,X36,Z36,AB36) -> 0 | AX36: =G36*J36 -> 0
A37: 6RY01050 | B37: 6RI09002 | C37: PANEL AGLOMERADO PINTADO HASTA 2,44 M ALTURA | D37: 51.19 | E37: €/Ml. | G37: =ROUND(F37-(F37*0.2),2) -> 0 | H37: 0 | I37: 0 | J37: 0 | K37: =H37*D37 -> 0 | L37: =G37*I37 -> 0 | AC37: =SUM(M37,O37,Q37,S37,U37,W37,Y37,AA37) -> 0 | AD37: =SUM(N37,P37,R37,T37,V37,X37,Z37,AB37) -> 0 | AX37: =G37*J37 -> 0
A38: 6RY01051 | B38: 6RI09003 | C38: PANEL AGLOMERADO PINTADO HASTA 3,00 M ALTURA | D38: 60 | E38: €/Ml. | G38: =ROUND(F38-(F38*0.2),2) -> 0 | H38: 0 | I38: 4 | J38: 30 | K38: =H38*D38 -> 0 | L38: =G38*I38 -> 0 | M38: 63 | N38: 72 | P38: 8 | R38: 12 | S38: 22 | T38: 305 | U38: 33 | V38: 37 | AA38: 14 | AC38: =SUM(M38,O38,Q38,S38,U38,W38,Y38,AA38) -> 132 | AD38: =SUM(N38,P38,R38,T38,V38,X38,Z38,AB38) -> 434 | AX38: =G38*J38 -> 0
A39: 6RY01070 | B39: 6RI09004 | C39: PANEL AGLOMERADO PINTADO HASTA 3,66 M ALTURA | D39: 76.78 | E39: €/Ml. | G39: =ROUND(F39-(F39*0.2),2) -> 0 | H39: 0 | I39: 0 | J39: 0 | K39: =H39*D39 -> 0 | L39: =G39*I39 -> 0 | AC39: =SUM(M39,O39,Q39,S39,U39,W39,Y39,AA39) -> 0 | AD39: =SUM(N39,P39,R39,T39,V39,X39,Z39,AB39) -> 0 | AX39: =G39*J39 -> 0
A40: 6RY01001 | B40: 6RI02008 | C40: PANEL MELAMINADO 1ML | D40: 36.47 | E40: €/Ml. | G40: =ROUND(F40-(F40*0.2),2) -> 0 | H40: 10 | I40: 30 | J40: 0 | K40: =H40*D40 -> 364.7 | L40: =G40*I40 -> 0 | M40: 2 | N40: 170 | V40: 19 | AC40: =SUM(M40,O40,Q40,S40,U40,W40,Y40,AA40) -> 2 | AD40: =SUM(N40,P40,R40,T40,V40,X40,Z40,AB40) -> 189 | AX40: =G40*J40 -> 0
...

Sheet Materiales Complem Sagris
A1: Cod. SAP | C1: ARTÍCULOS SAGRIS | D1: Precios unitarios máximos iva excluido | F1: PRECIO UNITARIO OFERTADO PARA EXPOSITOR (a) | G1: PRECIO UNITARIO OFERTADO PARA IFEMA (se aplica un 20 % de descuento del precio para ofertado para expositor) (b) | H1: ESTIMACIÓN UNIDADES EXPOSITOR ( c ) | I1: ESTIMACIÓN UNIDADES IFEMA ( d ) | J1: ESTIMACIÓN UNIDADES DISEÑO FERIAL ( d ) | K1: IMPORTE EXPOSITOR (a) x (c) | L1: IMPORTE IFEMA (b) x ( d ) | M1: Intergift | O1: Vida Silver | Q1: Pisci-Mad | S1: FRUIT (PARA CADA LOTE) | U1: Salon Look | W1: Matelec Industry | Y1: Veteco | AA1: Simo | AC1: Total | AX1: IMPORTE DISEÑO FERIAL (b) x ( d )
A2: Expositor | B2: SS.FF. | C2: MATERIALES GENERICOS | M2: Expo | N2: Ifema | O2: Expo | P2: Ifema | Q2: Expo | R2: Ifema | S2: Expo | T2: Ifema | U2: Expo | V2: Ifema | W2: Expo | X2: Ifema | Y2: Expo | Z2: Ifema | AA2: Expo | AB2: Ifema | AC2: Expo | AD2: Ifema
A3: 6RY01037 | B3: 6RI09005 | C3: ARMARIO BAJO 100 x 50 x 60 (MADERA) | D3: 85.3 | E3: €/Ud. | G3: =ROUND(F3-(F3*0.2),2) -> 0 | H3: 0 | I3: 0 | J3: 0 | K3: =H3*D3 -> 0 | L3: =G3*I3 -> 0 | AC3: =SUM(M3,O3,Q3,S3,U3,W3,Y3,AA3) -> 0 | AD3: =SUM(N3,P3,R3,T3,V3,X3,Z3,AB3) -> 0 | AX3: =G3*J3 -> 0
A4: 6RY01072 | B4: 6RI02125 | C4: BANDEROLA (40 x 50 cm.) | D4: 5.91 | E4: €/Ud. | G4: =ROUND(F4-(F4*0.2),2) -> 0 | H4: 0 | I4: 0 | J4: 0 | K4: =H4*D4 -> 0 | L4: =G4*I4 -> 0 | AC4: =SUM(M4,O4,Q4,S4,U4,W4,Y4,AA4) -> 0 | AD4: =SUM(N4,P4,R4,T4,V4,X4,Z4,AB4) -> 0 | AX4: =G4*J4 -> 0
A5: 6RY01034 | B5: 6RI02003 | C5: BASE DE ENCHUFE CUÁDRUPLE HASTA 3.500 W CABLE HASTA 10 M (CUADRO NO INCLUIDO) | D5: 9.71 | E5: €/Ud. | G5: =ROUND(F5-(F5*0.2),2) -> 0 | H5: 4 | I5: 0 | J5: 0 | K5: =H5*D5 -> 38.84 | L5: =G5*I5 -> 0 | S5: 8 | U5: 2 | W5: 2 | Y5: 4 | AA5: 1 | AC5: =SUM(M5,O5,Q5,S5,U5,W5,Y5,AA5) -> 17 | AD5: =SUM(N5,P5,R5,T5,V5,X5,Z5,AB5) -> 0 | AX5: =G5*J5 -> 0
A6: 6RY01032 | B6: 6RI02001 | C6: BASE DE ENCHUFE DOBLE HASTA 3.500 W CABLE HASTA 10 M (CUADRO NO INCLUIDO) | D6: 6.47 | E6: €/Ud. | G6: =ROUND(F6-(F6*0.2),2) -> 0 | H6: 2 | I6: 0 | J6: 0 | K6: =H6*D6 -> 12.94 | L6: =G6*I6 -> 0 | M6: 59 | Q6: 7 | S6: 19 | U6: 89 | W6: 1 | Y6: 2 | AA6: 28 | AC6: =SUM(M6,O6,Q6,S6,U6,W6,Y6,AA6) -> 205 | AD6: =SUM(N6,P6,R6,T6,V6,X6,Z6,AB6) -> 0 | AX6: =G6*J6 -> 0
A7: 6RY01033 | B7: 6RI02002 | C7: BASE DE ENCHUFE TRIPLE HASTA 3.500 W CABLE HASTA 10 M (CUADRO NO INCLUIDO) | D7: 8.1 | E7: €/Ud. | G7: =ROUND(F7-(F7*0.2),2) -> 0 | H7: 2 | I7: 0 | J7: 0 | K7: =H7*D7 -> 16.2 | L7: =G7*I7 -> 0 | O7: 10 | S7: 7 | U7: 1 | W7: 2 | Y7: 2 | AA7: 2 | AC7: =SUM(M7,O7,Q7,S7,U7,W7,Y7,AA7) -> 24 | AD7: =SUM(N7,P7,R7,T7,V7,X7,Z7,AB7) -> 0 | AX7: =G7*J7 -> 0
A8: 6RY01075 | B8: 6RI02120 | C8: BASTIDOR DE ALUMINIO | D8: 28.93 | E8: €/Ml. | G8: =ROUND(F8-(F8*0.2),2) -> 0 | H8: 0 | I8: 0 | J8: 0 | K8: =H8*D8 -> 0 | L8: =G8*I8 -> 0 | AC8: =SUM(M8,O8,Q8,S8,U8,W8,Y8,AA8) -> 0 | AD8: =SUM(N8,P8,R8,T8,V8,X8,Z8,AB8) -> 0 | AX8: =G8*J8 -> 0
A9: 6RY01038 | B9: 6RI02067 | C9: CAMBIO COLOR PINTURA | D9: 5.17 | E9: €/m2 | G9: =ROUND(F9-(F9*0.2),2) -> 0 | H9: 0 | I9: 0 | J9: 0 | K9: =H9*D9 -> 0 | L9: =G9*I9 -> 0 | M9: 121 | Q9: 2 | S9: 91 | U9: 211 | V9: 12 | AA9: 114 | AC9: =SUM(M9,O9,Q9,S9,U9,W9,Y9,AA9) -> 539 | AD9: =SUM(N9,P9,R9,T9,V9,X9,Z9,AB9) -> 12 | AX9: =G9*J9 -> 0
A10: 6RY01035 | B10: 6RI02020 | C10: CORTINA | D10: 29.26 | E10: €/Ml. | G10: =ROUND(F10-(F10*0.2),2) -> 0 | H10: 0 | I10: 20 | J10: 0 | K10: =H10*D10 -> 0 | L10: =G10*I10 -> 0 | N10: 27 | T10: 62 | U10: 5 | V10: 22 | W10: 1 | X10: 11 | Z10: 2 | AC10: =SUM(M10,O10,Q10,S10,U10,W10,Y10,AA10) -> 6 | AD10: =SUM(N10,P10,R10,T10,V10,X10,Z10,AB10) -> 124 | AX10: =G10*J10 -> 0
A11: 6RY01018 | B11: 6RI02052 | C11: ENCHUFE MONOFÁSICO HASTA 3.500 W CABLE HASTA 10 M (CUADRO NO INCLUIDO) | D11: 11.64 | E11: €/Ud. | G11: =ROUND(F11-(F11*0.2),2) -> 0 | H11: 2 | I11: 0 | J11: 0 | K11: =H11*D11 -> 23.28 | L11: =G11*I11 -> 0 | M11: 83 | S11: 32 | AA11: 5 | AC11: =SUM(M11,O11,Q11,S11,U11,W11,Y11,AA11) -> 120 | AD11: =SUM(N11,P11,R11,T11,V11,X11,Z11,AB11) -> 0 | AX11: =G11*J11 -> 0
A12: 6RY01076 | B12: 6RI02168 | C12: ENCHUFE TRIFASICO HASTA 18.000 W. DE 10 M DE LONGITUD CON CETAC DE 32 AMPERIOS MACHO Y HEMBRA EN LOS EXTREMOS (CUADRO NO INCLUIDO) | D12: 26.22 | E12: €/Ud. | G12: =ROUND(F12-(F12*0.2),2) -> 0 | H12: 2 | I12: 0 | J12: 0 | K12: =H12*D12 -> 52.44 | L12: =G12*I12 -> 0 | S12: 6 | AC12: =SUM(M12,O12,Q12,S12,U12,W12,Y12,AA12) -> 6 | AD12: =SUM(N12,P12,R12,T12,V12,X12,Z12,AB12) -> 0 | AX12: =G12*J12 -> 0
A13: 6RY01077 | B13: 6RI02169 | C13: ENCHUFE TRIFASICO HASTA 37.000 W. DE 10 M DE LONGITUD CON CETAC DE 63 AMPERIOS MACHO Y HEMBRA EN LOS EXTREMOS (CUADRO NO INCLUIDO) | D13: 39.32 | E13: €/Ud. | G13: =ROUND(F13-(F13*0.2),2) -> 0 | H13: 2 | I13: 0 | J13: 0 | K13: =H13*D13 -> 78.64 | L13: =G13*I13 -> 0 | Y13: 1 | AC13: =SUM(M13,O13,Q13,S13,U13,W13,Y13,AA13) -> 1 | AD13: =SUM(N13,P13,R13,T13,V13,X13,Z13,AB13) -> 0 | AX13: =G13*J13 -> 0
A14: 6RY01078 | B14: 6RI02170 | C14: ENCHUFE TRIFASICO HASTA 9.000 W. DE 10 M DE LONGITUD CON CETAC DE 16 AMPERIOS MACHO Y HEMBRA EN LOS EXTREMOS (CUADRO NO INCLUIDO) | D14: 17.47 | E14: €/Ud. | G14: =ROUND(F14-(F14*0.2),2) -> 0 | H14: 2 | I14: 0 | J14: 0 | K14: =H14*D14 -> 34.94 | L14: =G14*I14 -> 0 | Y14: 1 | AC14: =SUM(M14,O14,Q14,S14,U14,W14,Y14,AA14) -> 1 | AD14: =SUM(N14,P14,R14,T14,V14,X14,Z14,AB14) -> 0 | AX14: =G14*J14 -> 0
A15: 6RY01039 | B15: 6RI02060 | C15: ENTRAMADO DE TECHO | D15: 15.4 | E15: €/Ml. | G15: =ROUND(F15-(F15*0.2),2) -> 0 | H15: 0 | I15: 0 | J15: 0 | K15: =H15*D15 -> 0 | L15: =G15*I15 -> 0 | M15: 73 | W15: 4 | Y15: 4 | AC15: =SUM(M15,O15,Q15,S15,U15,W15,Y15,AA15) -> 81 | AD15: =SUM(N15,P15,R15,T15,V15,X15,Z15,AB15) -> 0 | AX15: =G15*J15 -> 0
A16: 6RY01036 | B16: 6RI02021 | C16: ESPEJO EN PARED | D16: 101.43 | E16: €/Ud. | G16: =ROUND(F16-(F16*0.2),2) -> 0 | H16: 0 | I16: 0 | J16: 0 | K16: =H16*D16 -> 0 | L16: =G16*I16 -> 0 | AC16: =SUM(M16,O16,Q16,S16,U16,W16,Y16,AA16) -> 0 | AD16: =SUM(N16,P16,R16,T16,V16,X16,Z16,AB16) -> 0 | AX16: =G16*J16 -> 0
A17: 6RY01012 | B17: 6RI02012 | C17: ESTANTE EN PARED 100 X 30 HORIZONTAL | D17: 20.21 | E17: €/Ud. | G17: =ROUND(F17-(F17*0.2),2) -> 0 | H17: 30 | I17: 0 | J17: 0 | K17: =H17*D17 -> 606.3 | L17: =G17*I17 -> 0 | M17: 30 | W17: 2 | AC17: =SUM(M17,O17,Q17,S17,U17,W17,Y17,AA17) -> 32 | AD17: =SUM(N17,P17,R17,T17,V17,X17,Z17,AB17) -> 0 | AX17: =G17*J17 -> 0
A18: 6RY01063 | B18: 6RI02013 | C18: ESTANTE EN PARED 100 X 30 INCLINADO | D18: 20.21 | E18: €/Ud. | G18: =ROUND(F18-(F18*0.2),2) -> 0 | H18: 10 | I18: 0 | J18: 0 | K18: =H18*D18 -> 202.1 | L18: =G18*I18 -> 0 | W18: 4 | Y18: 3 | AC18: =SUM(M18,O18,Q18,S18,U18,W18,Y18,AA18) -> 7 | AD18: =SUM(N18,P18,R18,T18,V18,X18,Z18,AB18) -> 0 | AX18: =G18*J18 -> 0
A19: 6RY01011 | B19: 6RI02014 | C19: ESTANTE EN PARED 100 X 50 HORIZONTAL | D19: 20.21 | E19: €/Ud. | G19: =ROUND(F19-(F19*0.2),2) -> 0 | H19: 10 | I19: 0 | J19: 0 | K19: =H19*D19 -> 202.1 | L19: =G19*I19 -> 0 | AC19: =SUM(M19,O19,Q19,S19,U19,W19,Y19,AA19) -> 0 | AD19: =SUM(N19,P19,R19,T19,V19,X19,Z19,AB19) -> 0 | AX19: =G19*J19 -> 0
A20: 6RY01040 | B20: 6RI02037 | C20: ESTANTE EN PARED 100X30 HORIZONTAL (MADERA) | D20: 39.08 | E20: €/Ud. | G20: =ROUND(F20-(F20*0.2),2) -> 0 | H20: 0 | I20: 0 | J20: 0 | K20: =H20*D20 -> 0 | L20: =G20*I20 -> 0 | M20: 12 | O20: 1 | S20: 7 | U20: 16 | AC20: =SUM(M20,O20,Q20,S20,U20,W20,Y20,AA20) -> 36 | AD20: =SUM(N20,P20,R20,T20,V20,X20,Z20,AB20) -> 0 | AX20: =G20*J20 -> 0
A21: 6RY01041 | B21: 6RI02038 | C21: ESTANTE EN PARED 100X30 INCLINADO (MADERA) | D21: 39.08 | E21: €/Ud. | G21: =ROUND(F21-(F21*0.2),2) -> 0 | H21: 0 | I21: 0 | J21: 0 | K21: =H21*D21 -> 0 | L21: =G21*I21 -> 0 | S21: 3 | AC21: =SUM(M21,O21,Q21,S21,U21,W21,Y21,AA21) -> 3 | AD21: =SUM(N21,P21,R21,T21,V21,X21,Z21,AB21) -> 0 | AX21: =G21*J21 -> 0
A22: 6RY01042 | B22: 6RI02039 | C22: ESTANTE EN PARED 100X50 HORIZONTAL (MADERA) | D22: 39.08 | E22: €/Ud. | G22: =ROUND(F22-(F22*0.2),2) -> 0 | H22: 0 | I22: 0 | J22: 0 | K22: =H22*D22 -> 0 | L22: =G22*I22 -> 0 | M22: 19 | S22: 3 | AC22: =SUM(M22,O22,Q22,S22,U22,W22,Y22,AA22) -> 22 | AD22: =SUM(N22,P22,R22,T22,V22,X22,Z22,AB22) -> 0 | AX22: =G22*J22 -> 0
A23: 6RY01065 | B23: 6RI02158 | C23: FOCO LED CON BRAZO | D23: 69.37 | E23: €/Ud. | G23: =ROUND(F23-(F23*0.2),2) -> 0 | H23: 20 | I23: 0 | J23: 0 | K23: =H23*D23 -> 1387.4 | L23: =G23*I23 -> 0 | M23: 8 | U23: 7 | W23: 227 | AA23: 4 | AC23: =SUM(M23,O23,Q23,S23,U23,W23,Y23,AA23) -> 246 | AD23: =SUM(N23,P23,R23,T23,V23,X23,Z23,AB23) -> 0 | AX23: =G23*J23 -> 0
A24: 6RY01064 | B24: 6RI02157 | C24: FOCO LED EN CARRIL | D24: 60.32 | E24: €/Ud. | G24: =ROUND(F24-(F24*0.2),2) -> 0 | H24: 6 | I24: 0 | J24: 0 | K24: =H24*D24 -> 361.92 | L24: =G24*I24 -> 0 | M24: 25 | Q24: 5 | S24: 2 | U24: 11 | AA24: 2 | AC24: =SUM(M24,O24,Q24,S24,U24,W24,Y24,AA24) -> 45 | AD24: =SUM(N24,P24,R24,T24,V24,X24,Z24,AB24) -> 0 | AX24: =G24*J24 -> 0
A25: 6RY01079 | B25: 6RI02159 | C25: HORA TÉCNICO (MINIMO 1 h.) | D25: 45.78 | E25: €/h | G25: =ROUND(F25-(F25*0.2),2) -> 0 | H25: 0 | I25: 0 | J25: 0 | K25: =H25*D25 -> 0 | L25: =G25*I25 -> 0 | W25: 127 | AC25: =SUM(M25,O25,Q25,S25,U25,W25,Y25,AA25) -> 127 | AD25: =SUM(N25,P25,R25,T25,V25,X25,Z25,AB25) -> 0 | AX25: =G25*J25 -> 0
A26: 6RY01080 | B26: 6RI02113 | C26: LOGOTIPO | D26: 40.34 | E26: €/Ud. | G26: =ROUND(F26-(F26*0.2),2) -> 0 | H26: 0 | I26: 0 | J26: 0 | K26: =H26*D26 -> 0 | L26: =G26*I26 -> 0 | AC26: =SUM(M26,O26,Q26,S26,U26,W26,Y26,AA26) -> 0 | AD26: =SUM(N26,P26,R26,T26,V26,X26,Z26,AB26) -> 0 | AX26: =G26*J26 -> 0
A27: 6RY01005 | B27: 6RI02121 | C27: MOQUETA FERIAL SUELO (CON PLÁSTICO PROTECTOR) | D27: 6.87 | E27: €/m2 | G27: =ROUND(F27-(F27*0.2),2) -> 0 | H27: 0 | I27: 0 | J27: 0 | K27: =H27*D27 -> 0 | L27: =G27*I27 -> 0 | M27: 36 | N27: 50 | P27: 48 | S27: 328 | U27: 156 | AA27: 27 | AC27: =SUM(M27,O27,Q27,S27,U27,W27,Y27,AA27) -> 547 | AD27: =SUM(N27,P27,R27,T27,V27,X27,Z27,AB27) -> 98 | AX27: =G27*J27 -> 0
A28: 6RY01030 | B28: 6RI02041 | C28: MOSTRADOR 100 X 50 X 100 | D28: 47.11 | E28: €/Ud. | G28: =ROUND(F28-(F28*0.2),2) -> 0 | H28: 6 | I28: 0 | J28: 0 | K28: =H28*D28 -> 282.66 | L28: =G28*I28 -> 0 | S28: 2 | AC28: =SUM(M28,O28,Q28,S28,U28,W28,Y28,AA28) -> 2 | AD28: =SUM(N28,P28,R28,T28,V28,X28,Z28,AB28) -> 0 | AX28: =G28*J28 -> 0
A29: 6RY01045 | B29: 6RI02042 | C29: MOSTRADOR 100X50X100 (MADERA) | D29: 95.88 | E29: €/Ud. | G29: =ROUND(F29-(F29*0.2),2) -> 0 | H29: 2 | I29: 0 | J29: 2 | K29: =H29*D29 -> 191.76 | L29: =G29*I29 -> 0 | U29: 9 | W29: 1 | Y29: 6 | AC29: =SUM(M29,O29,Q29,S29,U29,W29,Y29,AA29) -> 16 | AD29: =SUM(N29,P29,R29,T29,V29,X29,Z29,AB29) -> 0 | AX29: =G29*J29 -> 0
A30: 6RY01029 | B30: 6RI02040 | C30: MOSTRADOR VITRINA | D30: 67.32 | E30: €/Ud. | G30: =ROUND(F30-(F30*0.2),2) -> 0 | H30: 2 | I30: 0 | J30: 0 | K30: =H30*D30 -> 134.64 | L30: =G30*I30 -> 0 | AC30: =SUM(M30,O30,Q30,S30,U30,W30,Y30,AA30) -> 0 | AD30: =SUM(N30,P30,R30,T30,V30,X30,Z30,AB30) -> 0 | AX30: =G30*J30 -> 0
A31: 6RY01046 | B31: 6RI02114 | C31: MURO AGLOMERADO (10-20 CM) PINTADO HASTA 1,22 M ALTURA | D31: 42.65 | E31: €/Ml. | G31: =ROUND(F31-(F31*0.2),2) -> 0 | H31: 0 | I31: 0 | J31: 10 | K31: =H31*D31 -> 0 | L31: =G31*I31 -> 0 | S31: 3 | U31: 3 | AC31: =SUM(M31,O31,Q31,S31,U31,W31,Y31,AA31) -> 6 | AD31: =SUM(N31,P31,R31,T31,V31,X31,Z31,AB31) -> 0 | AX31: =G31*J31 -> 0
A32: 6RY01047 | B32: 6RI02115 | C32: MURO AGLOMERADO (10-20 CM) PINTADO HASTA 2,44 M ALTURA | D32: 64 | E32: €/Ml. | G32: =ROUND(F32-(F32*0.2),2) -> 0 | H32: 0 | I32: 0 | J32: 0 | K32: =H32*D32 -> 0 | L32: =G32*I32 -> 0 | S32: 2 | W32: 53 | Y32: 143 | AC32: =SUM(M32,O32,Q32,S32,U32,W32,Y32,AA32) -> 198 | AD32: =SUM(N32,P32,R32,T32,V32,X32,Z32,AB32) -> 0 | AX32: =G32*J32 -> 0
A33: 6RY01048 | B33: 6RI02116 | C33: MURO AGLOMERADO (10-20 CM) PINTADO HASTA 3,00 M ALTURA | D33: 80 | E33: €/Ml. | G33: =ROUND(F33-(F33*0.2),2) -> 0 | H33: 0 | I33: 0 | J33: 0 | K33: =H33*D33 -> 0 | L33: =G33*I33 -> 0 | M33: 19 | N33: 7 | S33: 10 | U33: 21 | V33: 168 | AC33: =SUM(M33,O33,Q33,S33,U33,W33,Y33,AA33) -> 50 | AD33: =SUM(N33,P33,R33,T33,V33,X33,Z33,AB33) -> 175 | AX33: =G33*J33 -> 0
A34: 6RY01071 | B34: 6RI02117 | C34: MURO AGLOMERADO (10-20 CM) PINTADO HASTA 3,66 M ALTURA | D34: 106.64 | E34: €/Ml. | G34: =ROUND(F34-(F34*0.2),2) -> 0 | H34: 0 | I34: 0 | J34: 0 | K34: =H34*D34 -> 0 | L34: =G34*I34 -> 0 | AC34: =SUM(M34,O34,Q34,S34,U34,W34,Y34,AA34) -> 0 | AD34: =SUM(N34,P34,R34,T34,V34,X34,Z34,AB34) -> 0 | AX34: =G34*J34 -> 0
A35: 6RY01002 | B35: 6RI02007 | C35: PANEL ACRISTALADO 1ML. | D35: 74.02 | E35: €/Ml. | G35: =ROUND(F35-(F35*0.2),2) -> 0 | H35: 3 | I35: 0 | J35: 20 | K35: =H35*D35 -> 222.06 | L35: =G35*I35 -> 0 | AC35: =SUM(M35,O35,Q35,S35,U35,W35,Y35,AA35) -> 0 | AD35: =SUM(N35,P35,R35,T35,V35,X35,Z35,AB35) -> 0 | AX35: =G35*J35 -> 0
A36: 6RY01049 | B36: 6RI09001 | C36: PANEL AGLOMERADO PINTADO HASTA 1,22 M ALTURA | D36: 25.58 | E36: €/Ml. | G36: =ROUND(F36-(F36*0.2),2) -> 0 | H36: 0 | I36: 0 | J36: 0 | K36: =H36*D36 -> 0 | L36: =G36*I36 -> 0 | S36: 6 | AC36: =SUM(M36,O36,Q36,S36,U36,W36,Y36,AA36) -> 6 | AD36: =SUM(N36,P36,R36,T36,V36,X36,Z36,AB36) -> 0 | AX36: =G36*J36 -> 0
A37: 6RY01050 | B37: 6RI09002 | C37: PANEL AGLOMERADO PINTADO HASTA 2,44 M ALTURA | D37: 51.19 | E37: €/Ml. | G37: =ROUND(F37-(F37*0.2),2) -> 0 | H37: 0 | I37: 0 | J37: 0 | K37: =H37*D37 -> 0 | L37: =G37*I37 -> 0 | AC37: =SUM(M37,O37,Q37,S37,U37,W37,Y37,AA37) -> 0 | AD37: =SUM(N37,P37,R37,T37,V37,X37,Z37,AB37) -> 0 | AX37: =G37*J37 -> 0
A38: 6RY01051 | B38: 6RI09003 | C38: PANEL AGLOMERADO PINTADO HASTA 3,00 M ALTURA | D38: 60 | E38: €/Ml. | G38: =ROUND(F38-(F38*0.2),2) -> 0 | H38: 0 | I38: 0 | J38: 0 | K38: =H38*D38 -> 0 | L38: =G38*I38 -> 0 | M38: 63 | N38: 72 | P38: 8 | R38: 12 | S38: 22 | T38: 305 | U38: 33 | V38: 37 | AA38: 14 | AC38: =SUM(M38,O38,Q38,S38,U38,W38,Y38,AA38) -> 132 | AD38: =SUM(N38,P38,R38,T38,V38,X38,Z38,AB38) -> 434 | AX38: =G38*J38 -> 0
A39: 6RY01070 | B39: 6RI09004 | C39: PANEL AGLOMERADO PINTADO HASTA 3,66 M ALTURA | D39: 76.78 | E39: €/Ml. | G39: =ROUND(F39-(F39*0.2),2) -> 0 | H39: 0 | I39: 0 | J39: 0 | K39: =H39*D39 -> 0 | L39: =G39*I39 -> 0 | AC39: =SUM(M39,O39,Q39,S39,U39,W39,Y39,AA39) -> 0 | AD39: =SUM(N39,P39,R39,T39,V39,X39,Z39,AB39) -> 0 | AX39: =G39*J39 -> 0
A40: 6RY01001 | B40: 6RI02008 | C40: PANEL MELAMINADO 1ML | D40: 36.47 | E40: €/Ml. | G40: =ROUND(F40-(F40*0.2),2) -> 0 | H40: 50 | I40: 0 | J40: 150 | K40: =H40*D40 -> 1823.5 | L40: =G40*I40 -> 0 | M40: 2 | N40: 170 | V40: 19 | AC40: =SUM(M40,O40,Q40,S40,U40,W40,Y40,AA40) -> 2 | AD40: =SUM(N40,P40,R40,T40,V40,X40,Z40,AB40) -> 189 | AX40: =G40*J40 -> 0
...

Sheet Otros Materiales Comp. IFEMA
A1: ANEXO IX - B
A2: OTROS MATERIALES COMPLEMENTARIOS IFEMA | H2: Subida
A3: ARTÍCULOS | B3: Precios unitarios máximos iva excluido | D3: PRECIO UNITARIO OFERTADO IVA EXCLUIDO | H3: 0.24 | BK3: EXP | BL3: IFEMA | BM3: EXP | BN3: IFEMA | BO3: EXP | BP3: IFEMA
A4: BANCO DE MADERA PINTADO (200X45X45cm) | B4: 76.29 | C4: Ud. | G4: 50 | H4: =G4*24% -> 12 | I4: =SUM(G4:H4) -> 62 | BO4: 4
A5: BARRA DE 110 CMS DE ALTO, 50 DE FONDO CON PATAS PARA ENCASTRADO DE CARGADOR | B5: 83.92 | C5: ML | G5: 55 | H5: =G5*24% -> 13.2 | I5: =SUM(G5:H5) -> 68.2
A6: BARRA DE BAR | B6: 167.84 | C6: Ml. | G6: 110 | H6: =G6*24% -> 26.4 | I6: =SUM(G6:H6) -> 136.4 | BO6: 170
A7: BARRA DE BAR DE 110 CMS DE ALTO CON TAPA SUPERIOR PINTADA EN ESMALTE, Y PIES CON UNA SEPARACION MINIMA DE 125 CMS SIN ENTREPAÑOS | B7: 106.81 | C7: ML | G7: 70 | H7: =G7*24% -> 16.8 | I7: =SUM(G7:H7) -> 86.8 | BP7: 36
A8: CAJA DE LUZ DE 100X100 INCLUIDA ILUMINACIÓN INTERIOR Y JUNQUILLOS (NO LONA BACKLIGHT) | B8: 99.18 | C8: Ud. | G8: 65 | H8: =G8*24% -> 15.6 | I8: =SUM(G8:H8) -> 80.6
A9: COLUMNA | B9: 45.77 | C9: Ud. | G9: 30 | H9: =G9*24% -> 7.2 | I9: =SUM(G9:H9) -> 37.2
A10: CONTRABARRA DE BAR DE 80 CMS DE ALTO Y 60 DE FONDO INCLUSO BALDAS INTERMEDIAS | B10: 83.92 | C10: ML | G10: 55 | H10: =G10*24% -> 13.2 | I10: =SUM(G10:H10) -> 68.2
A11: CURVO HASTA 1,22 DE ALTO | B11: 112.91 | C11: ML | G11: 74 | H11: =G11*24% -> 17.76 | I11: =SUM(G11:H11) -> 91.76
A12: CURVO HASTA 2,44 DE ALTO | B12: 190.73 | C12: ML | G12: 125 | H12: =G12*24% -> 30 | I12: =SUM(G12:H12) -> 155
A13: CURVO HASTA 3,00 DE ALTO | B13: 213.61 | C13: ML | G13: 140 | H13: =G13*24% -> 33.6 | I13: =SUM(G13:H13) -> 173.6
A14: CURVO HASTA 3,66 DE ALTO | B14: 259.39 | C14: ML | G14: 170 | H14: =G14*24% -> 40.8 | I14: =SUM(G14:H14) -> 210.8
A15: DINTEL | B15: 53.4 | C15: ML | G15: 35 | H15: =G15*24% -> 8.4 | I15: =SUM(G15:H15) -> 43.4 | BO15: 4
A16: ENCASTRADO PLACAS CARGADOR INCLUSO CORTE DE TABLERO | B16: 53.4 | C16: Ud. | G16: 35 | H16: =G16*24% -> 8.4 | I16: =SUM(G16:H16) -> 43.4
A17: ESTANTERIA PREMIUM ( INCLUIDOS 2 ESTANTES) | B17: 152.2 | C17: Ud. | G17: 99.75 | H17: =G17*24% -> 23.94 | I17: =SUM(G17:H17) -> 123.69
A18: FLUORESCENTE 40-60 W | B18: 29.37 | C18: Ud. | G18: 19.25 | H18: =G18*24% -> 4.62 | I18: =SUM(G18:H18) -> 23.87 | BO18: 2
A19: HALOGENUROS 150 W | B19: 61.66 | C19: Ud. | G19: 40.41 | H19: =G19*24% -> 9.6984 | I19: =SUM(G19:H19) -> 50.1084
A20: INSTALACION DE LONAS | B20: 6.1 | C20: M2 | G20: 4 | H20: =G20*24% -> 0.96 | I20: =SUM(G20:H20) -> 4.96
A21: JARDINERA DE 20 CMS DE ANCHO, 100 DE ALTO Y HUECO JARDINERA DE 20X20 | B21: 44.25 | C21: ML | G21: 29 | H21: =G21*24% -> 6.96 | I21: =SUM(G21:H21) -> 35.96
A22: JARDINERA DE 20 CMS DE ANCHO, HASTA 122 DE ALTO Y HUECO JARDINERA DE 20X20 | B22: 44.25 | C22: ML | G22: 29 | H22: =G22*24% -> 6.96 | I22: =SUM(G22:H22) -> 35.96
A23: JARDINERA DE 30 CMS DE ANCHO, HASTA 122 DE ALTO Y HUECO JARDINERA DE 20X20 | B23: 53.4 | C23: ML | G23: 35 | H23: =G23*24% -> 8.4 | I23: =SUM(G23:H23) -> 43.4
A24: LISTON DE MADERA DE PINO 5X5 | B24: 9.16 | C24: ML | G24: 6 | H24: =G24*24% -> 1.44 | I24: =SUM(G24:H24) -> 7.44
A25: LONETA BLANCA/NEGRA | B25: 12.21 | C25: M2 | G25: 8 | H25: =G25*24% -> 1.92 | I25: =SUM(G25:H25) -> 9.92
A26: LONETA COLOR A ELEGIR | B26: 12.21 | C26: M2 | G26: 8 | H26: =G26*24% -> 1.92 | I26: =SUM(G26:H26) -> 9.92
A27: MUEBLE REVISTERO CON ILUMINACION (SEGÚN DISEÑO) | B27: 251.76 | C27: ML | G27: 165 | H27: =G27*24% -> 39.6 | I27: =SUM(G27:H27) -> 204.6
A28: MURO ACRISTALADO HASTA 2,44M DE ALTURA | B28: 159.97 | C28: Ml. | G28: 104.84 | H28: =G28*24% -> 25.1616 | I28: =SUM(G28:H28) -> 130.0016
A29: MURO ACRISTALADO HASTA 3,00 DE ALTURA | B29: 198.36 | C29: ML | G29: 130 | H29: =G29*24% -> 31.2 | I29: =SUM(G29:H29) -> 161.2
A30: MURO ACRISTALADO HASTA 3,66 DE ALTURA | B30: 244.13 | C30: ML | G30: 160 | H30: =G30*24% -> 38.4 | I30: =SUM(G30:H30) -> 198.4
... A81: INTERRUPTOR GENARAL+CONECTOR+CERTIFICADO HASTA 80KW | B81: 243.34 | C81: Ud. | G81: 159.48 | H81: =G81*24% -> 38.2752 | I81: =SUM(G81:H81) -> 197.7552
A83: Firma del representante legal y fecha

Sheet TOTAL OFERTA
A1: ANEXO IX B
A2: TOTAL OFERTA
B5: ESTIMACIÓN M2 PRIVEL (a) | C5: ESTIMACIÓN M2 SAGRIS (a) | D5: PRESUPUESTO UNITARIO MAX (EUR / M2) IVA EXCLUIDO | E5: PARTIDAS | F5: PRECIOS UNITARIOS OFERTADO POR PARTIDAS €/M2 | G5: PRECIO UNITARIO TOTAL OFERTADO (sumatorio de precios unitarios por partidas) €/M2 OFERTADO IVA EXCLUIDO (b) | H5: TOTAL (a) x (b)
A6: Modular B | B6: 475 | C6: 1500 | D6: 34.24 | E6: ESTRUCTURA | G6: =F6+F7+F8+F9 -> 0 | H6: =G6*B6+C6*G6 -> 0
E7: INSTALACIÓN ELÉCTRICA
E8: ROTULACIÓN
E9: PAVIMENTACIÓN
A10: Modular C | B10: 1300 | C10: 0 | D10: 41.73 | E10: ESTRUCTURA | G10: =F10+F11+F12+F13 -> 0 | H10: =G10*B10+C10*G10 -> 0
E11: INSTALACIÓN ELÉCTRICA
E12: ROTULACIÓN
E13: PAVIMENTACIÓN
A14: Modular F | B14: 36 | C14: 50 | D14: 26.65 | E14: ESTRUCTURA | G14: =F14+F15+F16+F17 -> 0 | H14: =G14*B14+C14*G14 -> 0
E15: INSTALACIÓN ELÉCTRICA
E16: ROTULACIÓN
E17: PAVIMENTACIÓN
F18: ='Materiales Complem Privel'!L66 -> 0
A19: MATERIALES COMPLEMENTARIOS PARA EXPOSITORES PRIVEL | B19: (indicar total -1- de la hoja materiales complementarios EXPOSITOR) | H19: ='Materiales Complem Privel'!K66 -> 7079.99
A20: MATERIALES COMPLEMENTARIOS PARA NECESIDADES PROPIAS DE IFEMA PRIVEL | B20: (indicar total -2- de la hoja materiales complementarios IFEMA) | H20: ='Materiales Complem Privel'!L66 -> 0
A21: MATERIALES COMPLEMENTARIOS PARA DISEÑO FERIAL PRIVEL | B21: (indicar total -3- de la hoja materiales complementarios IFEMA) | H21: ='Materiales Complem Privel'!AX66 -> 0
A22: MATERIALES COMPLEMENTARIOS PARA EXPOSITORES SAGRIS | B22: (indicar total -1- de la hoja materiales complementarios EXPOSITOR) | H22: ='Materiales Complem Sagris'!K66 -> 9536.14
A23: MATERIALES COMPLEMENTARIOS PARA NECESIDADES PROPIAS DE IFEMA SAGRIS | B23: (indicar total -2- de la hoja materiales complementarios IFEMA) | H23: ='Materiales Complem Sagris'!L66 -> 0
A24: MATERIALES COMPLEMENTARIOS PARA DISEÑO FERIAL SAGRIS | B24: (indicar total -3- de la hoja materiales complementarios IFEMA) | H24: ='Materiales Complem Sagris'!AX66 -> 0
B26: TOTAL OFERTADO (IVA EXCLUIDO) (indicar esta cantidad en el modelo -IX- A de oferta económica) | H26: =H6+H10+H14+H19+H20+H22+H24+H21+H23 -> 16616.13
A28: Al cumplimentar en la hoja excel, sólo deberá rellenar las celdas en color azul
G31: Firma del representante legal y fecha
