Workbook

Sheet PASES FERIAS LICITACIÓN
B1: PASES ACCESO FERIAS
B3: PASES ENTRADA Y SALIDA MERC.FERIARTE | J3: PASE MTO. + MERCANCIA ALMONEDA | R3: PASE CATERING
B4: TIRADA: 800 EJEM. (2 MODELOS: 450 + 350) | J4: TIRADA: 800 EJEM. | R4: TIRADA: 5.000
B5: TAMAÑO: 8,5 x 8,5 | J5: TAMAÑO: 8,5 x 8,5 | R5: TAMAÑO: 8,5 x 8,5
B6: 4/4 COLORES | J6: 4/4 COLORES | R6: 4/4 COLORES
B7: TALADRO EN LA PARTE SUPERIOR Y ESQUINAS REDONDEADAS | J7: TALADRO EN LA PARTE SUPERIOR Y ESQUINAS REDONDEADAS | R7: TALADRO EN LA PARTE SUPERIOR Y ESQUINAS REDONDEADAS
B8: PAPEL: ESTUCADO BRILLO 350 GR. | J8: PAPEL: ESTUCADO BRILLO 350 GR. | R8: PAPEL: ESTUCADO BRILLO 350 GR.
B10: TRABAJOS | D10: IMPORTE UNIT. | G10: IMPORTE | J10: TRABAJOS | L10: IMPORTE UNIT. | O10: IMPORTE | R10: TRABAJOS | T10: IMPORTE UNIT. | W10: IMPORTE
B11: PRUEBAS COLOR | D11: X | F11: € | G11: =+E11*C11 -> 0 | J11: PRUEBAS COLOR | L11: X | N11: € | O11: =+M11*K11 -> 0 | R11: PRUEBAS COLOR | T11: X | V11: € | W11: =+U11*S11 -> 0
B12: PAPEL | D12: X | F12: €/Resma | G12: =+E12*C12 -> 0 | J12: PAPEL | L12: X | N12: €/Resma | O12: =+M12*K12 -> 0 | R12: PAPEL | T12: X | V12: €/Resma | W12: =+U12*S12 -> 0
B14: TIRADA | C14: Importe Impresión Digital | J14: TIRADA | K14: Importe Impresión Digital | R14: TIRADA | S14: Importe Impresión Digital
B16: ARRANQUE PLASTIFICADO | D16: X | F16: € | G16: =+E16*C16 -> 0 | J16: ARRANQUE PLASTIFICADO | L16: X | N16: € | O16: =+M16*K16 -> 0 | R16: ARRANQUE PLASTIFICADO | T16: X | V16: € | W16: =+U16*S16 -> 0
B17: PLASTIFICADO BRILLO 2/C | D17: X | F17: €/m2 | G17: =+E17*C17 -> 0 | J17: PLASTIFICADO BRILLO 2/C | L17: X | N17: €/m2 | O17: =+M17*K17 -> 0 | R17: PLASTIFICADO BRILLO 2/C | T17: X | V17: €/m2 | W17: =+U17*S17 -> 0
B19: CORTE | D19: X | F19: €/millar | G19: =+E19*C19 -> 0 | J19: CORTE | L19: X | N19: €/millar | O19: =+M19*K19 -> 0 | R19: CORTE | T19: X | V19: €/millar | W19: =+U19*S19 -> 0
W20: =+U20*S20 -> 0
B21: FAJADO | D21: X | F21: €/ 100 unid. | G21: =+E21*C21 -> 0 | J21: FAJADO | L21: X | N21: €/ 100 unid. | O21: =+M21*K21 -> 0 | R21: FAJADO | T21: X | V21: €/ 100 unid. | W21: =+U21*S21 -> 0
B23: TROQUEL Y ARRANQUE | D23: X | F23: €/Arranque y troquel | G23: =+E23*C23 -> 0 | J23: TROQUEL Y ARRANQUE | L23: X | N23: €/Arranque y troquel | O23: =+M23*K23 -> 0 | R23: TROQUEL Y ARRANQUE | T23: X | V23: €/Arranque y troquel | W23: =+U23*S23 -> 0
B24: PLIEGOS TROQUELADOS | D24: X | F24: €/millar troquelado | G24: =+E24*C24 -> 0 | J24: PLIEGOS TROQUELADOS | L24: X | N24: €/millar troquelado | O24: =+M24*K24 -> 0 | R24: PLIEGOS TROQUELADOS | T24: X | V24: €/millar troquelado | W24: =+U24*S24 -> 0
B26: MANIPULADO | C26: Importe Descalzado tarjetas | J26: MANIPULADO | K26: Importe Descalzado tarjetas | R26: MANIPULADO | S26: Importe Descalzado tarjetas
C28: IMPORTE MÁXIMO LICITACIÓN (IVA EXCLUIDO) | G28: 195 | K28: IMPORTE MÁXIMO LICITACIÓN (IVA EXCLUIDO) | O28: 170 | S28: IMPORTE MÁXIMO LICITACIÓN (IVA EXCLUIDO) | W28: 380
C29: IMPORTE OFERTADO (IVA EXCLUIDO) | G29: =SUM(G11:G26) -> 0 | K29: IMPORTE OFERTADO (IVA EXCLUIDO) | O29: =SUM(O11:O26) -> 0 | S29: IMPORTE OFERTADO (IVA EXCLUIDO) | W29: =SUM(W11:W26) -> 0
B31: PASES SPAIN SKILLS | J31: PASES REGALO + MOMAD (11 MODELOS) | R31: PASES EXPOSITOR PROMOGIFT (4 MODELOS)
B32: TIRADA: 18.420 EJEM. | J32: TIRADA: 10.400 EJEM. | R32: TIRADA: 1.800 EJEM.
B33: TAMAÑO: 8,5 x 8,5 | J33: TAMAÑO: 8,5 x 8,5 | R33: TAMAÑO: 8,5 x 8,5
B34: 4/4 COLORES | J34: 4/1 COLORES | R34: 4/1 COLORES
B35: TALADRO EN LA PARTE SUPERIOR Y ESQUINAS REDONDEADAS | J35: TALADRO EN LA PARTE SUPERIOR Y ESQUINAS REDONDEADAS | R35: TALADRO EN LA PARTE SUPERIOR Y ESQUINAS REDONDEADAS
B36: PAPEL: ESTUCADO MATE 300 GR. | J36: PAPEL: ESTUCADO MATE 300 GR. | R36: PAPEL: ESTUCADO BRILLO 350 GR.
B38: TRABAJOS | D38: IMPORTE UNIT. | G38: IMPORTE | J38: TRABAJOS | L38: IMPORTE UNIT. | O38: IMPORTE | R38: TRABAJOS | T38: IMPORTE UNIT. | W38: IMPORTE
B39: PRUEBAS COLOR | D39: X | F39: € | G39: =+E39*C39 -> 0 | J39: PRUEBAS COLOR | L39: X | N39: € | O39: =+M39*K39 -> 0 | R39: PRUEBAS COLOR | T39: X | V39: € | W39: =+U39*S39 -> 0
B40: PAPEL | D40: X | F40: €/Resma | G40: =+E40*C40 -> 0 | J40: PAPEL | L40: X | N40: €/Resma | O40: =+M40*K40 -> 0 | R40: PAPEL | T40: X | V40: €/Resma | W40: =+U40*S40 -> 0
B42: TIRADA | C42: Importe Impresión Digital | J42: TIRADA | K42: Importe Impresión Digital | R42: TIRADA | S42: Importe Impresión Digital
B44: ARRANQUE PLASTIFICADO | D44: X | F44: € | G44: =+E44*C44 -> 0 | J44: ARRANQUE PLASTIFICADO | L44: X | N44: € | O44: =+M44*K44 -> 0 | R44: ARRANQUE PLASTIFICADO | T44: X | V44: € | W44: =+U44*S44 -> 0
B45: PLASTIFICADO BRILLO 2/C | D45: X | F45: €/m2 | G45: =+E45*C45 -> 0 | J45: PLASTIFICADO BRILLO 2/C | L45: X | N45: €/m2 | O45: =+M45*K45 -> 0 | R45: PLASTIFICADO BRILLO 2/C | T45: X | V45: €/m2 | W45: =+U45*S45 -> 0
B47: CORTE | D47: X | F47: €/millar | G47: =+E47*C47 -> 0 | J47: CORTE | L47: X | N47: €/millar | O47: =+M47*K47 -> 0 | R47: CORTE | T47: X | V47: €/millar | W47: =+U47*S47 -> 0
B49: FAJADO | D49: X | F49: €/ 100 unid. | G49: =+E49*C49 -> 0 | J49: FAJADO | L49: X | N49: €/ 100 unid. | O49: =+M49*K49 -> 0 | R49: FAJADO | T49: X | V49: €/ 100 unid. | W49: =+U49*S49 -> 0
B51: TROQUEL Y ARRANQUE | D51: X | F51: €/Arranque y troquel | G51: =+E51*C51 -> 0 | J51: TROQUEL Y ARRANQUE | L51: X | N51: €/Arranque y troquel | O51: =+M51*K51 -> 0 | R51: TROQUEL Y ARRANQUE | T51: X | V51: €/Arranque y troquel | W51: =+U51*S51 -> 0
B52: PLIEGOS TROQUELADOS | D52: X | F52: €/millar troquelado | G52: =+E52*C52 -> 0 | J52: PLIEGOS TROQUELADOS | L52: X | N52: €/millar troquelado | O52: =+M52*K52 -> 0 | R52: PLIEGOS TROQUELADOS | T52: X | V52: €/millar troquelado | W52: =+U52*S52 -> 0
B54: MANIPULADO | C54: Importe Descalzado tarjetas | J54: MANIPULADO | K54: Importe Descalzado tarjetas | R54: MANIPULADO | S54: Importe Descalzado tarjetas
C56: IMPORTE MÁXIMO LICITACIÓN (IVA EXCLUIDO) | G56: 1050 | K56: IMPORTE MÁXIMO LICITACIÓN (IVA EXCLUIDO) | O56: 740 | S56: IMPORTE MÁXIMO LICITACIÓN (IVA EXCLUIDO) | W56: 260
C57: IMPORTE OFERTADO (IVA EXCLUIDO) | G57: =SUM(G39:G54) -> 0 | K57: IMPORTE OFERTADO (IVA EXCLUIDO) | O57: =SUM(O39:O54) -> 0 | S57: IMPORTE OFERTADO (IVA EXCLUIDO) | W57: =SUM(W39:W54) -> 0
B59: PASES FRUIT ATTRACTION (3 MODELOS) | J59: PASES BUSINESS CENTER | R59: PASES SICUR
B60: TIRADA: 1.450 EJEM. | J60: TIRADA: 500 EJEM. | R60: TIRADA: 3.000 EJEM.
B61: TAMAÑO: 8,5 x 8,5 | J61: TAMAÑO: 8,5 x 5,5 | R61: TAMAÑO: 8,5 x 8,5
B62: 4/1 COLORES | J62: 4/4 COLORES | R62: 4/1 COLORES
B63: TALADRO EN LA PARTE SUPERIOR Y ESQUINAS REDONDEADAS | J63: ESQUINAS REDONDEADAS | R63: TALADRO EN LA PARTE SUPERIOR Y ESQUINAS REDONDEADAS
B64: PAPEL: ESTUCADO BRILLO 350 GR. | J64: PAPEL: ESTUCADO BRILLO 300 GR. | R64: PAPEL: ESTUCADO SEMIMATE 300 GR.
B66: TRABAJOS | D66: IMPORTE UNIT. MÁXIMO | G66: IMPORTE | J66: TRABAJOS | L66: IMPORTE UNIT. | O66: IMPORTE | R66: TRABAJOS | T66: IMPORTE UNIT. | W66: IMPORTE
B67: PRUEBAS COLOR | D67: X | F67: € | G67: =+E67*C67 -> 0 | J67: PRUEBAS COLOR | L67: X | N67: € | O67: =+M67*K67 -> 0 | R67: PRUEBAS COLOR | T67: X | V67: € | W67: =+U67*S67 -> 0
B68: PAPEL | D68: X | F68: €/Resma | G68: =+E68*C68 -> 0 | J68: PAPEL | L68: X | N68: €/Resma | O68: =+M68*K68 -> 0 | R68: PAPEL | T68: X | V68: €/Resma | W68: =+U68*S68 -> 0
B70: TIRADA | C70: Importe Impresión Digital | J70: TIRADA | K70: Importe Impresión Digital | R70: TIRADA | S70: Importe Impresión Digital
B72: ARRANQUE PLASTIFICADO | D72: X | F72: € | G72: =+E72*C72 -> 0 | J72: ARRANQUE PLASTIFICADO | L72: X | O72: =+M72*K72 -> 0 | R72: CORTE | T72: X | V72: €/millar | W72: =+U72*S72 -> 0
B73: PLASTIFICADO BRILLO 2/C | D73: X | F73: €/m2 | G73: =+E73*C73 -> 0 | J73: PLASTIFICADO BRILLO 2/C | L73: X | N73: €/m2 | O73: =+M73*K73 -> 0 | R73: FAJADO | T73: X | V73: €/ 100 unid. | W73: =+U73*S73 -> 0
B75: CORTE | D75: X | F75: €/millar | G75: =+E75*C75 -> 0 | J75: CORTE | L75: X | N75: €/millar | O75: =+M75*K75 -> 0 | R75: TROQUEL Y ARRANQUE | T75: X | V75: €/Arranque y troquel | W75: =+U75*S75 -> 0
B77: FAJADO | D77: X | F77: €/ 100 unid. | G77: =+E77*C77 -> 0 | J77: FAJADO | L77: X | N77: €/ 100 unid. | O77: =+M77*K77 -> 0 | R77: PLIEGOS TROQUELADOS | T77: X | V77: €/millar troquelado | W77: =+U77*S77 -> 0
B79: TROQUEL Y ARRANQUE | D79: X | F79: €/Arranque y troquel | G79: =+E79*C79 -> 0 | J79: TROQUEL Y ARRANQUE | L79: X | N79: €/Arranque y troquel | O79: =+M79*K79 -> 0 | R79: MANIPULADO | S79: Importe Descalzado tarjetas
B80: PLIEGOS TROQUELADOS | D80: X | F80: €/millar troquelado | G80: =+E80*C80 -> 0 | J80: PLIEGOS TROQUELADOS | L80: X | N80: €/millar troquelado | O80: =+M80*K80 -> 0
B82: MANIPULADO | C82: Importe Descalzado tarjetas | J82: MANIPULADO | K82: Importe Descalzado tarjetas | S82: IMPORTE MÁXIMO LICITACIÓN (IVA EXCLUIDO) | W82: 205
S83: IMPORTE OFERTADO (IVA EXCLUIDO) | W83: =SUM(W67:W79) -> 0
C84: IMPORTE MÁXIMO LICITACIÓN (IVA EXCLUIDO) | G84: 250 | K84: IMPORTE MÁXIMO LICITACIÓN (IVA EXCLUIDO) | O84: 290
C85: IMPORTE OFERTADO (IVA EXCLUIDO) | G85: =SUM(G67:G82) -> 0 | K85: IMPORTE OFERTADO (IVA EXCLUIDO) | O85: =SUM(O67:O82) -> 0
B88: PASES ARCO (6 MODELOS) | J88: PASES ESTAMPA (3 MODELOS) | R88: PASES MBFWM (13 MODELOS)
B89: TIRADA: 4.400 EJEM. | J89: TIRADA: 1.050 EJEM. | R89: TIRADA: 4.100 EJEM.
B90: TAMAÑO: 8,5 x 8,5 | J90: TAMAÑO: 8,5 x 8,5 | R90: TAMAÑO: 8,5 x 12
B91: 4/4 COLORES | J91: 4/4 COLORES | R91: 4/4 COLORES
B92: TALADRO EN LA PARTE SUPERIOR Y ESQUINAS REDONDEADAS | J92: TALADRO EN LA PARTE SUPERIOR Y ESQUINAS REDONDEADAS | R92: TROQUELADOS CON 2 AGUJEROS
B93: PAPEL: ESTUCADO SEMIMATE 300 GR. | J93: PAPEL: ESTUCADO SEMIMATE 300 GR. | R93: PAPEL: PRINT SPEED 300 GR.
B95: TRABAJOS | D95: IMPORTE UNIT. | G95: IMPORTE | J95: TRABAJOS | L95: IMPORTE UNIT. | O95: IMPORTE | R95: TRABAJOS | T95: IMPORTE UNIT. | W95: IMPORTE
B96: PRUEBAS COLOR | D96: X | F96: € | G96: =+E96*C96 -> 0 | J96: PRUEBAS COLOR | L96: X | N96: € | O96: =+M96*K96 -> 0 | R96: PRUEBAS COLOR | T96: X | V96: € | W96: =+U96*S96 -> 0
B97: PAPEL | D97: X | F97: €/Resma | G97: =+E97*C97 -> 0 | J97: PAPEL | L97: 0.3 | N97: €/Resma | O97: =+M97*K97 -> 0 | R97: PAPEL | T97: X | V97: €/Resma | W97: =+U97*S97 -> 0
B99: TIRADA | C99: Importe Impresión Digital | J99: TIRADA | K99: Importe Impresión Digital | R99: TIRADA | S99: Importe Impresión Digital + Personalización código de barras
B101: CORTE | D101: X | F101: €/millar | G101: =+E101*C101 -> 0 | J101: CORTE | L101: X | N101: €/millar | O101: =+M101*K101 -> 0 | R101: CORTE | T101: X | V101: €/millar | W101: =+U101*S101 -> 0
B102: FAJADO | D102: X | F102: €/ 100 unid. | G102: =+E102*C102 -> 0 | J102: FAJADO | L102: X | N102: €/ 100 unid. | O102: =+M102*K102 -> 0 | R102: FAJADO | T102: X | V102: €/ 100 unid. | W102: =+U102*S102 -> 0
B104: TROQUEL Y ARRANQUE | D104: X | F104: €/Arranque y troquel | G104: =+E104*C104 -> 0 | J104: TROQUEL Y ARRANQUE | L104: X | N104: €/Arranque y troquel | O104: =+M104*K104 -> 0 | R104: MANIPULADO | S104: Troqueladas con 2 agujeros en la parte superior
B106: PLIEGOS TROQUELADOS | D106: X | F106: €/millar troquelado | G106: =+E106*C106 -> 0 | J106: PLIEGOS TROQUELADOS | L106: X | N106: €/millar troquelado | O106: =+M106*K106 -> 0 | S106: IMPORTE MÁXIMO LICITACIÓN (IVA EXCLUIDO) | W106: 625
S107: IMPORTE OFERTADO (IVA EXCLUIDO) | W107: =SUM(W96:W104) -> 0
B108: MANIPULADO | C108: Importe Descalzado tarjetas | J108: MANIPULADO | K108: Importe Descalzado tarjetas
C110: IMPORTE MÁXIMO LICITACIÓN (IVA EXCLUIDO) | G110: 360 | K110: IMPORTE MÁXIMO LICITACIÓN (IVA EXCLUIDO) | O110: 225
C111: IMPORTE OFERTADO (IVA EXCLUIDO) | G111: =SUM(G96:G108) -> 0 | K111: IMPORTE OFERTADO (IVA EXCLUIDO) | O111: =SUM(O96:O108) -> 0
S112: PASES ACCESO FERIAS IMPORTE MÁXIMO LICITACIÓN (SIN IVA) | W112: =G28+O28+W28+G56+O56+W56+G84+O84+W82+O110+G110+W106 -> 4750
S113: PASES ACCESO FERIAS TOTAL IMPORTE OFERTADO (IVA EXCLUIDO) | W113: =SUM(W107,W83,W57,W29,O29,O57,O85,O111,G111,G85,G57,G29) -> 0

Sheet TALONARIOS IMPRESOS LICITACIÓN
B1: IMPRESOS: TALONARIOS PAPEL AUTOCOPIATIVO, FACTURAS, CONTROL DE SALIDA
B5: IMPR. INSPECC. ELECT. | I5: PARTE INCIDENCIAS GUARDARROPA | Q5: RECLAMACIÓN COM. MADRID
B6: TIRADA: 75 EJEM. | I6: TIRADA: 50 EJEM. | Q6: TIRADA: 50 EJEM.
B7: Nº HOJAS: 50 | I7: Nº HOJAS: 100 | Q7: Nº HOJAS: 100
B8: TAMAÑO: 21 x 29,7 | I8: TAMAÑO: 21 x 29,7 | Q8: TAMAÑO: 21 x 29,7
B9: 4/0 COLORES | I9: 4/0 COLORES | Q9: 4/0 COLORES
B11: TRABAJOS | D11: IMPORTE UNIT. MAXIMO | G11: IMPORTE | I11: TRABAJOS | K11: IMPORTE UNIT. | N11: IMPORTE | Q11: TRABAJOS | S11: IMPORTE UNIT. | V11: IMPORTE
B12: PRUEBAS COLOR | D12: x | F12: € | G12: =+C12*E12 -> 0 | I12: PRUEBAS COLOR | K12: x | M12: € | N12: =+L12*J12 -> 0 | Q12: PRUEBAS COLOR | S12: x | U12: € | V12: =+T12*R12 -> 0
B14: PAPEL AUTOCOPIATIVO | I14: PAPEL AUTOCOPIATIVO | Q14: PAPEL AUTOCOPIATIVO
B15: 1ª BLANCA | D15: x | F15: €/Resma | G15: =C15*E15 -> 0 | I15: 1ª BLANCA | K15: x | M15: €/Resma | N15: =J15*L15 -> 0 | Q15: 1ª BLANCA | S15: x | U15: €/Resma | V15: =R15*T15 -> 0
B16: 2ª ROSA | D16: x | F16: €/Resma | G16: =C16*E16 -> 0 | I16: 2ª AZUL | K16: x | M16: €/Resma | N16: =J16*L16 -> 0 | Q16: 2ª ROSA | S16: x | U16: €/Resma | V16: =R16*T16 -> 0
B17: 3ª VERDE | D17: x | F17: €/Resma | G17: =C17*E17 -> 0 | I17: 3ª ROSA | K17: x | M17: €/Resma | N17: =J17*L17 -> 0 | Q17: 3ª VERDE | S17: x | U17: €/Resma | V17: =R17*T17 -> 0
B19: TIRADA | C19: Importe Impresión Digital | I19: TIRADA | J19: Importe Impresión Digital | Q19: TIRADA | R19: Importe Impresión Digital
B21: CORTE | D21: x | F21: €/millar | G21: =+E21*C21 -> 0 | I21: CORTE | K21: x | M21: €/millar | N21: =J21*L21 -> 0 | Q21: CORTE | S21: x | U21: €/millar | V21: =R21*T21 -> 0
B23: MANIPULADO | C23: Encolado en cabeza / Kraft en portada y cartón en contra | I23: MANIPULADO | J23: Encolado en cabeza / Kraft en portada y cartón en contra | Q23: MANIPULADO | R23: Encolado en cabeza / Kraft en portada y cartón en contra
C25: IMPORTE MÁXIMO LICITACIÓN (IVA EXCLUIDO) | G25: 1700 | J25: IMPORTE MÁXIMO LICITACIÓN (IVA EXCLUIDO) | N25: 1350 | R25: IMPORTE MÁXIMO LICITACIÓN (IVA EXCLUIDO) | V25: 1200
C26: IMPORTE OFERTADO (IVA EXCLUIDO) | G26: =G12+SUM(G15:G23) -> 0 | J26: IMPORTE OFERTADO (IVA EXCLUIDO) | N26: =N12+SUM(N15:N23) -> 0 | R26: IMPORTE OFERTADO (IVA EXCLUIDO) | V26: =V12+SUM(V15:V23) -> 0
B29: IMPR. RECLAMACIONES Y SUGERENCIAS ESP | I29: IMPR. RECLAMACIONES Y SUGERENCIAS INGLES | Q29: OBJETOS PERDIDOS
B30: TIRADA: 75 EJEM. | I30: TIRADA: 40 EJEM. | Q30: TIRADA: 20 EJEM.
B31: Nº HOJAS: 50 | I31: Nº HOJAS: 50 | Q31: Nº HOJAS: 50
B32: TAMAÑO: 21 x 29,7 | I32: TAMAÑO: 21 x 29,7 | Q32: TAMAÑO: 21 x 29,7
B33: 4/0 COLORES | I33: 4/0 COLORES | Q33: 4/0 COLORES
Q34: NÚMERADOS: 4 DIGITOS SECUENCIALES
B36: TRABAJOS | D36: IMPORTE UNIT. | G36: IMPORTE | I36: TRABAJOS | K36: IMPORTE UNIT. | N36: IMPORTE | Q36: TRABAJOS | S36: IMPORTE UNIT. | V36: IMPORTE
B37: PRUEBAS COLOR | D37: x | F37: € | G37: =+E37*C37 -> 0 | I37: PRUEBAS COLOR | K37: x | M37: € | N37: =+L37*J37 -> 0 | Q37: PRUEBAS COLOR | S37: x | U37: € | V37: =+T37*R37 -> 0
B39: PAPEL AUTOCOPIATIVO | I39: PAPEL AUTOCOPIATIVO | Q39: PAPEL AUTOCOPIATIVO
B40: 1ª BLANCA | D40: x | F40: €/Resma | G40: =C40*E40 -> 0 | I40: 1ª BLANCA | K40: x | M40: €/Resma | N40: =J40*L40 -> 0 | Q40: 1ª BLANCA | S40: x | U40: €/Resma | V40: =R40*T40 -> 0
B41: 2ª VERDE | D41: x | F41: €/Resma | G41: =C41*E41 -> 0 | I41: 2ª VERDE | K41: x | M41: €/Resma | N41: =J41*L41 -> 0 | Q41: 2ª VERDE | S41: x | U41: €/Resma | V41: =R41*T41 -> 0
B44: TIRADA | C44: Importe Impresión Digital | I44: TIRADA | J44: Importe Impresión Digital | Q44: TIRADA | R44: Importe Impresión Digital
B46: CORTE | D46: x | F46: €/millar | G46: =+E46*C46 -> 0 | I46: CORTE | K46: x | M46: €/millar | N46: =+L46*J46 -> 0 | Q46: CORTE | S46: x | U46: €/millar | V46: =R46*T46 -> 0
B48: MANIPULADO | C48: Encolado en cabeza / Kraft en portada y cartón en contra | I48: MANIPULADO | J48: Encolado en cabeza / Kraft en portada y cartón en contra | Q48: MANIPULADO | R48: Encolado en cabeza / Kraft en portada y cartón en contra
C50: IMPORTE MÁXIMO LICITACIÓN (IVA EXCLUIDO) | G50: 850 | J50: IMPORTE MÁXIMO LICITACIÓN (IVA EXCLUIDO) | N50: 550 | R50: IMPORTE MÁXIMO LICITACIÓN (IVA EXCLUIDO) | V50: 250
C51: IMPORTE OFERTADO (IVA EXCLUIDO) | G51: =G37+SUM(G40:G48) -> 0 | J51: IMPORTE OFERTADO (IVA EXCLUIDO) | N51: =N37+SUM(N40:N48) -> 0 | R51: IMPORTE OFERTADO (IVA EXCLUIDO) | V51: =V37+SUM(V40:V48) -> 0
B53: FACTURA ARCO | I53: TICKETS PARKING GRATUITO | Q53: TALONARIO CONTROL SALIDA ARCO
B54: TIRADA: 300 EJEM. | I54: TIRADA: 150 EJEM. | Q54: TIRADA: 500 EJEM.
B55: Nº HOJAS: 25 | I55: Nº HOJAS:100 | Q55: Nº HOJAS: 25
B56: TAMAÑO: 21 x 16 | I56: TAMAÑO: 7 x 17,5 | Q56: TAMAÑO: 23,5 x 11
B57: 1/0 COLORES | I57: 4/0 COLORES | Q57: 1/0 COLORES
I58: TREPADO | Q58: TREPADO
B59: TRABAJOS | D59: IMPORTE UNIT. | G59: IMPORTE | I59: TRABAJOS | K59: IMPORTE UNIT. | N59: IMPORTE | Q59: TRABAJOS | S59: IMPORTE UNIT. | V59: IMPORTE
B60: PRUEBAS COLOR | D60: x | F60: € | G60: =+E60*C60 -> 0 | I60: PRUEBAS COLOR | K60: x | M60: € | N60: =+L60*J60 -> 0 | Q60: PRUEBAS COLOR | S60: x | U60: € | V60: =+T60*R60 -> 0
B62: PAPEL AUTOCOPIATIVO | I62: PAPEL OFFSET 90 GR | K62: x | M62: €/Resma | N62: =+L62*J62 -> 0 | Q62: PAPEL OFFSET 80 GR | S62: x | U62: €/Resma | V62: =+T62*R62 -> 0
B63: 1ª BLANCA | D63: x | F63: €/Resma | G63: =+E63*C63 -> 0
B64: 2ª AZUL | D64: x | F64: €/Resma | G64: =+E64*C64 -> 0 | I64: TIRADA | J64: Importe Impresión Digital | Q64: TIRADA | R64: Importe Impresión Digital
B65: 3ª ROSA | D65: x | F65: €/Resma | G65: =+E65*C65 -> 0 | I65: CORTE | K65: x | M65: €/millar | N65: =+L65*J65 -> 0 | Q65: CORTE | S65: x | U65: €/millar | V65: =+T65*R65 -> 0
B66: 4ª AMARILLA | D66: x | F66: €/Resma | G66: =+E66*C66 -> 0 | I66: TROQUEL Y ARRANQUE | K66: x | M66: €/Arranque | N66: =+L66*J66 -> 0 | Q66: TROQUEL Y ARRANQUE | S66: x | U66: €/Arranque | V66: =+T66*R66 -> 0
B67: 5ª VERDE | D67: x | F67: €/Resma | G67: =+E67*C67 -> 0 | I67: PLIEGOS TROQUELADOS | K67: x | M67: €/millar troquelado | N67: =+L67*J67 -> 0 | Q67: PLIEGOS TROQUELADOS | S67: x | U67: €/millar troquelado | V67: =+T67*R67 -> 0
B69: TIRADA | C69: Importe Impresión Digital | I69: MANIPULADO | J69: Engomado + Kraft + Cartoncillo en base | Q69: MANIPULADO | R69: Engomado + Kraft + Cartoncillo en base
B71: CORTE | D71: x | F71: €/millar | G71: =+E71*C71 -> 0 | J71: IMPORTE MÁXIMO LICITACIÓN (IVA EXCLUIDO) | N71: 750 | R71: IMPORTE MÁXIMO LICITACIÓN (IVA EXCLUIDO) | V71: 900
J72: IMPORTE OFERTADO (IVA EXCLUIDO) | N72: =SUM(N60:N69) -> 0 | R72: IMPORTE OFERTADO (IVA EXCLUIDO) | V72: =SUM(V60:V69) -> 0
B73: MANIPULADO | C73: Encolado en cabeza al 16 / Kraft en portada y cartón en contra
C75: IMPORTE MÁXIMO LICITACIÓN (IVA EXCLUIDO) | G75: 2500
C76: IMPORTE OFERTADO (IVA EXCLUIDO) | G76: =G60+SUM(G63:G73) -> 0
B78: GUARDARROPA ARCOLISBOA | I78: CONTROL SALIDA ALMONEDA | Q78: CONTROL SALIDA FERIARTE
B79: TIRADA: 20 EJEM. | I79: TIRADA: 300 EJEM. (250 + 50) | Q79: TIRADA: 200 EJEM.
B80: Nº HOJAS: 100 | I80: Nº HOJAS: 50 | Q80: Nº HOJAS: 25
B81: TAMAÑO: 7 x 15 | I81: TAMAÑO: 10 x 20 | Q81: TAMAÑO: 10 x 20
B82: 4/0 COLORES | I82: 1/0 COLORES | Q82: 1/0 COLORES
B83: TREPADO + NUMERACIÓN | I83: TREPADO + NUMERACIÓN | Q83: TREPADO + NUMERACIÓN
B85: TRABAJOS | D85: IMPORTE UNIT. | G85: IMPORTE | I85: TRABAJOS | K85: IMPORTE UNIT. | N85: IMPORTE | Q85: TRABAJOS | S85: IMPORTE UNIT. | V85: IMPORTE
B86: PRUEBAS COLOR | D86: x | F86: € | G86: =+E86*C86 -> 0 | I86: PRUEBAS COLOR | K86: x | M86: € | N86: =+L86*J86 -> 0 | Q86: PRUEBAS COLOR | S86: x | U86: € | V86: =+T86*R86 -> 0
B88: PAPEL OFFSET 90 GR | D88: x | F88: €/Resma | G88: =+E88*C88 -> 0 | I88: CROMATIC 80 GR (250 EJEM) | K88: x | M88: €/Resma | N88: =+L88*J88 -> 0 | Q88: CROMATIC 80 GR | S88: x | U88: €/Resma | V88: =+T88*R88 -> 0
I89: CROMATIC 80 GR (50 EJEM) | K89: x | M89: €/Resma | N89: =+L89*J89 -> 0
B90: TIRADA | C90: Importe Impresión Digital | I90: TIRADA | J90: Importe Impresión Digital | Q90: TIRADA | R90: Importe Impresión Digital
B91: CORTE | D91: x | F91: €/millar | G91: =+E91*C91 -> 0 | I91: CORTE | K91: x | M91: €/millar | N91: =+L91*J91 -> 0 | Q91: CORTE | S91: x | U91: €/millar | V91: =+T91*R91 -> 0
B93: TROQUEL Y ARRANQUE | D93: x | F93: €/Arranque | G93: =+E93*C93 -> 0 | I93: TROQUEL Y ARRANQUE | K93: x | M93: €/Arranque | N93: =+L93*J93 -> 0 | Q93: TROQUEL Y ARRANQUE | S93: x | U93: €/Arranque | V93: =+T93*R93 -> 0
B94: PLIEGOS TROQUELADOS | D94: x | F94: €/millar troquelado | G94: =+E94*C94 -> 0 | I94: PLIEGOS TROQUELADOS | K94: x | M94: €/millar troquelado | N94: =+L94*J94 -> 0 | Q94: PLIEGOS TROQUELADOS | S94: x | U94: €/millar troquelado | V94: =+T94*R94 -> 0
B96: MANIPULADO | C96: Engomado + Kraft + Cartoncillo en base | I96: MANIPULADO | J96: Engomado + Kraft + Cartoncillo en base | Q96: MANIPULADO | R96: Engomado + Kraft + Cartoncillo en base
C98: IMPORTE MÁXIMO LICITACIÓN (IVA EXCLUIDO) | G98: 350 | J98: IMPORTE MÁXIMO LICITACIÓN (IVA EXCLUIDO) | N98: 1550 | R98: IMPORTE MÁXIMO LICITACIÓN (IVA EXCLUIDO) | V98: 550
C99: IMPORTE OFERTADO (IVA EXCLUIDO) | G99: =SUM(G86:G96) -> 0 | J99: IMPORTE OFERTADO (IVA EXCLUIDO) | N99: =SUM(N86:N96) -> 0 | R99: IMPORTE OFERTADO (IVA EXCLUIDO) | V99: =SUM(V86:V96) -> 0
B103: RECIBÍ REGISTRO VISITANTES
B104: TIRADA: 100 EJEM.
B105: Nº HOJAS: 100
B106: TAMAÑO: 10 x 13,5
B107: 4/0 COLORES
B109: TRABAJOS | D109: IMPORTE UNIT. | G109: IMPORTE | J109: IMPORTE TOTAL MÁXIMO DE LICITACIÓN IMPRESOS (IVA EXCLUIDO) | N109: =G25+N25+V25+G50+N50+V50+G75+N71+V71+G98+N98+V98+G119 -> 13050
B110: PRUEBAS COLOR | D110: x | F110: € | G110: =+E110*C110 -> 0 | J110: IMPORTE TOTAL OFERTADO IMPRESOS (IVA EXCLUIDO) | N110: =SUM(G26+N26+V26+G51+N51+V51+G76+N72+V72+G99+N99+V99+G120) -> 0
B112: PAPEL OFFSET 90 GR | D112: x | F112: €/Resma | G112: =+E112*C112 -> 0
B114: TIRADA | C114: Importe Impresión Digital
B115: CORTE | D115: x | F115: €/millar | G115: =+E115*C115 -> 0
B117: MANIPULADO | C117: Encolado en cabeza / Kraft + Cartoncillo en base
D119: IMPORTE MÁXIMO LICITACIÓN (IVA EXCLUIDO) | G119: 550
D120: IMPORTE OFERTADO (IVA EXCLUIDO) | G120: =SUM(G110:G117) -> 0

Sheet TARJETAS VISITA IMP.LICITACIÓN
B2: TARJETAS VISITA
B3: TAMAÑO: 9 x 5,5
B4: 4/4 COLORES
B5: PAPEL: ICEBLINK BLANCO 300 GR.
B6: CORTADAS A TAMAÑO Y EN CAJAS POR MODELOS
B8: TIRADAS | C8: Nº TRABAJOS | E8: IMPORTE MAXIMO LICITACIÓN POR TRABAJO (IVA EXCLUIDO) | G8: IMPORTE OFERTADO POR TRABAJO (IVA EXCLUIDO) | I8: IMPORTE TOTAL MÁXIMO LICITACIÓN (IVA EXCLUIDO) | K8: IMPORTE TOTAL OFERTADO (IVA EXCLUIDO) (Nº TRABAJOS x IMPORTE OFERTADO POR TRABAJO)
B10: 250 EJEM. | C10: 2 | E10: 105 | I10: =C10*E10 -> 210 | K10: =C10*G10 -> 0
B11: 500 EJEM. | C11: 3 | E11: 195 | I11: =C11*E11 -> 585 | K11: =C11*G11 -> 0
B12: 750 EJEM. | C12: 4 | E12: 220 | I12: =C12*E12 -> 880 | K12: =C12*G12 -> 0
B13: 1.000 EJEM. | C13: 5 | E13: 260 | I13: =C13*E13 -> 1300 | K13: =C13*G13 -> 0
B14: 1.500 EJEM. | C14: 2 | E14: 300 | I14: =C14*E14 -> 600 | K14: =C14*G14 -> 0
B15: 2.000 EJEM. | C15: 1 | E15: 390 | I15: =C15*E15 -> 390 | K15: =C15*G15 -> 0
B16: 2.500 EJEM. | C16: 1 | E16: 625 | I16: =C16*E16 -> 625 | K16: =C16*G16 -> 0
B17: 3.000 EJEM. | C17: 2 | E17: 900 | I17: =C17*E17 -> 1800 | K17: =C17*G17 -> 0
B18: 5.000 EJEM. | C18: 1 | E18: 1570 | I18: =C18*E18 -> 1570 | K18: =C18*G18 -> 0
I20: =SUM(I10:I19) -> 7960 | K20: =SUM(K10:K18) -> 0

Sheet LIBRO Y MEMORIA ARCO LICITACIÓN
B3: MEMORIA FUNDACIÓN ARCO
B4: TIRADA: 60 EJEM.
B5: Nº Páginas: 72 + CUBIERTAS
B6: TAMAÑO ABIERTO: 42 x 15 CERRADO: 21 x 15
B7: 4/4 COLORES
B8: CUBIERTA PLASTIFICADO MATE 1/C + RESERVA DE BARNIZ UVI
B11: TRABAJOS | D11: IMPORTE UNIT. | G11: IMPORTE
B12: PRUEBAS COLOR | D12: x | F12: € | G12: =+E12*C12 -> 0
B14: CUBIERTA: CREATOR SILK 350 GR | D14: x | F14: €/Resma | G14: =+E14*C14 -> 0
B15: INTERIOR: CREATOR SILK 150 GR | D15: x | F15: €/Resma | G15: =+E15*C15 -> 0
B16: TIRADA | C16: Importe Impresión Digital
B18: ARRANQUE PLASTIFICADO | D18: x | F18: €/Arranque | G18: =+E18*C18 -> 0
B19: PLASTIFICADO | D19: x | F19: €/m2 | G19: =+E19*C19 -> 0
B21: ARRANQUE (encuadernación pur) | D21: x | F21: €/Arranque | G21: =+E21*C21 -> 0
B22: PLEGADO (Pliegos 8 páginas) | D22: x | F22: €/plegado | G22: =+E22*C22 -> 0
C24: IMPORTE MÁXIMO LICITACIÓN (IVA EXCLUIDO) | G24: 775
C25: IMPORTE OFERTADO (IVA EXCLUIDO) | G25: =SUM(G12:G22) -> 0
B28: LIBRO PREMIOS ARCO
B29: TIRADA: 400 EJEM.
B30: Nº Páginas: 64 + CUBIERTAS
B31: TAMAÑO ABIERTO: 42 x 15 CERRADO: 21 x 15
B32: 4/4 COLORES
B33: CUBIERTA PLASTIFICADO MATE 1/C + RESERVA DE BARNIZ UVI EN CUBIERTA
B34: ENCUADERNACIÓN: RUSTICA HILO
B36: TRABAJOS | D36: IMPORTE UNIT. | G36: IMPORTE
B37: PRUEBAS COLOR | D37: x | F37: € | G37: =+E37*C37 -> 0
B39: CUBIERTA: ESTUCADO MATE 350 GR | D39: x | F39: €/Resma | G39: =+E39*C39 -> 0
B40: INTERIOR: ESTUCADO MATE 150 GR | D40: x | F40: €/Resma | G40: =+E40*C40 -> 0
B42: TIRADA | C42: Importe Impresión Digital
B44: ARRANQUE PLASTIFICADO | D44: x | F44: €/Arranque | G44: =+E44*C44 -> 0
B45: PLASTIFICADO | D45: x | F45: €/m2 | G45: =+E45*C45 -> 0
B47: ARRANQUE PLEGADO | D47: x | F47: €/Arranque | G47: =+E47*C47 -> 0
B48: PLEGADO | D48: x | F48: €/plegado | G48: =+E48*C48 -> 0
B50: BARNIZ UVI SERIGRAFIA
B51: ARRANQUE | D51: x | F51: €/Arranque | G51: =+E51*C51 -> 0
B52: PLANCHAS | D52: x | F52: €/Arranque | G52: =+E52*C52 -> 0
B53: SUPERFICIE | D53: x | F53: €/m2 | G53: =+E53*C53 -> 0
B54: PASADAS | D54: x | F54: €/millar | G54: =+E54*C54 -> 0
B56: ENCUADERNACIÓN COSIDO HILO
C58: IMPORTE MÁXIMO LICITACIÓN (IVA EXCLUIDO) | G58: 2300
C59: IMPORTE OFERTADO (IVA EXCLUIDO) | G59: =SUM(G37:G56) -> 0
C61: IMPORTE MÁXIMO LICITACIÓN LIBRO Y MEMORIA ARCO (IVA EXCLUIDO) | G61: =G24+G58 -> 3075
C62: IMPORTE TOTAL OFERTADO LIBRO Y MEMORIA ARCO (IVA EXCLUIDO) | G62: =SUM(G59,G25) -> 0

Sheet ELEMENTOS PERSONALIZ.LICITACIÓN
B2: FERIARTE INVITACIONES INAUGURACIÓN (2 MODELOS) | J2: PASES ARCOMADRID CONTRACOLADOS (4 MODELOS) | R2: PASES ARCOMADRID CONTRACOLADOS (1 MODELO)
B3: TIRADA: 4.500 UNID. (3.000 + 1500 UNID) | J3: TIRADA: 6.350 UNID. (5.000+ 1.000 + 250 + 100 UNID.) | R3: TIRADA: 2.500 UNID.
B4: TAMAÑO: 8,5 x 20 | J4: TAMAÑO: 8,5 x 5,5 | R4: TAMAÑO: 8,5 x 5,5
B5: 4/4 COLORES | J5: 4/0 COLORES + 0/1 COLORES (Contracolado posterior) | R5: 4/0 COLORES + 0/1 COLORES (Contracolado posterior)
B6: PAPEL: OFFSET PREMIUM 300 GR | J6: PAPEL:ESTUCADO MATE DE 300 GR | R6: PAPEL:ESTUCADO MATE DE 300 GR
B7: CÓDIGOS QR Y NUMERADAS (CADA CÓDIGO QR ESTA VINCULADO A UNA NUMERACIÓN DE 12 DÍGITOS) | J7: TALADRO EN LA PARTE SUPERIOR Y ESQUINAS REDONDEADAS | R7: TALADRO EN LA PARTE SUPERIOR Y ESQUINAS REDONDEADAS
J8: PERSONALIZACIÓN CON BASE DE DATOS: Texto anverso y Código de barras reverso y empaquetar según orden de los ficheros | R8: PERSONALIZACIÓN: Código de barras reverso
B10: TRABAJOS | D10: IMPORTE UNIT. | G10: IMPORTE | J10: TRABAJOS | L10: IMPORTE UNIT. | O10: IMPORTE | R10: TRABAJOS | T10: IMPORTE UNIT. | W10: IMPORTE
B11: PRUEBAS COLOR | D11: x | F11: € | G11: =C11*E11 -> 0 | J11: PRUEBAS COLOR | L11: x | N11: € | O11: =K11*M11 -> 0 | R11: PRUEBAS COLOR | T11: x | V11: € | W11: =S11*U11 -> 0
B13: PAPEL | D13: x | F13: €/Resma | G13: =C13*E13 -> 0 | J13: PAPEL | L13: x | N13: €/Resma | O13: =K13*M13 -> 0 | R13: PAPEL | T13: x | V13: €/Resma | W13: =S13*U13 -> 0
B15: TIRADA | C15: Importe Impresión Digital | J15: TIRADA | K15: Importe Impresión Digital | R15: TIRADA | S15: Importe Impresión Digital
C16: Importe Personalización | J16: CORTE | L16: x | N16: €/millar | O16: =K16*M16 -> 0 | R16: CORTE | T16: x | V16: €/millar | W16: =S16*U16 -> 0
B18: CORTE | D18: x | F18: €/millar | G18: =C18*E18 -> 0 | J18: HENDIDO (troquel y arranque) | L18: x | N18: €/ Arranque | O18: =K18*M18 -> 0 | R18: HENDIDO (troquel y arranque) | T18: x | V18: €/ Arranque | W18: =S18*U18 -> 0
B19: FAJADO | D19: x | F19: €/ 100 unid. | G19: =C19*E19 -> 0 | J19: PLIEGOS TROQUELADOS | L19: x | N19: €/millar | O19: =K19*M19 -> 0 | R19: PLIEGOS TROQUELADOS | T19: x | V19: €/millar | W19: =S19*U19 -> 0
B21: PERSONALIZACIÓN | C21: CÓDIGOS QR Y NUMERADAS (CADA CÓDIGO QR ESTA VINCULADO A UNA NUMERACIÓN DE 12 DÍGITOS PARA CADA MODELO) | J21: FAJADO | L21: x | N21: €/ 100 unid. | O21: =K21*M21 -> 0 | R21: FAJADO | T21: x | V21: €/ 100 unid. | W21: =S21*U21 -> 0
J22: PERSONALIZACIÓN | K22: CÓDIGOS QR Y NUMERADAS (CADA CÓDIGO QR ESTA VINCULADO A UNA NUMERACIÓN DE 12 DÍGITOS PARA CADA MODELO) | R22: PERSONALIZACIÓN | S22: CÓDIGOS QR Y NUMERADAS (CADA CÓDIGO QR ESTA VINCULADO A UNA NUMERACIÓN DE 12 DÍGITOS PARA CADA MODELO)
C25: IMPORTE MÁXIMO LICITACIÓN (IVA EXCLUIDO) | G25: 1280 | K25: IMPORTE MÁXIMO LICITACIÓN (IVA EXCLUIDO) | O25: 2400 | S25: IMPORTE MÁXIMO LICITACIÓN (IVA EXCLUIDO) | W25: 1050
C26: IMPORTE OFERTADO (IVA EXCLUIDO) | G26: =SUM(G11:G23) -> 0 | K26: IMPORTE OFERTADO (IVA EXCLUIDO) | O26: =SUM(O11:O23) -> 0 | S26: IMPORTE OFERTADO (IVA EXCLUIDO) | W26: =SUM(W11:W23) -> 0
B28: TARJETONES CLUB FERIA: 4.500 UNID. (2 MODELOS)
B29: TIRADA: 4.500 UNID. (4.500 UNID. X 2)
B30: TAMAÑO: 11 x 19
B31: 6/6 COLORES: Pantone 185 C (coral) + Pantone 282 C (azul profundo) + Logo IFEMA MADRID en cuatricromía
B32: PAPEL:ESTUCADO MATE DE 350 GR
B33: TROQUELADO: EN UNO DE LOS MODELOS
B34: PERSONALIZACIÓN TARJETA 1: Personalización código QR + código numérico (personalizar y empaquetar en el mismo orden del fichero)
B35: PERSONALIZACIÓN TARJETA 2: Personalización código númerico según base datos (personalizar y empaquetar en el mismo orden del fichero). | K35: IMPORTE TOTAL MÁXIMO DE LICITACIÓN ELEMENTOS PERSONALIZADOS (IVA EXCLUIDO) | O35: =G25+O25+W25+G56 -> 6730
B37: TRABAJOS | D37: IMPORTE UNIT. | G37: IMPORTE | K37: IMPORTE TOTAL OFERTADO ELEMENTOS PERSONALIZADOS (IVA EXCLUIDO) | O37: =SUM(G26+O26+W26+G57) -> 0
B38: PRUEBAS COLOR | D38: x | F38: € | G38: =C38*E38 -> 0
B40: PAPEL | D40: x | F40: €/Resma | G40: =C40*E40 -> 0
B42: ARRANQUE IMPRESIÓN | D42: x | F42: €/ Arranque | G42: =C42*E42 -> 0
B43: PLANCHAS | D43: x | F43: €/Plancha | G43: =C43*E43 -> 0
B44: TIRADA (12 colores) | D44: x | F44: €/millar | G44: =C44*E44 -> 0
B45: TIRADA DIGITAL
B47: CORTE | D47: x | F47: €/millar | G47: =C47*E47 -> 0
B48: FAJADO | D48: x | F48: €/ 100 unid. | G48: =C48*E48 -> 0
B50: HENDIDO (troquel y arranque) | D50: x | F50: €/ Arranque | G50: =C50*E50 -> 0
B51: PLIEGOS TROQUELADOS | D51: x | F51: €/millar | G51: =C51*E51 -> 0
B53: PERSONALIZACIÓN | C53: TARJETÓN 1: BBDD DE CÓDIGOS QR + EXCEL DE CÓDIGOS: IMPRESIÓN DATOS VARIABLES TARJETÓN 2: CÓDIGO NÚMERICO SEGÚN BBDD
C56: IMPORTE MÁXIMO LICITACIÓN (IVA EXCLUIDO) | G56: 2000
C57: IMPORTE OFERTADO (IVA EXCLUIDO) | G57: =SUM(G38:G54) -> 0

Sheet FOLLETOS DIPTICOS LICITACIÓN
B2: FOLLETOS DÍPTICOS
B4: TAMAÑO ABIERTO: 32 x 24 / CERRADO: 16 x 24
B5: 4/4 COLORES
B6: PAPEL: ESTUCADO MATE 300 GR
B7: PLASTIFICADO 2/C
B8: FAJADO: 100 UNID.
B10: TIRADAS | C10: Nº TRABAJOS | E10: IMPORTE PRUEBA COLOR | I10: PAPEL | M10: IMPORTE IMPRESIÓN DIGITAL | O10: PLASTIFICADO | T10: PLEGADO | Y10: HENDIDO | AD10: CORTE | AH10: FAJADO | AL10: IMPORTE MAXIMO LICITACIÓN POR TRABAJO (IVA EXCLUIDO) | AN10: IMPORTE OFERTADO POR TRABAJO (IVA EXCLUIDO)
E11: Nº PRUEBAS | F11: PRECIO PRUEBA | G11: IMPORTE | I11: Nº RESMAS | J11: PRECIO RESMA | K11: IMPORTE | O11: PRECIO ARRANQUE | P11: NÚM. M2 | Q11: PRECIO M2 | R11: IMPORTE | T11: ARRANQUE | U11: Nº MILLAR PLEGADO | V11: PRECIO MILLAR | W11: IMPORTE | Y11: ARRANQUE | Z11: Nº MILLAR TROQUELADO | AA11: PRECIO MILLAR | AB11: IMPORTE | AD11: Nº MILLARES | AE11: PRECIO MILLAR | AF11: IMPORTE | AH11: Nº MILLARES | AI11: PRECIO MILLAR | AJ11: IMPORTE
B12: 500 EJEM. | C12: 1 | G12: =E12*F12 -> 0 | K12: =I12*J12 -> 0 | R12: =O12+(P12*Q12) -> 0 | W12: =T12+(U12*V12) -> 0 | AB12: =Y12+(Z12*AA12) -> 0 | AF12: =AD12*AE12 -> 0 | AJ12: =AH12*AI12 -> 0 | AL12: 600 | AN12: =SUM(G12,K12,M12,R12,W12,AB12,AF12,AJ12) -> 0
B13: 1.600 EJEM. (1000 + 600) | C13: 1 | G13: =E13*F13 -> 0 | K13: =I13*J13 -> 0 | R13: =O13+(P13*Q13) -> 0 | W13: =T13+(U13*V13) -> 0 | AB13: =Y13+(Z13*AA13) -> 0 | AF13: =AD13*AE13 -> 0 | AJ13: =AH13*AI13 -> 0 | AL13: 870 | AN13: =SUM(G13,K13,M13,R13,W13,AB13,AF13,AJ13) -> 0
B15: TAMAÑO ABIERTO: 40 x 20 / CERRADO: 20 x 20
B16: 4/4 COLORES
B17: PAPEL: ESTUCADO MATE 250 GR
B18: PLASTIFICADO 2/C
B19: FAJADO: 100 UNID.
B21: TIRADAS | C21: Nº TRABAJOS | E21: IMPORTE PRUEBA COLOR | I21: PAPEL | M21: IMPORTE IMPRESIÓN DIGITAL | O21: PLASTIFICADO | T21: PLEGADO | Y21: HENDIDO | AD21: CORTE | AH21: FAJADO | AL21: IMPORTE MAXIMO LICITACIÓN POR TRABAJO (IVA EXCLUIDO) | AN21: IMPORTE OFERTADO POR TRABAJO (IVA EXCLUIDO)
E22: Nº PRUEBAS | F22: PRECIO PRUEBA | G22: IMPORTE | I22: Nº RESMAS | J22: PRECIO RESMA | K22: IMPORTE | O22: PRECIO ARRANQUE | P22: NÚM. M2 | Q22: PRECIO M2 | R22: IMPORTE | T22: ARRANQUE | U22: Nº MILLAR PLEGADO | V22: PRECIO MILLAR | W22: IMPORTE | Y22: ARRANQUE | Z22: Nº MILLAR TROQUELADO | AA22: PRECIO MILLAR | AB22: IMPORTE | AD22: Nº MILLARES | AE22: PRECIO MILLAR | AF22: IMPORTE | AH22: Nº MILLARES | AI22: PRECIO MILLAR | AJ22: IMPORTE
B23: 150 EJEM. | C23: 1 | G23: =E23*F23 -> 0 | K23: =I23*J23 -> 0 | R23: =O23+(P23*Q23) -> 0 | W23: =T23+(U23*V23) -> 0 | AB23: =Y23+(Z23*AA23) -> 0 | AF23: =AD23*AE23 -> 0 | AJ23: =AH23*AI23 -> 0 | AL23: 410 | AN23: =SUM(G23,K23,M23,R23,W23,AB23,AF23,AJ23) -> 0
B24: 500 EJEM. (300 + 200) | C24: 1 | G24: =E24*F24 -> 0 | K24: =I24*J24 -> 0 | R24: =O24+(P24*Q24) -> 0 | W24: =T24+(U24*V24) -> 0 | AB24: =Y24+(Z24*AA24) -> 0 | AF24: =AD24*AE24 -> 0 | AJ24: =AH24*AI24 -> 0 | AL24: 500 | AN24: =SUM(G24,K24,M24,R24,W24,AB24,AF24,AJ24) -> 0
B25: 1.100 EJEM. (600 + 500) | C25: 1 | G25: =E25*F25 -> 0 | K25: =I25*J25 -> 0 | R25: =O25+(P25*Q25) -> 0 | W25: =T25+(U25*V25) -> 0 | AB25: =Y25+(Z25*AA25) -> 0 | AF25: =AD25*AE25 -> 0 | AJ25: =AH25*AI25 -> 0 | AL25: 610 | AN25: =SUM(G25,K25,M25,R25,W25,AB25,AF25,AJ25) -> 0
B28: TAMAÑO ABIERTO: 30 x 21 / CERRADO: 15 x 21
B29: 4/4 COLORES
B30: PAPEL: HEAVEN SOFTMATT 400 GR
B31: FAJADO: 100 UNID.
B33: TIRADAS | C33: Nº TRABAJOS | E33: IMPORTE PRUEBA COLOR | I33: PAPEL | M33: IMPORTE IMPRESIÓN DIGITAL | O33: GOLPE EN SECO BAJO RELIEVE | T33: PLEGADO | Y33: HENDIDO | AD33: CORTE | AH33: FAJADO | AL33: IMPORTE MAXIMO LICITACIÓN POR TRABAJO (IVA EXCLUIDO) | AN33: IMPORTE OFERTADO POR TRABAJO (IVA EXCLUIDO)
E34: Nº PRUEBAS | F34: PRECIO PRUEBA | G34: IMPORTE | I34: Nº RESMAS | J34: PRECIO RESMA | K34: IMPORTE | T34: ARRANQUE | U34: Nº MILLAR PLEGADO | V34: PRECIO MILLAR | W34: IMPORTE | Y34: ARRANQUE | Z34: Nº MILLAR TROQUELADO | AA34: PRECIO MILLAR | AB34: IMPORTE | AD34: Nº MILLARES | AE34: PRECIO MILLAR | AF34: IMPORTE | AH34: Nº MILLARES | AI34: PRECIO MILLAR | AJ34: IMPORTE
B35: 400 | C35: 1 | G35: =E35*F35 -> 0 | K35: =I35*J35 -> 0 | O35: GOLPE EN SECO BAJO RELIEVE | W35: =T35+(U35*V35) -> 0 | AB35: =Y35+(Z35*AA35) -> 0 | AF35: =AD35*AE35 -> 0 | AJ35: =AH35*AI35 -> 0 | AL35: 700 | AN35: =SUM(G35,K35,M35,R35,W35,AB35,AF35,AJ35) -> 0
AE37: IMPORTE TOTAL MÁXIMO DE LICITACIÓN FOLLETOS DIPTICOS (IVA EXCLUIDO) | AL37: =AL12+AL13+AL23+AL24+AL25+AL35 -> 3690
AE39: IMPORTE TOTAL OFERTADO FOLLETOS DIPTICOS (IVA EXCLUIDO) | AL39: =AN12+AN13+AN23+AN24+AN25+AN35 -> 0

Sheet TARJETAS POSTALES VALORADO 
B2: TARJETAS POSTALES
B3: TAMAÑO:21 x 14,8
B4: 4/4 COLORES
B5: PAPEL: ESTUCADO MATE 300 GR | E5: FRUIT
B6: PAPEL: ESTUCADO MATE 350 GR | E6: FERIARTE
B7: FAJADO: 100 UNID.
B9: TIRADAS | C9: Nº TRABAJOS | E9: IMPORTE PRUEBA COLOR | I9: PAPEL | M9: IMPORTE IMPRESIÓN DIGITAL | O9: PLASTIFICADO | T9: CORTE | X9: FAJADO | AB9: IMPORTE MÁXIMO LICITACIÓN POR TRABAJO (IVA EXCLUIDO) | AD9: IMPORTE OFERTADO POR TRABAJO (IVA EXCLUIDO) | AF9: IMPORTE TOTAL MÁXIMO LICITACIÓN (IVA EXCLUIDO) | AH9: IMPORTE TOTAL OFERTADO (IVA EXCLUIDO) (Nº TRABAJOS x IMPORTE OFERTADO POR TRABAJO)
E10: Nº PRUEBAS | F10: PRECIO PRUEBA | G10: IMPORTE | I10: Nº RESMAS | J10: PRECIO RESMA | K10: IMPORTE | O10: PRECIO ARRANQUE | P10: NÚM. M2 | Q10: PRECIO M2 | R10: IMPORTE | T10: Nº MILLARES | U10: PRECIO MILLAR | V10: IMPORTE | X10: Nº MILLARES | Y10: PRECIO MILLAR | Z10: IMPORTE
B11: 250 EJEM. | C11: 1 | G11: =E11*F11 -> 0 | K11: =I11*J11 -> 0 | R11: =O11+(P11*Q11) -> 0 | V11: =T11*U11 -> 0 | Z11: =X11*Y11 -> 0 | AB11: 270 | AD11: =+G11+K11+M11+R11+V11+Z11 -> 0 | AF11: =C11*AB11 -> 270 | AH11: =+C11*AD11 -> 0
B12: 400 EJEM. | C12: 2 | G12: =E12*F12 -> 0 | K12: =I12*J12 -> 0 | R12: =O12+(P12*Q12) -> 0 | V12: =T12*U12 -> 0 | Z12: =X12*Y12 -> 0 | AB12: 250 | AD12: =+G12+K12+M12+R12+V12+Z12 -> 0 | AF12: =C12*AB12 -> 500 | AH12: =+C12*AD12 -> 0
B13: 500 EJEM. | C13: 3 | G13: =E13*F13 -> 0 | K13: =I13*J13 -> 0 | R13: =O13+(P13*Q13) -> 0 | V13: =T13*U13 -> 0 | Z13: =X13*Y13 -> 0 | AB13: 270 | AD13: =+G13+K13+M13+R13+V13+Z13 -> 0 | AF13: =C13*AB13 -> 810 | AH13: =+C13*AD13 -> 0
B14: 900 EJEM. | C14: 1 | G14: =E14*F14 -> 0 | K14: =I14*J14 -> 0 | R14: =O14+(P14*Q14) -> 0 | V14: =T14*U14 -> 0 | Z14: =X14*Y14 -> 0 | AB14: 410 | AD14: =+G14+K14+M14+R14+V14+Z14 -> 0 | AF14: =C14*AB14 -> 410 | AH14: =+C14*AD14 -> 0
X16: IMPORTE TOTAL MÁXIMO DE LICITACIÓN TARJETAS POSTALES (IVA EXCLUIDO) | AD16: =SUM(AF11:AF14) -> 1990
X18: IMPORTE TOTAL OFERTADO TARJETAS POSTALES (IVA EXCLUIDO) | AD18: =SUM(AH11:AH14) -> 0

Sheet RESTO MATERIALES VALORADOS
A1: RESTO MATERIALES VALORADOS
A3: HOJAS PRIMERAS | H3: FLYER INSTITUCIONAL
A4: TAMAÑO: 21 x 29,7 | H4: TAMAÑO: 25,5 x 12,5
A5: TIRADA: 4.000 UNID. | H5: TIRADA: 5.000 UNID.
A6: 4/0 COLORES | H6: 4/4 COLORES
A7: PAPEL: OLIN SMOOTH ABSOLUTE WHITE 100 GR | H7: PAPEL: ESTUCADO MATE 150 GR
A8: EN PAQUETE 100 UNID. | H8: EN PAQUETE 100 UNID.
A10: HOJAS PRIMERAS | C10: IMPORTE UNIT. | F10: IMPORTE | H10: FLYER | J10: IMPORTE UNIT. | M10: IMPORTE
A11: PRUEBAS COLOR | C11: x | E11: € | F11: =+D11*B11 -> 0 | H11: PRUEBAS COLOR | J11: x | L11: € | M11: =+K11*I11 -> 0
A12: PAPEL | C12: x | E12: €/Resma | F12: =+D12*B12 -> 0 | H12: PAPEL | J12: x | L12: €/Resma | M12: =+K12*I12 -> 0
A13: TIRADA | B13: Importe Impresión Digital | H13: TIRADA | I13: Importe Impresión Digital
A14: CORTE | C14: x | E14: €/millar | F14: =+D14*B14 -> 0 | H14: CORTE | J14: x | L14: €/millar | M14: =+K14*I14 -> 0
A15: FAJADO | C15: x | E15: €/ 100 unid. | F15: =+D15*B15 -> 0 | H15: FAJADO | J15: x | L15: €/ 100 unid. | M15: =+K15*I15 -> 0
B17: IMPORTE MÁXIMO LICITACIÓN (IVA EXCLUIDO) | F17: 485 | I17: IMPORTE MÁXIMO LICITACIÓN (IVA EXCLUIDO) | M17: 535
B18: IMPORTE OFERTADO (IVA EXCLUIDO) | F18: =SUM(F11:F15) -> 0 | I18: IMPORTE OFERTADO (IVA EXCLUIDO) | M18: =SUM(M11:M15) -> 0
A21: MARCAPÁGINAS | H21: MARCAPÁGINAS
A22: TIRADA: 500 EJEM. | H22: TIRADA: 800 EJEM.
A23: TAMAÑO: 7 x 24 | H23: TAMAÑO: 7 x 24
A24: 4/4 COLORES | H24: 4/4 COLORES
A25: PAPEL: ESTUCADO MATE 300 GR. | H25: PAPEL: ESTUCADO MATE 300 GR.
A27: TRABAJOS | C27: IMPORTE UNIT. | F27: IMPORTE | H27: TRABAJOS | J27: IMPORTE UNIT. | M27: IMPORTE
A28: PRUEBAS COLOR | C28: x | E28: € | F28: =+D28*B28 -> 0 | H28: PRUEBAS COLOR | J28: x | L28: € | M28: =+K28*I28 -> 0
A29: PAPEL | C29: x | E29: €/Resma | F29: =+D29*B29 -> 0 | H29: PAPEL | J29: x | L29: €/Resma | M29: =+K29*I29 -> 0
A31: TIRADA | B31: Importe Impresión Digital | H31: TIRADA | I31: Importe Impresión Digital
A33: ARRANQUE PLASTIFICADO | C33: X | E33: € | F33: =+D33*B33 -> 0 | H33: ARRANQUE PLASTIFICADO | J33: X | L33: € | M33: =+K33*I33 -> 0
A34: PLASTIFICADO BRILLO 2/C | C34: x | E34: €/m2 | F34: =+D34*B34 -> 0 | H34: PLASTIFICADO BRILLO 2/C | J34: x | L34: €/m2 | M34: =+K34*I34 -> 0
A36: CORTE | C36: x | E36: €/millar | F36: =+D36*B36 -> 0 | H36: CORTE | J36: x | L36: €/millar | M36: =+K36*I36 -> 0
A38: FAJADO | C38: x | E38: €/ 100 unid. | F38: =+D38*B38 -> 0 | H38: FAJADO | J38: x | L38: €/ 100 unid. | M38: =+K38*I38 -> 0
B40: IMPORTE MÁXIMO LICITACIÓN (IVA EXCLUIDO) | F40: 110 | I40: IMPORTE MÁXIMO LICITACIÓN (IVA EXCLUIDO) | M40: 120
B42: IMPORTE OFERTADO (IVA EXCLUIDO) | F42: =SUM(F28:F39) -> 0 | I42: IMPORTE OFERTADO (IVA EXCLUIDO) | M42: =SUM(M28:M39) -> 0
I45: IMPORTE TOTAL MÁXIMO DE LICITACIÓN RESTO MATERIALES (IVA EXCLUIDO) | M45: =F17+M17+F40+M40 -> 1250
I47: IMPORTE TOTAL OFERTADO RESTO MATERIALES (IVA EXCLUIDO) | M47: =SUM(F18,F42,M18,M42) -> 0

Sheet RESUMEN TARIFAS
B1: FICHA RESUMEN IMPRESIÓN DIGITAL
B3: ELEMENTOS | C3: IMPORTE MÁXIMO DE LICITACIÓN (IVA EXCLUIDO) | D3: IMPORTE OFERTADO (IVA EXCLUIDO)
B4: PASES FERIAS | C4: ='PASES FERIAS LICITACIÓN'!W112 -> 4750 | D4: ='PASES FERIAS LICITACIÓN'!W113 -> 0
B5: TALONARIOS | C5: ='TALONARIOS IMPRESOS LICITACIÓN'!N109 -> 13050 | D5: ='TALONARIOS IMPRESOS LICITACIÓN'!N110 -> 0
B6: TARJETAS VISITA | C6: ='TARJETAS VISITA IMP.LICITACIÓN'!I20 -> 7960 | D6: ='TARJETAS VISITA IMP.LICITACIÓN'!K20 -> 0
B7: LIBRO Y MEMORIA ARCO | C7: ='LIBRO Y MEMORIA ARCO LICITACIÓN'!G61 -> 3075 | D7: ='LIBRO Y MEMORIA ARCO LICITACIÓN'!G62 -> 0
B8: ELEMENTOS PERSONALIZADOS | C8: ='ELEMENTOS PERSONALIZ.LICITACIÓN'!O35 -> 6730 | D8: ='ELEMENTOS PERSONALIZ.LICITACIÓN'!O37 -> 0
B9: FOLLETOS DÍPTICOS | C9: ='FOLLETOS DIPTICOS LICITACIÓN'!AL37 -> 3690 | D9: ='FOLLETOS DIPTICOS LICITACIÓN'!AL39 -> 0
B10: TARJETAS POSTALES | C10: ='TARJETAS POSTALES VALORADO '!AD16 -> 1990 | D10: {='TARJETAS POSTALES VALORADO '!AD18:AF18} -> 0 | E10: 0 | F10: 0
B11: RESTO MATERIALES | C11: ='RESTO MATERIALES VALORADOS'!M45 -> 1250 | D11: ='RESTO MATERIALES VALORADOS'!M47 -> 0
B13: IMPORTE TOTAL MAXIMO LICITACIÓN IMPRESIÓN DIGITAL (IVA EXCLUIDO) | C13: =SUM(C4:C11) -> 42495
B14: IMPORTE TOTAL OFERTADO IMPRESIÓN DIGITAL (IVA EXCLUIDO) (1) | D14: =SUM(D4:D11) -> 0
