Workbook

Sheet datos mercado 28ene26
C1: ANEXO IX B DATOS DE MERCADO (NO MODIFICABLE)
C3: Martes, 28 de enero de 2026 10:00
C13: FECHA | D13: MIBGAS | E13: BRENT | F13: BRENT 603 | G13: USD101 | H13: USD 303 | I13: TTF | J13: MIBGAS | K13: TTF | L13: api spread mibgas vs ttf | M13: mibgas con Api | N13: api spread ttf vs mibgas | O13: ttf con Api
C14: 46023 | D14: 35.327 | E14: 65.697 | F14: 66.382 | G14: 1.1709 | H14: 1.1665 | I14: 34.352
C15: 46054 | D15: 40.283 | E15: 64.46 | F15: 66.382 | G15: 1.173 | H15: 1.1665 | I15: 40.283
C16: 46082 | D16: 37.505 | E16: 64.02 | F16: 66.382 | G16: 1.189 | H16: 1.1665 | I16: 38.755
C17: 46113 | D17: 32.455 | E17: 63.76 | F17: 64.209 | G17: 1.19 | H17: 1.1665 | I17: 33.455
C18: 46143 | D18: 29.539 | E18: 63.575 | F18: 64.209 | G18: 1.192 | H18: 1.1902 | I18: 30.339
C19: 46174 | D19: 29.199 | E19: 63.425 | F19: 64.209 | G19: 1.193 | H19: 1.1902 | I19: 29.749
C20: 46204 | D20: 29.168 | E20: 63.3 | F20: 64.156 | G20: 1.195 | H20: 1.1902 | I20: 29.493
C21: 46235 | D21: 29.081 | E21: 63.205 | F21: 64.156 | G21: 1.197 | H21: 1.1951 | I21: 29.406 | J21: 35 | K21: 35 | L21: =D21/I21 -> 0.98894783 | M21: =J21*L21 -> 34.613174 | N21: =I21/D21 -> 1.0111757 | O21: =K21*N21 -> 35.391149
C22: 46266 | D22: 29.347 | E22: 63.135 | F22: 64.156 | G22: 1.198 | H22: 1.1951 | I22: 29.672 | J22: 35 | K22: 35 | L22: =D22/I22 -> 0.98904691 | M22: =J22*L22 -> 34.616642 | N22: =I22/D22 -> 1.0110744 | O22: =K22*N22 -> 35.387604
C23: 46296 | D23: 28.708 | E23: 63.09 | F23: 63.4 | G23: 1.2 | H23: 1.1951 | I23: 29.308 | J23: 35 | K23: 35 | L23: =D23/I23 -> 0.97952777 | M23: =J23*L23 -> 34.283472 | N23: =I23/D23 -> 1.0209001 | O23: =K23*N23 -> 35.731503
C24: 46327 | D24: 28.673 | E24: 63.055 | F24: 63.4 | G24: 1.201 | H24: 1.1997 | I24: 29.273 | J24: 35 | K24: 35 | L24: =D24/I24 -> 0.9795033 | M24: =J24*L24 -> 34.282615 | N24: =I24/D24 -> 1.0209256 | O24: =K24*N24 -> 35.732396
C25: 46357 | D25: 28.899 | E25: 63.045 | F25: 63.4 | G25: 1.203 | H25: 1.1997 | I25: 29.499 | J25: 35 | K25: 35 | L25: =D25/I25 -> 0.97966033 | M25: =J25*L25 -> 34.288111 | N25: =I25/D25 -> 1.020762 | O25: =K25*N25 -> 35.726669
C26: 46388 | D26: 29.43 | E26: 63.085 | F26: 63.138 | G26: 1.204 | H26: 1.1997 | I26: 29.63 | J26: 35 | K26: 35 | L26: =D26/I26 -> 0.99325008 | M26: =J26*L26 -> 34.763753 | N26: =I26/D26 -> 1.0067958 | O26: =K26*N26 -> 35.237853
C27: 46419 | D27: 29.385 | E27: 63.155 | F27: 63.138 | G27: 1.205 | H27: 1.1997 | I27: 29.585 | J27: 35 | K27: 35 | L27: =D27/I27 -> 0.99323982 | M27: =J27*L27 -> 34.763394 | N27: =I27/D27 -> 1.0068062 | O27: =K27*N27 -> 35.238217
C28: 46447 | D28: 28.6 | E28: 63.235 | F28: 63.138 | G28: 1.207 | H28: 1.1997 | I28: 28.8 | J28: 35 | K28: 35 | L28: =D28/I28 -> 0.99305556 | M28: =J28*L28 -> 34.756944 | N28: =I28/D28 -> 1.006993 | O28: =K28*N28 -> 35.244755
C29: 46478 | D29: 25.284 | E29: 63.315 | F29: 63.111 | G29: 1.208 | H29: 1.1997 | I29: 25.434 | J29: 35 | K29: 35 | L29: =D29/I29 -> 0.99410238 | M29: =J29*L29 -> 34.793583 | N29: =I29/D29 -> 1.0059326 | O29: =K29*N29 -> 35.207641
C30: 46508 | D30: 24.189 | E30: 63.375 | F30: 63.111 | G30: 1.209 | H30: 1.1997 | I30: 24.339 | J30: 35 | K30: 35 | L30: =D30/I30 -> 0.99383705 | M30: =J30*L30 -> 34.784297 | N30: =I30/D30 -> 1.0062012 | O30: =K30*N30 -> 35.217041
C31: 46539 | D31: 24.008 | E31: 63.445 | F31: 63.111 | G31: 1.21 | H31: 1.1997 | I31: 24.158 | J31: 35 | K31: 35 | L31: =D31/I31 -> 0.99379088 | M31: =J31*L31 -> 34.782681 | N31: =I31/D31 -> 1.0062479 | O31: =K31*N31 -> 35.218677
C32: 46569 | D32: 24.02 | E32: 63.545 | F32: 63.268 | G32: 1.212 | H32: 1.1997 | I32: 24.17 | J32: 35 | K32: 35 | L32: =D32/I32 -> 0.99379396 | M32: =J32*L32 -> 34.782789 | N32: =I32/D32 -> 1.0062448 | O32: =K32*N32 -> 35.218568
... C44: 46935 | D44: 21.619 | E44: 64.823 | F44: 63.513 | G44: 1.226 | H44: 1.1997 | I44: 21.569 | J44: 32 | K44: 32 | L44: =D44/I44 -> 1.0023181 | M44: =J44*L44 -> 32.074181 | N44: =I44/D44 -> 0.99768722 | O44: =K44*N44 -> 31.925991

Sheet ANexo IX B TTF
B1: ANEXO IX B TTF - DETALLE DE OFERTA A CUMPLIMENTAR POR LOS LICITADORES
C3: Precio fijo de energía (€/kWh) | E3: Fórmula TTF. En la constante K se deben incluir todos los costes variables aplicables en función del consumo, atr, fnee, etc…
C4: *(TTF DA x A) + K | D4: DEBERÁ INDICAR LA CONSTANTE K PARA CADA CUPS
E5: K | G5: K | I5: K | K5: K | M5: K
D6: DEBERÁ INDICAR LA CONSTANTE A PARA CADA CUPS
E7: A | G7: A | I7: A | K7: A | M7: A
E9: cups | G9: cups | I9: cups | K9: cups | M9: cups
E10: ES0217901000013660KR | G10: ES0230901000024204EL | I10: ES0217901000009332QC | K10: ES0237902000029474HH | M10: ES0237902000029476HC
C11: Tarifa | E11: RLTB7 | G11: RL6 | I11: RL5 | K11: RL4 | M11: RL2
A13: PRIMER AÑO DE CONTRATO | C13: Término fijo € mes | E13: 0.91102903 | G13: =G14/12 -> 1120.1342 | I13: =I14/12 -> 232.51833 | K13: =K14/12 -> 41.249167 | M13: =M14/12 -> 5.9091667
B14: 1 | C14: Término fijo € año | E14: =E15*E13 -> 136654.35 | G14: 13441.61 | I14: 2790.22 | K14: 494.99 | M14: 70.91
C15: Qd kWh | E15: 150000
C16: Fecha | D16: Consumo kWh | E16: Euros | F16: Consumo kWh | G16: Euros | H16: Consumo kWh | I16: Euros | J16: Consumo kWh | K16: Euros | L16: Consumo kWh | M16: Euros
C17: 46235 | D17: 0 | E17: =IF($E$4=0,0,IF($E$4>0,D17*(('datos mercado 28ene26'!O21*$E$6+$E$4)/1000))) -> 0 | F17: 0 | G17: =IF($G$4=0,0,IF($G$4>0,F17*('datos mercado 28ene26'!O21*$G$6+$G$4)/1000)) -> 0 | H17: 0 | I17: =IF($I$4=0,0,IF($I$4>0,H17*('datos mercado 28ene26'!O21*$G$6+$I$4)/1000)) -> 0 | J17: 213.77 | K17: =IF($K$4=0,0,IF($K$4>0,J17*('datos mercado 28ene26'!O21*$K$6+$K$4)/1000)) -> 0 | L17: 0 | M17: =IF($M$4=0,0,IF($M$4>0,L17*('datos mercado 28ene26'!O21*$M$6+$M$4)/1000)) -> 0
C18: 46266 | D18: 128269.97 | E18: =IF($E$4=0,0,IF($E$4>0,D18*(('datos mercado 28ene26'!O22*$E$6+$E$4)/1000))) -> 0 | F18: 25439.86 | G18: =IF($G$4=0,0,IF($G$4>0,F18*('datos mercado 28ene26'!O22*$G$6+$G$4)/1000)) -> 0 | H18: 0 | I18: =IF($I$4=0,0,IF($I$4>0,H18*('datos mercado 28ene26'!O22*$G$6+$I$4)/1000)) -> 0 | J18: 10940.51 | K18: =IF($K$4=0,0,IF($K$4>0,J18*('datos mercado 28ene26'!O22*$K$6+$K$4)/1000)) -> 0 | L18: 42.74 | M18: =IF($M$4=0,0,IF($M$4>0,L18*('datos mercado 28ene26'!O22*$M$6+$M$4)/1000)) -> 0
C19: 46296 | D19: 654519.33 | E19: =IF($E$4=0,0,IF($E$4>0,D19*(('datos mercado 28ene26'!O23*$E$6+$E$4)/1000))) -> 0 | F19: 95979.78 | G19: =IF($G$4=0,0,IF($G$4>0,F19*('datos mercado 28ene26'!O23*$G$6+$G$4)/1000)) -> 0 | H19: 11806.18 | I19: =IF($I$4=0,0,IF($I$4>0,H19*('datos mercado 28ene26'!O23*$G$6+$I$4)/1000)) -> 0 | J19: 16961.32 | K19: =IF($K$4=0,0,IF($K$4>0,J19*('datos mercado 28ene26'!O23*$K$6+$K$4)/1000)) -> 0 | L19: 106.54 | M19: =IF($M$4=0,0,IF($M$4>0,L19*('datos mercado 28ene26'!O23*$M$6+$M$4)/1000)) -> 0
C20: 46327 | D20: 1197456.4 | E20: =IF($E$4=0,0,IF($E$4>0,D20*(('datos mercado 28ene26'!O24*$E$6+$E$4)/1000))) -> 0 | F20: 169193.04 | G20: =IF($G$4=0,0,IF($G$4>0,F20*('datos mercado 28ene26'!O24*$G$6+$G$4)/1000)) -> 0 | H20: 106691.87 | I20: =IF($I$4=0,0,IF($I$4>0,H20*('datos mercado 28ene26'!O24*$G$6+$I$4)/1000)) -> 0 | J20: 15465.97 | K20: =IF($K$4=0,0,IF($K$4>0,J20*('datos mercado 28ene26'!O24*$K$6+$K$4)/1000)) -> 0 | L20: 63.47 | M20: =IF($M$4=0,0,IF($M$4>0,L20*('datos mercado 28ene26'!O24*$M$6+$M$4)/1000)) -> 0
C21: 46357 | D21: 1883796.4 | E21: =IF($E$4=0,0,IF($E$4>0,D21*(('datos mercado 28ene26'!O25*$E$6+$E$4)/1000))) -> 0 | F21: 554313.17 | G21: =IF($G$4=0,0,IF($G$4>0,F21*('datos mercado 28ene26'!O25*$G$6+$G$4)/1000)) -> 0 | H21: 281139.79 | I21: =IF($I$4=0,0,IF($I$4>0,H21*('datos mercado 28ene26'!O25*$G$6+$I$4)/1000)) -> 0 | J21: 9768.28 | K21: =IF($K$4=0,0,IF($K$4>0,J21*('datos mercado 28ene26'!O25*$K$6+$K$4)/1000)) -> 0 | L21: 349.25 | M21: =IF($M$4=0,0,IF($M$4>0,L21*('datos mercado 28ene26'!O25*$M$6+$M$4)/1000)) -> 0
C22: 46388 | D22: 2073596.1 | E22: =IF($E$4=0,0,IF($E$4>0,D22*(('datos mercado 28ene26'!O26*$E$6+$E$4)/1000))) -> 0 | F22: 250703.33 | G22: =IF($G$4=0,0,IF($G$4>0,F22*('datos mercado 28ene26'!O26*$G$6+$G$4)/1000)) -> 0 | H22: 266020.97 | I22: =IF($I$4=0,0,IF($I$4>0,H22*('datos mercado 28ene26'!O26*$G$6+$I$4)/1000)) -> 0 | J22: 17498.35 | K22: =IF($K$4=0,0,IF($K$4>0,J22*('datos mercado 28ene26'!O26*$K$6+$K$4)/1000)) -> 0 | L22: 455.74 | M22: =IF($M$4=0,0,IF($M$4>0,L22*('datos mercado 28ene26'!O26*$M$6+$M$4)/1000)) -> 0
C23: 46419 | D23: 1881572.3 | E23: =IF($E$4=0,0,IF($E$4>0,D23*(('datos mercado 28ene26'!O27*$E$6+$E$4)/1000))) -> 0 | F23: 220442.34 | G23: =IF($G$4=0,0,IF($G$4>0,F23*('datos mercado 28ene26'!O27*$G$6+$G$4)/1000)) -> 0 | H23: 275166.04 | I23: =IF($I$4=0,0,IF($I$4>0,H23*('datos mercado 28ene26'!O27*$G$6+$I$4)/1000)) -> 0 | J23: 16338.89 | K23: =IF($K$4=0,0,IF($K$4>0,J23*('datos mercado 28ene26'!O27*$K$6+$K$4)/1000)) -> 0 | L23: 201.32 | M23: =IF($M$4=0,0,IF($M$4>0,L23*('datos mercado 28ene26'!O27*$M$6+$M$4)/1000)) -> 0
C24: 46447 | D24: 2454804.7 | E24: =IF($E$4=0,0,IF($E$4>0,D24*(('datos mercado 28ene26'!O28*$E$6+$E$4)/1000))) -> 0 | F24: 256844.04 | G24: =IF($G$4=0,0,IF($G$4>0,F24*('datos mercado 28ene26'!O28*$G$6+$G$4)/1000)) -> 0 | H24: 303946.99 | I24: =IF($I$4=0,0,IF($I$4>0,H24*('datos mercado 28ene26'!O28*$G$6+$I$4)/1000)) -> 0 | J24: 10916.21 | K24: =IF($K$4=0,0,IF($K$4>0,J24*('datos mercado 28ene26'!O28*$K$6+$K$4)/1000)) -> 0 | L24: 423.11 | M24: =IF($M$4=0,0,IF($M$4>0,L24*('datos mercado 28ene26'!O28*$M$6+$M$4)/1000)) -> 0
C25: 46478 | D25: 994881.28 | E25: =IF($E$4=0,0,IF($E$4>0,D25*(('datos mercado 28ene26'!O29*$E$6+$E$4)/1000))) -> 0 | F25: 199331.27 | G25: =IF($G$4=0,0,IF($G$4>0,F25*('datos mercado 28ene26'!O29*$G$6+$G$4)/1000)) -> 0 | H25: 36398.86 | I25: =IF($I$4=0,0,IF($I$4>0,H25*('datos mercado 28ene26'!O29*$G$6+$I$4)/1000)) -> 0 | J25: 10077.42 | K25: =IF($K$4=0,0,IF($K$4>0,J25*('datos mercado 28ene26'!O29*$K$6+$K$4)/1000)) -> 0 | L25: 379.88 | M25: =IF($M$4=0,0,IF($M$4>0,L25*('datos mercado 28ene26'!O29*$M$6+$M$4)/1000)) -> 0
C26: 46508 | D26: 627707.17 | E26: =IF($E$4=0,0,IF($E$4>0,D26*(('datos mercado 28ene26'!O30*$E$6+$E$4)/1000))) -> 0 | F26: 116088.31 | G26: =IF($G$4=0,0,IF($G$4>0,F26*('datos mercado 28ene26'!O30*$G$6+$G$4)/1000)) -> 0 | H26: 0 | I26: =IF($I$4=0,0,IF($I$4>0,H26*('datos mercado 28ene26'!O30*$G$6+$I$4)/1000)) -> 0 | J26: 7117.87 | K26: =IF($K$4=0,0,IF($K$4>0,J26*('datos mercado 28ene26'!O30*$K$6+$K$4)/1000)) -> 0 | L26: 200.35 | M26: =IF($M$4=0,0,IF($M$4>0,L26*('datos mercado 28ene26'!O30*$M$6+$M$4)/1000)) -> 0
C27: 46539 | D27: 98946.05 | E27: =IF($E$4=0,0,IF($E$4>0,D27*(('datos mercado 28ene26'!O31*$E$6+$E$4)/1000))) -> 0 | F27: 1094.87 | G27: =IF($G$4=0,0,IF($G$4>0,F27*('datos mercado 28ene26'!O31*$G$6+$G$4)/1000)) -> 0 | H27: 0 | I27: =IF($I$4=0,0,IF($I$4>0,H27*('datos mercado 28ene26'!O31*$G$6+$I$4)/1000)) -> 0 | J27: 4399.58 | K27: =IF($K$4=0,0,IF($K$4>0,J27*('datos mercado 28ene26'!O31*$K$6+$K$4)/1000)) -> 0 | L27: 10.58 | M27: =IF($M$4=0,0,IF($M$4>0,L27*('datos mercado 28ene26'!O31*$M$6+$M$4)/1000)) -> 0
C28: 46569 | D28: 121.11 | E28: =IF($E$4=0,0,IF($E$4>0,D28*(('datos mercado 28ene26'!O32*$E$6+$E$4)/1000))) -> 0 | F28: 0 | G28: =IF($G$4=0,0,IF($G$4>0,F28*('datos mercado 28ene26'!O32*$G$6+$G$4)/1000)) -> 0 | H28: 0 | I28: =IF($I$4=0,0,IF($I$4>0,H28*('datos mercado 28ene26'!O32*$G$6+$I$4)/1000)) -> 0 | J28: 2511.78 | K28: =IF($K$4=0,0,IF($K$4>0,J28*('datos mercado 28ene26'!O32*$K$6+$K$4)/1000)) -> 0 | L28: 0 | M28: =IF($M$4=0,0,IF($M$4>0,L28*('datos mercado 28ene26'!O32*$M$6+$M$4)/1000)) -> 0
B30: 2 | C30: Término energía € año | D30: =SUM(D17:D28) -> 11995671 | E30: =SUM(E17:E28) -> 0 | F30: =SUM(F17:F28) -> 1889430 | G30: =SUM(G17:G28) -> 0 | H30: =SUM(H17:H28) -> 1281170.7 | I30: =SUM(I17:I28) -> 0 | J30: =SUM(J17:J28) -> 122209.95 | K30: =SUM(K17:K28) -> 0 | ... M30: =SUM(M17:M28) -> 0
B32: 3 | C32: Impuesto de Hidrocarburos | D32: 0.0023 | E32: =D30*$D$32 -> 27590.043 | G32: =F30*$D$32 -> 4345.689 | I32: =H30*$D$32 -> 2946.6926 | K32: =J30*$D$32 -> 281.08288 | M32: =L30*$D$32 -> 5.135854
B34: 4 | C34: Alquiler equipos medida no licitable | D34: =97.95+130+183.5 -> 411.45 | E34: =D34*12 -> 4937.4 | F34: =66.46+55 -> 121.46 | G34: =F34*12 -> 1457.52 | H34: 41.07 | I34: =H34*12 -> 492.84 | J34: 115.94 | K34: =J34*12 -> 1391.28 | L34: 24.25 | M34: =L34*12 -> 291
B36: 5 | C36: Bruto total | E36: =SUM(E32,E30,E14,E34) -> 169181.8 | G36: =SUM(G32,G30,G14,G34) -> 19244.819 | I36: =SUM(I32,I30,I14,I34) -> 6229.7526 | K36: =SUM(K32,K30,K14,K34) -> 2167.3529 | M36: =SUM(M32,M30,M14,M34) -> 367.04585 | N36: =E36+G36+I36+K36+M36 -> 197190.77
A39: SEGUNDO AÑO DE CONTRATO | C39: Término fijo € mes | E39: 0.91102903 | G39: =G40/12 -> 1120.1342 | I39: =I40/12 -> 232.51833 | K39: =K40/12 -> 41.249167 | M39: =M40/12 -> 5.9091667
B40: 1 | C40: Término fijo € año | E40: =E41*E39 -> 136654.35 | G40: 13441.61 | I40: 2790.22 | K40: 494.99 | M40: 70.91
C41: Qd kWh | E41: 150000
C42: Fecha | D42: Consumo kWh | E42: Euros | F42: Consumo kWh | G42: Euros | H42: Consumo kWh | I42: Euros | J42: Consumo kWh | K42: Euros | L42: Consumo kWh | M42: Euros
C43: 46600 | D43: 0 | E43: =IF($E$4=0,0,IF($E$4>0,D43*('datos mercado 28ene26'!O33+$E$4)/1000)) -> 0 | F43: 0 | G43: =IF($G$4=0,0,F43*('datos mercado 28ene26'!O33+$G$4)/1000) -> 0 | H43: 0 | I43: =IF($I$4=0,0,IF($I$4>0,H43*('datos mercado 28ene26'!O33+$I$4)/1000)) -> 0 | J43: 213.77 | K43: =IF($K$4=0,0,IF($K$4>0,J43*('datos mercado 28ene26'!O33+$K$4)/1000)) -> 0 | L43: 0 | M43: =IF($M$4=0,0,IF($M$4>0,L43*('datos mercado 28ene26'!O33+$M$4)/1000)) -> 0
C44: 46631 | D44: 128269.97 | E44: =IF($E$4=0,0,IF($E$4>0,D44*('datos mercado 28ene26'!O34+$E$4)/1000)) -> 0 | F44: 25439.86 | G44: =IF($G$4=0,0,F44*('datos mercado 28ene26'!O34+$G$4)/1000) -> 0 | H44: 0 | I44: =IF($I$4=0,0,IF($I$4>0,H44*('datos mercado 28ene26'!O34+$I$4)/1000)) -> 0 | J44: 10940.51 | K44: =IF($K$4=0,0,IF($K$4>0,J44*('datos mercado 28ene26'!O34+$K$4)/1000)) -> 0 | L44: 42.74 | M44: =IF($M$4=0,0,IF($M$4>0,L44*('datos mercado 28ene26'!O34+$M$4)/1000)) -> 0
C45: 46661 | D45: 654519.33 | E45: =IF($E$4=0,0,IF($E$4>0,D45*('datos mercado 28ene26'!O35+$E$4)/1000)) -> 0 | F45: 95979.78 | G45: =IF($G$4=0,0,F45*('datos mercado 28ene26'!O35+$G$4)/1000) -> 0 | H45: 11806.18 | I45: =IF($I$4=0,0,IF($I$4>0,H45*('datos mercado 28ene26'!O35+$I$4)/1000)) -> 0 | J45: 16961.32 | K45: =IF($K$4=0,0,IF($K$4>0,J45*('datos mercado 28ene26'!O35+$K$4)/1000)) -> 0 | L45: 106.54 | M45: =IF($M$4=0,0,IF($M$4>0,L45*('datos mercado 28ene26'!O35+$M$4)/1000)) -> 0
C46: 46692 | D46: 1197456.4 | E46: =IF($E$4=0,0,IF($E$4>0,D46*('datos mercado 28ene26'!O36+$E$4)/1000)) -> 0 | F46: 169193.04 | G46: =IF($G$4=0,0,F46*('datos mercado 28ene26'!O36+$G$4)/1000) -> 0 | H46: 106691.87 | I46: =IF($I$4=0,0,IF($I$4>0,H46*('datos mercado 28ene26'!O36+$I$4)/1000)) -> 0 | J46: 15465.97 | K46: =IF($K$4=0,0,IF($K$4>0,J46*('datos mercado 28ene26'!O36+$K$4)/1000)) -> 0 | L46: 63.47 | M46: =IF($M$4=0,0,IF($M$4>0,L46*('datos mercado 28ene26'!O36+$M$4)/1000)) -> 0
C47: 46722 | D47: 1883796.4 | E47: =IF($E$4=0,0,IF($E$4>0,D47*('datos mercado 28ene26'!O37+$E$4)/1000)) -> 0 | F47: 554313.17 | G47: =IF($G$4=0,0,F47*('datos mercado 28ene26'!O37+$G$4)/1000) -> 0 | H47: 281139.79 | I47: =IF($I$4=0,0,IF($I$4>0,H47*('datos mercado 28ene26'!O37+$I$4)/1000)) -> 0 | J47: 9768.28 | K47: =IF($K$4=0,0,IF($K$4>0,J47*('datos mercado 28ene26'!O37+$K$4)/1000)) -> 0 | L47: 349.25 | M47: =IF($M$4=0,0,IF($M$4>0,L47*('datos mercado 28ene26'!O37+$M$4)/1000)) -> 0
C48: 46753 | D48: 2073596.1 | E48: =IF($E$4=0,0,IF($E$4>0,D48*('datos mercado 28ene26'!O38+$E$4)/1000)) -> 0 | F48: 250703.33 | G48: =IF($G$4=0,0,F48*('datos mercado 28ene26'!O38+$G$4)/1000) -> 0 | H48: 266020.97 | I48: =IF($I$4=0,0,IF($I$4>0,H48*('datos mercado 28ene26'!O38+$I$4)/1000)) -> 0 | J48: 17498.35 | K48: =IF($K$4=0,0,IF($K$4>0,J48*('datos mercado 28ene26'!O38+$K$4)/1000)) -> 0 | L48: 455.74 | M48: =IF($M$4=0,0,IF($M$4>0,L48*('datos mercado 28ene26'!O38+$M$4)/1000)) -> 0
C49: 46784 | D49: 1881572.3 | E49: =IF($E$4=0,0,IF($E$4>0,D49*('datos mercado 28ene26'!O39+$E$4)/1000)) -> 0 | F49: 220442.34 | G49: =IF($G$4=0,0,F49*('datos mercado 28ene26'!O39+$G$4)/1000) -> 0 | H49: 275166.04 | I49: =IF($I$4=0,0,IF($I$4>0,H49*('datos mercado 28ene26'!O39+$I$4)/1000)) -> 0 | J49: 16338.89 | K49: =IF($K$4=0,0,IF($K$4>0,J49*('datos mercado 28ene26'!O39+$K$4)/1000)) -> 0 | L49: 201.32 | M49: =IF($M$4=0,0,IF($M$4>0,L49*('datos mercado 28ene26'!O39+$M$4)/1000)) -> 0
...
